BEGIN:VCALENDAR
VERSION:2.0
PRODID:-// - ECPv6.15.20//NONSGML v1.0//EN
CALSCALE:GREGORIAN
METHOD:PUBLISH
X-ORIGINAL-URL:https://usmvmcgastate.com
X-WR-CALDESC:Events for 
REFRESH-INTERVAL;VALUE=DURATION:PT1H
X-Robots-Tag:noindex
X-PUBLISHED-TTL:PT1H
BEGIN:VTIMEZONE
TZID:America/New_York
BEGIN:DAYLIGHT
TZOFFSETFROM:-0500
TZOFFSETTO:-0400
TZNAME:EDT
DTSTART:20250309T070000
END:DAYLIGHT
BEGIN:STANDARD
TZOFFSETFROM:-0400
TZOFFSETTO:-0500
TZNAME:EST
DTSTART:20251102T060000
END:STANDARD
BEGIN:DAYLIGHT
TZOFFSETFROM:-0500
TZOFFSETTO:-0400
TZNAME:EDT
DTSTART:20260308T070000
END:DAYLIGHT
BEGIN:STANDARD
TZOFFSETFROM:-0400
TZOFFSETTO:-0500
TZNAME:EST
DTSTART:20261101T060000
END:STANDARD
BEGIN:DAYLIGHT
TZOFFSETFROM:-0500
TZOFFSETTO:-0400
TZNAME:EDT
DTSTART:20270314T070000
END:DAYLIGHT
BEGIN:STANDARD
TZOFFSETFROM:-0400
TZOFFSETTO:-0500
TZNAME:EST
DTSTART:20271107T060000
END:STANDARD
END:VTIMEZONE
BEGIN:VEVENT
DTSTART;VALUE=DATE:20260903
DTEND;VALUE=DATE:20260905
DTSTAMP:20260419T183246
CREATED:20260222T163615Z
LAST-MODIFIED:20260222T163615Z
UID:10000598-1788393600-1788566399@usmvmcgastate.com
SUMMARY:Columbia Falls Maine Tag a Tree Event
DESCRIPTION:Concerning the 2026 “Tag a Tree” event in Columbia Falls Maine followed by the Maine State Annual. \nThursday Sept 3\, arrive in Columbia Falls Maine\, that evening enjoy Brotherhood with our fellow Brothers. Friday Sept 4 ride to the “Tip-Lands” upon arrival\, Tag the trees with the Dog Tags of our fallen Brothers then back to the cabins/motel for more Brotherhood. Saturday morning Sept 5\, head south to Acton Maine for the Maine State Annual at Iron Tails Saloon 559 Maine Rt 109\, Acton Maine\, Noon time on! No cover charge\, order from the fine menu. Good Chow and Pretty Girls\, you won’t be disappointed. \nConcerning Lodging\, we do not expect to have any solid information before mid-April 2025. They have had a hard Winter up there and need time to assess. The Point of Contact is Brother Drifter. He has requested any/all correspondence is handled via email for accurate record keeping purposes. His email address is: lessardm43@gmail.com
URL:https://usmvmcgastate.com/calendar/columbia-falls-maine-tag-a-tree-event/
LOCATION:Wreaths Across America\, 4 Point St\, Columbia Falls\, ME\, 04623\, United States
END:VEVENT
END:VCALENDAR