BEGIN:VCALENDAR
VERSION:2.0
PRODID:-// - ECPv6.15.20//NONSGML v1.0//EN
CALSCALE:GREGORIAN
METHOD:PUBLISH
X-ORIGINAL-URL:https://usmvmcgastate.com
X-WR-CALDESC:Events for 
REFRESH-INTERVAL;VALUE=DURATION:PT1H
X-Robots-Tag:noindex
X-PUBLISHED-TTL:PT1H
BEGIN:VTIMEZONE
TZID:America/New_York
BEGIN:DAYLIGHT
TZOFFSETFROM:-0500
TZOFFSETTO:-0400
TZNAME:EDT
DTSTART:20240310T070000
END:DAYLIGHT
BEGIN:STANDARD
TZOFFSETFROM:-0400
TZOFFSETTO:-0500
TZNAME:EST
DTSTART:20241103T060000
END:STANDARD
BEGIN:DAYLIGHT
TZOFFSETFROM:-0500
TZOFFSETTO:-0400
TZNAME:EDT
DTSTART:20250309T070000
END:DAYLIGHT
BEGIN:STANDARD
TZOFFSETFROM:-0400
TZOFFSETTO:-0500
TZNAME:EST
DTSTART:20251102T060000
END:STANDARD
BEGIN:DAYLIGHT
TZOFFSETFROM:-0500
TZOFFSETTO:-0400
TZNAME:EDT
DTSTART:20260308T070000
END:DAYLIGHT
BEGIN:STANDARD
TZOFFSETFROM:-0400
TZOFFSETTO:-0500
TZNAME:EST
DTSTART:20261101T060000
END:STANDARD
END:VTIMEZONE
BEGIN:VEVENT
DTSTART;TZID=America/New_York:20250816T100000
DTEND;TZID=America/New_York:20250816T170000
DTSTAMP:20260420T062830
CREATED:20250516T161131Z
LAST-MODIFIED:20250516T161131Z
UID:10000410-1755338400-1755363600@usmvmcgastate.com
SUMMARY:TN-8 Benefit Ride
DESCRIPTION:TN-8 Grande’s Crew Greeneville TN\, will be having our annual benefit ride for our local Veteran’s Memorial Park Ride.   All proceeds will go to benefit the Greeneville Veteran’s Memorial Park.  We will have a beautiful ride planned\, food and live music.  If at all possible come out and help us support our local Veteran’s Memorial Park.
URL:https://usmvmcgastate.com/calendar/tn-8-benefit-ride-2/
LOCATION:TN-8 Veterans Memorial Park\, 803 Forest St.\, Greeneville\, TN\, United States
END:VEVENT
END:VCALENDAR