BEGIN:VCALENDAR
VERSION:2.0
PRODID:-// - ECPv6.15.20//NONSGML v1.0//EN
CALSCALE:GREGORIAN
METHOD:PUBLISH
X-ORIGINAL-URL:https://usmvmcgastate.com
X-WR-CALDESC:Events for 
REFRESH-INTERVAL;VALUE=DURATION:PT1H
X-Robots-Tag:noindex
X-PUBLISHED-TTL:PT1H
BEGIN:VTIMEZONE
TZID:America/New_York
BEGIN:DAYLIGHT
TZOFFSETFROM:-0500
TZOFFSETTO:-0400
TZNAME:EDT
DTSTART:20250309T070000
END:DAYLIGHT
BEGIN:STANDARD
TZOFFSETFROM:-0400
TZOFFSETTO:-0500
TZNAME:EST
DTSTART:20251102T060000
END:STANDARD
BEGIN:DAYLIGHT
TZOFFSETFROM:-0500
TZOFFSETTO:-0400
TZNAME:EDT
DTSTART:20260308T070000
END:DAYLIGHT
BEGIN:STANDARD
TZOFFSETFROM:-0400
TZOFFSETTO:-0500
TZNAME:EST
DTSTART:20261101T060000
END:STANDARD
BEGIN:DAYLIGHT
TZOFFSETFROM:-0500
TZOFFSETTO:-0400
TZNAME:EDT
DTSTART:20270314T070000
END:DAYLIGHT
BEGIN:STANDARD
TZOFFSETFROM:-0400
TZOFFSETTO:-0500
TZNAME:EST
DTSTART:20271107T060000
END:STANDARD
END:VTIMEZONE
BEGIN:VEVENT
DTSTART;VALUE=DATE:20260910
DTEND;VALUE=DATE:20260913
DTSTAMP:20260419T124712
CREATED:20260122T203810Z
LAST-MODIFIED:20260122T203810Z
UID:10000573-1788998400-1789257599@usmvmcgastate.com
SUMMARY:MD-5 Annual Ocean City MD
DESCRIPTION:The Brothers at MD5 are excited to extend our invitation for the 2026 MD5 Annual to be held during Ocean City Bike Week.\nDates are September 10th-12th 2026 at the Admiral Hotel in Ocean City\, MD.\n\nBar opens Thursday 10 Sep in the Evening.\nMeet and Greet/Ladies night Friday 11 Sep 2026 1700-2100 @ the Admiral Hotel\nAnnual Party also at the Admiral\, 12 Sep 2026 1200-1700\n\nThe Brothers of MD5 work hard every year to make sure everyone in attendance has a great time\, and this year will be no different. Our goal at the end of our annual is to be exhausted\, starving\, completely dehydrated\, and running off pure caffeine and nicotine\, but have all of our guests say “Damn what a party!!!!!”\nSome of the shenanigans planned for this year\, Boat rides  (weather permitting)\, Breakfast with Mongo\, Fixins’ Weiners\, USMVMC Escorted ride on the shore\, Fresh Steamed Crabs (the edible kind)\, Corn Hole tournament\, Belly Flop Competition\, Longest ride trophy\, largest chapter trophy\, and who the hell knows what else we will think of between now and then.\nWe are located walking distance from the Ocean City Boardwalk and Beach\, Restaurants\, Bars\, and a short ride\, cage\, or bus ride from all of the OC Bike week events and vendors.\nFor Room reservations send a text with your road name to Brother Nobody @443-953-1346 and he will take care of you!!!\nSee attached flyer. A more detailed itinerary will follow closer to the event once Bike Week Bands are published. \nWe look forward to another great year hosting our Brothers.\nMD-5 Annual Flyer!
URL:https://usmvmcgastate.com/calendar/md-5-annual-ocean-city-md/
LOCATION:The Admiral Hotel\, 813 N. Baltimore Ave\, Ocean City\, MD\, 21842\, United States
END:VEVENT
END:VCALENDAR