BEGIN:VCALENDAR
VERSION:2.0
PRODID:-// - ECPv6.15.20//NONSGML v1.0//EN
CALSCALE:GREGORIAN
METHOD:PUBLISH
X-ORIGINAL-URL:https://usmvmcgastate.com
X-WR-CALDESC:Events for 
REFRESH-INTERVAL;VALUE=DURATION:PT1H
X-Robots-Tag:noindex
X-PUBLISHED-TTL:PT1H
BEGIN:VTIMEZONE
TZID:America/New_York
BEGIN:DAYLIGHT
TZOFFSETFROM:-0500
TZOFFSETTO:-0400
TZNAME:EDT
DTSTART:20240310T070000
END:DAYLIGHT
BEGIN:STANDARD
TZOFFSETFROM:-0400
TZOFFSETTO:-0500
TZNAME:EST
DTSTART:20241103T060000
END:STANDARD
BEGIN:DAYLIGHT
TZOFFSETFROM:-0500
TZOFFSETTO:-0400
TZNAME:EDT
DTSTART:20250309T070000
END:DAYLIGHT
BEGIN:STANDARD
TZOFFSETFROM:-0400
TZOFFSETTO:-0500
TZNAME:EST
DTSTART:20251102T060000
END:STANDARD
BEGIN:DAYLIGHT
TZOFFSETFROM:-0500
TZOFFSETTO:-0400
TZNAME:EDT
DTSTART:20260308T070000
END:DAYLIGHT
BEGIN:STANDARD
TZOFFSETFROM:-0400
TZOFFSETTO:-0500
TZNAME:EST
DTSTART:20261101T060000
END:STANDARD
END:VTIMEZONE
BEGIN:VEVENT
DTSTART;VALUE=DATE:20250822
DTEND;VALUE=DATE:20250825
DTSTAMP:20260420T044950
CREATED:20241205T183919Z
LAST-MODIFIED:20250617T213329Z
UID:10000195-1755820800-1756079999@usmvmcgastate.com
SUMMARY:Midwest Mayhem
DESCRIPTION:Start planning to attend the Midwest Mayhem. It will be at Stump Lake in North Dakota\, 32nd St NE\, Lakota ND 58344. See attached flier for making reservations. Dates are August 22nd-24th 2025. We hope to see you all there this year. Come on up for some Brotherhood and get out of your state!\nThere are 30 and 50 amp hookups along with water connections. If you need sewage pumped there is a guy that will come to your camper and pump your sewage (for a price $30) he will do all the work. If you have a large trailer it is best to call early and reserve a spot as they have to put you in a certain spot.\n\nMIDWEST MAYHEM Flyer!
URL:https://usmvmcgastate.com/calendar/midwest-mayhem/
LOCATION:Stump Lake\, 32nd St NE\, Lakota\, ND\, 58344\, United States
END:VEVENT
END:VCALENDAR