BEGIN:VCALENDAR
VERSION:2.0
PRODID:-// - ECPv6.15.20//NONSGML v1.0//EN
CALSCALE:GREGORIAN
METHOD:PUBLISH
X-ORIGINAL-URL:https://usmvmcgastate.com
X-WR-CALDESC:Events for 
REFRESH-INTERVAL;VALUE=DURATION:PT1H
X-Robots-Tag:noindex
X-PUBLISHED-TTL:PT1H
BEGIN:VTIMEZONE
TZID:America/New_York
BEGIN:DAYLIGHT
TZOFFSETFROM:-0500
TZOFFSETTO:-0400
TZNAME:EDT
DTSTART:20230312T070000
END:DAYLIGHT
BEGIN:STANDARD
TZOFFSETFROM:-0400
TZOFFSETTO:-0500
TZNAME:EST
DTSTART:20231105T060000
END:STANDARD
BEGIN:DAYLIGHT
TZOFFSETFROM:-0500
TZOFFSETTO:-0400
TZNAME:EDT
DTSTART:20240310T070000
END:DAYLIGHT
BEGIN:STANDARD
TZOFFSETFROM:-0400
TZOFFSETTO:-0500
TZNAME:EST
DTSTART:20241103T060000
END:STANDARD
BEGIN:DAYLIGHT
TZOFFSETFROM:-0500
TZOFFSETTO:-0400
TZNAME:EDT
DTSTART:20250309T070000
END:DAYLIGHT
BEGIN:STANDARD
TZOFFSETFROM:-0400
TZOFFSETTO:-0500
TZNAME:EST
DTSTART:20251102T060000
END:STANDARD
BEGIN:DAYLIGHT
TZOFFSETFROM:-0500
TZOFFSETTO:-0400
TZNAME:EDT
DTSTART:20260308T070000
END:DAYLIGHT
BEGIN:STANDARD
TZOFFSETFROM:-0400
TZOFFSETTO:-0500
TZNAME:EST
DTSTART:20261101T060000
END:STANDARD
END:VTIMEZONE
BEGIN:VEVENT
DTSTART;VALUE=DATE:20250926
DTEND;VALUE=DATE:20250929
DTSTAMP:20260422T101715
CREATED:20250614T185712Z
LAST-MODIFIED:20250614T185712Z
UID:10000470-1758844800-1759103999@usmvmcgastate.com
SUMMARY:PA STATE COMBINED PARTY
DESCRIPTION:PA Combined State Party Flyer! \n2025 PA STATE COMBINED PARTY \nSEPT 26TH – SEPT 28th 2025\nSNPJ Camp Ground \n270 Martin Rd. ENON VALLEY\, PA 16120 \nLIVE MUSIC\nFREE BEER & CASH BAR\nFree Food Friday and Saturday\nCABIN RENTALS RV HOOK-UPS TENT CAMPING\nCall 877-767-5732 to Book Cabins (ask for Sue Zirella) \nCabins 1 – 24 are 2-bedroom cabins and are closest to the Pavilion.\nCabins 25 – 30 are the lower 2-bedroom cabins\nCabins 31 – 42 are 1-bedroom cabins\nCabins 43 – 48 are 2-bedroom cabins\nCALL 877-767-5732 TO BOOK. (Ask for SUE Zirella) Payment is due at booking and is Non-refundable.\nCabins must be booked by 8-31-2023… Any Not booked cabins will be offered to a different event group.\n(2-bedroom cabins have 2 full bedrooms plus a pull-out couch)\nFREE ENTRY\nTENT CAMPING will be Available\nFREE MILLER LITE KEG BEER ALL WEEKEND\nCASH BAR for liquor and other beer types. ($3 for most mixed drinks and $2 for Yuengling)\n50/50 RAFFLE’s – FRIDAY AND SATURDAY.\nDOOR PRIZES SATURDAY AFTER DINNER (approx. 2000) \nLive Music Friday and Saturday evenings\nFree Food will be provided\, and other food will be available in the area.\nPARTY IS UNDER A HUGE PAVILION SO WEATHER ISNT A WORRY.
URL:https://usmvmcgastate.com/calendar/pa-state-combined-party/
LOCATION:SNPJ Camp Ground\, 270 Martin Rd\, ENON VALLEY\, PA\, 16120\, United States
END:VEVENT
BEGIN:VEVENT
DTSTART;VALUE=DATE:20240927
DTEND;VALUE=DATE:20240930
DTSTAMP:20260422T101715
CREATED:20240523T050732Z
LAST-MODIFIED:20240526T072111Z
UID:10000077-1727395200-1727654399@usmvmcgastate.com
SUMMARY:PA State Combined Annual
DESCRIPTION:PA Combined Annual \nClick on Event for Flyer! \nPA State is happy to announce the 2024 PA State Combined Annual will be held on Sept 27\,28\,29 at SNPJ recreation center.\nLocation: SNPJ Camp Ground\n270 Martin Rd. ENON VALLEY\, PA 16120
URL:https://usmvmcgastate.com/calendar/pa-state-combined-annual/
LOCATION:SNPJ Camp Ground\, 270 Martin Rd\, ENON VALLEY\, PA\, 16120\, United States
END:VEVENT
END:VCALENDAR