BEGIN:VCALENDAR
VERSION:2.0
PRODID:-// - ECPv6.15.20//NONSGML v1.0//EN
CALSCALE:GREGORIAN
METHOD:PUBLISH
X-ORIGINAL-URL:https://usmvmcgastate.com
X-WR-CALDESC:Events for 
REFRESH-INTERVAL;VALUE=DURATION:PT1H
X-Robots-Tag:noindex
X-PUBLISHED-TTL:PT1H
BEGIN:VTIMEZONE
TZID:America/New_York
BEGIN:DAYLIGHT
TZOFFSETFROM:-0500
TZOFFSETTO:-0400
TZNAME:EDT
DTSTART:20250309T070000
END:DAYLIGHT
BEGIN:STANDARD
TZOFFSETFROM:-0400
TZOFFSETTO:-0500
TZNAME:EST
DTSTART:20251102T060000
END:STANDARD
BEGIN:DAYLIGHT
TZOFFSETFROM:-0500
TZOFFSETTO:-0400
TZNAME:EDT
DTSTART:20260308T070000
END:DAYLIGHT
BEGIN:STANDARD
TZOFFSETFROM:-0400
TZOFFSETTO:-0500
TZNAME:EST
DTSTART:20261101T060000
END:STANDARD
BEGIN:DAYLIGHT
TZOFFSETFROM:-0500
TZOFFSETTO:-0400
TZNAME:EDT
DTSTART:20270314T070000
END:DAYLIGHT
BEGIN:STANDARD
TZOFFSETFROM:-0400
TZOFFSETTO:-0500
TZNAME:EST
DTSTART:20271107T060000
END:STANDARD
END:VTIMEZONE
BEGIN:VEVENT
DTSTART;VALUE=DATE:20261001
DTEND;VALUE=DATE:20261005
DTSTAMP:20260424T084602
CREATED:20260117T191757Z
LAST-MODIFIED:20260117T191757Z
UID:10000559-1790812800-1791158399@usmvmcgastate.com
SUMMARY:TN-3 Bootleggers Annual
DESCRIPTION:This is our 10th year at the Sidney James Mountain Lodge\n\n610 Historic Nature Trail \nGatlinburg\, TN  37738 \nGive them a call at (865)436-7851\nTo get your room for any of the nights from October 1-4\, 2026. Attached is the flyer and we look forward to seeing everyone on the road.\n\nScreenshot
URL:https://usmvmcgastate.com/calendar/tn-3-bootleggers-annual/
LOCATION:Sidney James Mountain Lodge\, 610 Historic Nature Trail\, Gatlinburg\, TN\, United States
END:VEVENT
END:VCALENDAR