BEGIN:VCALENDAR
VERSION:2.0
PRODID:-// - ECPv6.15.20//NONSGML v1.0//EN
CALSCALE:GREGORIAN
METHOD:PUBLISH
X-ORIGINAL-URL:https://usmvmcgastate.com
X-WR-CALDESC:Events for 
REFRESH-INTERVAL;VALUE=DURATION:PT1H
X-Robots-Tag:noindex
X-PUBLISHED-TTL:PT1H
BEGIN:VTIMEZONE
TZID:America/New_York
BEGIN:DAYLIGHT
TZOFFSETFROM:-0500
TZOFFSETTO:-0400
TZNAME:EDT
DTSTART:20250309T070000
END:DAYLIGHT
BEGIN:STANDARD
TZOFFSETFROM:-0400
TZOFFSETTO:-0500
TZNAME:EST
DTSTART:20251102T060000
END:STANDARD
BEGIN:DAYLIGHT
TZOFFSETFROM:-0500
TZOFFSETTO:-0400
TZNAME:EDT
DTSTART:20260308T070000
END:DAYLIGHT
BEGIN:STANDARD
TZOFFSETFROM:-0400
TZOFFSETTO:-0500
TZNAME:EST
DTSTART:20261101T060000
END:STANDARD
BEGIN:DAYLIGHT
TZOFFSETFROM:-0500
TZOFFSETTO:-0400
TZNAME:EDT
DTSTART:20270314T070000
END:DAYLIGHT
BEGIN:STANDARD
TZOFFSETFROM:-0400
TZOFFSETTO:-0500
TZNAME:EST
DTSTART:20271107T060000
END:STANDARD
END:VTIMEZONE
BEGIN:VEVENT
DTSTART;TZID=America/New_York:20260513T160000
DTEND;TZID=America/New_York:20260513T210000
DTSTAMP:20260422T172503
CREATED:20260422T165648Z
LAST-MODIFIED:20260422T165847Z
UID:10000624-1778688000-1778706000@usmvmcgastate.com
SUMMARY:VA-6 Capital City Rebellion Bike Night
DESCRIPTION:Bike Night\nWhen: 2nd Wednesdays of Each Month Starting May 13 from 4 to 9 pm \nWhere: Shield N Sheath Hatchet House\, 1511 Altamont Ave.\, Richmond\, VA
URL:https://usmvmcgastate.com/calendar/va-6-capital-city-rebellion-bike-night/
LOCATION:Shield N Sheath Hatchet House\, 1511 Altamont Ave\, Richmond\, VA\, United States
END:VEVENT
BEGIN:VEVENT
DTSTART;TZID=America/New_York:20260610T160000
DTEND;TZID=America/New_York:20260610T210000
DTSTAMP:20260422T172503
CREATED:20260422T170058Z
LAST-MODIFIED:20260422T170121Z
UID:10000661-1781107200-1781125200@usmvmcgastate.com
SUMMARY:VA-6 Capital City Rebellion Bike Night
DESCRIPTION:Bike Night\nWhen: 2nd Wednesdays of Each Month Starting May 13 from 4 to 9 pm \nWhere: Shield N Sheath Hatchet House\, 1511 Altamont Ave.\, Richmond\, VA
URL:https://usmvmcgastate.com/calendar/va-6-capital-city-rebellion-bike-night-2/
LOCATION:Shield N Sheath Hatchet House\, 1511 Altamont Ave\, Richmond\, VA\, United States
END:VEVENT
BEGIN:VEVENT
DTSTART;TZID=America/New_York:20260613T130000
DTEND;TZID=America/New_York:20260613T160000
DTSTAMP:20260422T172503
CREATED:20260422T170932Z
LAST-MODIFIED:20260422T170932Z
UID:10000668-1781355600-1781366400@usmvmcgastate.com
SUMMARY:VA-6 Bike Wash
DESCRIPTION:VA-6 Bike Wash\nSaturday\, June 13th\, at Shield and Sheath Hatchet House from 1 to 4 pm
URL:https://usmvmcgastate.com/calendar/va-6-bike-wash/
LOCATION:Shield N Sheath Hatchet House\, 1511 Altamont Ave\, Richmond\, VA\, United States
END:VEVENT
BEGIN:VEVENT
DTSTART;TZID=America/New_York:20260708T160000
DTEND;TZID=America/New_York:20260708T210000
DTSTAMP:20260422T172503
CREATED:20260422T170203Z
LAST-MODIFIED:20260422T170203Z
UID:10000662-1783526400-1783544400@usmvmcgastate.com
SUMMARY:VA-6 Capital City Rebellion Bike Night
DESCRIPTION:Bike Night\nWhen: 2nd Wednesdays of Each Month Starting May 13 from 4 to 9 pm \nWhere: Shield N Sheath Hatchet House\, 1511 Altamont Ave.\, Richmond\, VA
URL:https://usmvmcgastate.com/calendar/va-6-capital-city-rebellion-bike-night-3/
LOCATION:Shield N Sheath Hatchet House\, 1511 Altamont Ave\, Richmond\, VA\, United States
END:VEVENT
BEGIN:VEVENT
DTSTART;TZID=America/New_York:20260812T160000
DTEND;TZID=America/New_York:20260812T210000
DTSTAMP:20260422T172503
CREATED:20260422T170229Z
LAST-MODIFIED:20260422T170229Z
UID:10000663-1786550400-1786568400@usmvmcgastate.com
SUMMARY:VA-6 Capital City Rebellion Bike Night
DESCRIPTION:Bike Night\nWhen: 2nd Wednesdays of Each Month Starting May 13 from 4 to 9 pm \nWhere: Shield N Sheath Hatchet House\, 1511 Altamont Ave.\, Richmond\, VA
URL:https://usmvmcgastate.com/calendar/va-6-capital-city-rebellion-bike-night-4/
LOCATION:Shield N Sheath Hatchet House\, 1511 Altamont Ave\, Richmond\, VA\, United States
END:VEVENT
BEGIN:VEVENT
DTSTART;TZID=America/New_York:20260909T160000
DTEND;TZID=America/New_York:20260909T210000
DTSTAMP:20260422T172503
CREATED:20260422T170251Z
LAST-MODIFIED:20260422T170251Z
UID:10000664-1788969600-1788987600@usmvmcgastate.com
SUMMARY:VA-6 Capital City Rebellion Bike Night
DESCRIPTION:Bike Night\nWhen: 2nd Wednesdays of Each Month Starting May 13 from 4 to 9 pm \nWhere: Shield N Sheath Hatchet House\, 1511 Altamont Ave.\, Richmond\, VA
URL:https://usmvmcgastate.com/calendar/va-6-capital-city-rebellion-bike-night-5/
LOCATION:Shield N Sheath Hatchet House\, 1511 Altamont Ave\, Richmond\, VA\, United States
END:VEVENT
BEGIN:VEVENT
DTSTART;TZID=America/New_York:20261014T160000
DTEND;TZID=America/New_York:20261014T210000
DTSTAMP:20260422T172503
CREATED:20260422T170326Z
LAST-MODIFIED:20260422T170326Z
UID:10000665-1791993600-1792011600@usmvmcgastate.com
SUMMARY:VA-6 Capital City Rebellion Bike Night
DESCRIPTION:Bike Night\nWhen: 2nd Wednesdays of Each Month Starting May 13 from 4 to 9 pm \nWhere: Shield N Sheath Hatchet House\, 1511 Altamont Ave.\, Richmond\, VA
URL:https://usmvmcgastate.com/calendar/va-6-capital-city-rebellion-bike-night-6/
LOCATION:Shield N Sheath Hatchet House\, 1511 Altamont Ave\, Richmond\, VA\, United States
END:VEVENT
BEGIN:VEVENT
DTSTART;TZID=America/New_York:20261111T160000
DTEND;TZID=America/New_York:20261111T210000
DTSTAMP:20260422T172503
CREATED:20260422T170349Z
LAST-MODIFIED:20260422T170349Z
UID:10000666-1794412800-1794430800@usmvmcgastate.com
SUMMARY:VA-6 Capital City Rebellion Bike Night
DESCRIPTION:Bike Night\nWhen: 2nd Wednesdays of Each Month Starting May 13 from 4 to 9 pm \nWhere: Shield N Sheath Hatchet House\, 1511 Altamont Ave.\, Richmond\, VA
URL:https://usmvmcgastate.com/calendar/va-6-capital-city-rebellion-bike-night-7/
LOCATION:Shield N Sheath Hatchet House\, 1511 Altamont Ave\, Richmond\, VA\, United States
END:VEVENT
BEGIN:VEVENT
DTSTART;TZID=America/New_York:20261209T160000
DTEND;TZID=America/New_York:20261209T210000
DTSTAMP:20260422T172503
CREATED:20260422T170410Z
LAST-MODIFIED:20260422T170410Z
UID:10000667-1796832000-1796850000@usmvmcgastate.com
SUMMARY:VA-6 Capital City Rebellion Bike Night
DESCRIPTION:Bike Night\nWhen: 2nd Wednesdays of Each Month Starting May 13 from 4 to 9 pm \nWhere: Shield N Sheath Hatchet House\, 1511 Altamont Ave.\, Richmond\, VA
URL:https://usmvmcgastate.com/calendar/va-6-capital-city-rebellion-bike-night-8/
LOCATION:Shield N Sheath Hatchet House\, 1511 Altamont Ave\, Richmond\, VA\, United States
END:VEVENT
END:VCALENDAR