BEGIN:VCALENDAR
VERSION:2.0
PRODID:-// - ECPv6.15.20//NONSGML v1.0//EN
CALSCALE:GREGORIAN
METHOD:PUBLISH
X-ORIGINAL-URL:https://usmvmcgastate.com
X-WR-CALDESC:Events for 
REFRESH-INTERVAL;VALUE=DURATION:PT1H
X-Robots-Tag:noindex
X-PUBLISHED-TTL:PT1H
BEGIN:VTIMEZONE
TZID:America/New_York
BEGIN:DAYLIGHT
TZOFFSETFROM:-0500
TZOFFSETTO:-0400
TZNAME:EDT
DTSTART:20240310T070000
END:DAYLIGHT
BEGIN:STANDARD
TZOFFSETFROM:-0400
TZOFFSETTO:-0500
TZNAME:EST
DTSTART:20241103T060000
END:STANDARD
BEGIN:DAYLIGHT
TZOFFSETFROM:-0500
TZOFFSETTO:-0400
TZNAME:EDT
DTSTART:20250309T070000
END:DAYLIGHT
BEGIN:STANDARD
TZOFFSETFROM:-0400
TZOFFSETTO:-0500
TZNAME:EST
DTSTART:20251102T060000
END:STANDARD
BEGIN:DAYLIGHT
TZOFFSETFROM:-0500
TZOFFSETTO:-0400
TZNAME:EDT
DTSTART:20260308T070000
END:DAYLIGHT
BEGIN:STANDARD
TZOFFSETFROM:-0400
TZOFFSETTO:-0500
TZNAME:EST
DTSTART:20261101T060000
END:STANDARD
END:VTIMEZONE
BEGIN:VEVENT
DTSTART;TZID=America/New_York:20250607T130000
DTEND;TZID=America/New_York:20250607T230000
DTSTAMP:20260422T101713
CREATED:20241203T185543Z
LAST-MODIFIED:20250601T204140Z
UID:10000187-1749301200-1749337200@usmvmcgastate.com
SUMMARY:GA-18 First Annual
DESCRIPTION:GA 18 “Blood Mountain Crew” will be holding it’s 1st annual on 7 June 2025 from 1300 – 0000 at Sheepdog Cigars located at 157 Pappy’s Plaza\, Blairsville\, GA 30512. Friday 6 June will be the Meet and Greet from 1700 – 2000.  Band will play from 1400 – 1600 on Sat. Food trucks will be onsite. Drawings start at 1630. \n \nThe Blood Mountain Crew are excited to welcome you to the states furthest north chapter GA18. I want to provide a little more detail beyond the flyer. The location of this annual event is public area with other businesses. Antique stores\, Fudge shop\, Ice cream shop\, and more. Tubing is also available. Our event will be at Sheep Dog Cigars. Its veteran owned\, and I encourage you to support him. If you don’t smoke\, buying one for a brother would be appreciated. \nFood: A food truck will be on-site\, but we will be selling BBQ wrist bands for $10  per club member only at check in. \nRides: We do not have any scheduled rides\, however if enough want to take a ride we can ride over Blood Mountain and back (1 hour). \nBeverages: Donation cards as usual we ask that open containers be kept in the general area of the cigar ship. \n50/50/Raffle: Drawing  at 1700 \nCornhole 50/50:TBA \nTattoos: We will have two artists onsite \nCamping: Primitive camping is fine in the island area. \nShuttle: We will be providing shuttles to the hotels in Blairsville (10 min away) \nMeet & Greet: On June 6th (Friday) the chapter will be at Sheep Dog Cigars from 1700 – Closed. Free pizza and subs will be available.
URL:https://usmvmcgastate.com/calendar/ga-18-first-annual/
LOCATION:Sheepdog Cigars\,  157 Pappy’s Plaza\, Blairsville\, 30512\, United States
END:VEVENT
END:VCALENDAR