BEGIN:VCALENDAR
VERSION:2.0
PRODID:-// - ECPv6.15.20//NONSGML v1.0//EN
CALSCALE:GREGORIAN
METHOD:PUBLISH
X-ORIGINAL-URL:https://usmvmcgastate.com
X-WR-CALDESC:Events for 
REFRESH-INTERVAL;VALUE=DURATION:PT1H
X-Robots-Tag:noindex
X-PUBLISHED-TTL:PT1H
BEGIN:VTIMEZONE
TZID:America/New_York
BEGIN:DAYLIGHT
TZOFFSETFROM:-0500
TZOFFSETTO:-0400
TZNAME:EDT
DTSTART:20230312T070000
END:DAYLIGHT
BEGIN:STANDARD
TZOFFSETFROM:-0400
TZOFFSETTO:-0500
TZNAME:EST
DTSTART:20231105T060000
END:STANDARD
BEGIN:DAYLIGHT
TZOFFSETFROM:-0500
TZOFFSETTO:-0400
TZNAME:EDT
DTSTART:20240310T070000
END:DAYLIGHT
BEGIN:STANDARD
TZOFFSETFROM:-0400
TZOFFSETTO:-0500
TZNAME:EST
DTSTART:20241103T060000
END:STANDARD
BEGIN:DAYLIGHT
TZOFFSETFROM:-0500
TZOFFSETTO:-0400
TZNAME:EDT
DTSTART:20250309T070000
END:DAYLIGHT
BEGIN:STANDARD
TZOFFSETFROM:-0400
TZOFFSETTO:-0500
TZNAME:EST
DTSTART:20251102T060000
END:STANDARD
END:VTIMEZONE
BEGIN:VEVENT
DTSTART;VALUE=DATE:20241214
DTEND;VALUE=DATE:20241215
DTSTAMP:20260423T063449
CREATED:20240523T050802Z
LAST-MODIFIED:20241021T221114Z
UID:10000097-1734134400-1734220799@usmvmcgastate.com
SUMMARY:CANCELLED! WCF Bay Area Bash CANCELLED!
DESCRIPTION:Unfortunately\, we must convey some bad news to you all regarding The 2024 WCF Bay Area Bash.  After considerable consulting with the hotels and Ricky T’s\, The 2024 WCF Bay Area Bash will have to be cancelled this year due to the two hurricanes that devastated Treasure Island.  We were all hoping and working hard to make the Bash happen\, but Treasure Island businesses were not able to recover fast enough to accommodate the bash. \nWe will be cancelling all reservations under our promotion code this week.  If you made reservations without our code\, please contact the hotel to cancel.  Please let me know if you have any issue contacting the hotels.  The Bilmar is currently being used as a FEMA refuge holding site and housing those individuals. \nThe Bash Committee will be working hard to make 2025 WCF Bay Area Bash that much special and more memorable. \nThank you for your understanding and look forward to seeing you all at the Bash next year.
URL:https://usmvmcgastate.com/calendar/wcf-bay-area-bash/
LOCATION:Ricky T’s Bar and Grille\, 10601 Gulf Blvd\, Treasure Island\, FL\, 33706\, United States
END:VEVENT
END:VCALENDAR