BEGIN:VCALENDAR
VERSION:2.0
PRODID:-// - ECPv6.15.20//NONSGML v1.0//EN
CALSCALE:GREGORIAN
METHOD:PUBLISH
X-ORIGINAL-URL:https://usmvmcgastate.com
X-WR-CALDESC:Events for 
REFRESH-INTERVAL;VALUE=DURATION:PT1H
X-Robots-Tag:noindex
X-PUBLISHED-TTL:PT1H
BEGIN:VTIMEZONE
TZID:America/New_York
BEGIN:DAYLIGHT
TZOFFSETFROM:-0500
TZOFFSETTO:-0400
TZNAME:EDT
DTSTART:20230312T070000
END:DAYLIGHT
BEGIN:STANDARD
TZOFFSETFROM:-0400
TZOFFSETTO:-0500
TZNAME:EST
DTSTART:20231105T060000
END:STANDARD
BEGIN:DAYLIGHT
TZOFFSETFROM:-0500
TZOFFSETTO:-0400
TZNAME:EDT
DTSTART:20240310T070000
END:DAYLIGHT
BEGIN:STANDARD
TZOFFSETFROM:-0400
TZOFFSETTO:-0500
TZNAME:EST
DTSTART:20241103T060000
END:STANDARD
BEGIN:DAYLIGHT
TZOFFSETFROM:-0500
TZOFFSETTO:-0400
TZNAME:EDT
DTSTART:20250309T070000
END:DAYLIGHT
BEGIN:STANDARD
TZOFFSETFROM:-0400
TZOFFSETTO:-0500
TZNAME:EST
DTSTART:20251102T060000
END:STANDARD
END:VTIMEZONE
BEGIN:VEVENT
DTSTART;TZID=America/New_York:20240928T140000
DTEND;TZID=America/New_York:20240928T180000
DTSTAMP:20260421T160111
CREATED:20240827T013555Z
LAST-MODIFIED:20240827T013555Z
UID:10000122-1727532000-1727546400@usmvmcgastate.com
SUMMARY:IN-7 Open House
DESCRIPTION:Blackbetty IN-7 invites you all to our open house at the Richmond VFW. See attached flyer. DJ Filthy Rich aka Bull will keep us all entertained. Will be food provided\, every brother in the Blackbetty chapter will bring their own specialty so it will be pot luck. VFW bar will be open for beverages. This is also open to the public. Come out for an evening of Brotherhood.
URL:https://usmvmcgastate.com/calendar/in-7-open-house/
LOCATION:Richmond VFW\, 213 S. 8th St\, Richmond\, IN\, 47374\, United States
END:VEVENT
END:VCALENDAR