BEGIN:VCALENDAR
VERSION:2.0
PRODID:-// - ECPv6.15.20//NONSGML v1.0//EN
CALSCALE:GREGORIAN
METHOD:PUBLISH
X-ORIGINAL-URL:https://usmvmcgastate.com
X-WR-CALDESC:Events for 
REFRESH-INTERVAL;VALUE=DURATION:PT1H
X-Robots-Tag:noindex
X-PUBLISHED-TTL:PT1H
BEGIN:VTIMEZONE
TZID:America/New_York
BEGIN:DAYLIGHT
TZOFFSETFROM:-0500
TZOFFSETTO:-0400
TZNAME:EDT
DTSTART:20240310T070000
END:DAYLIGHT
BEGIN:STANDARD
TZOFFSETFROM:-0400
TZOFFSETTO:-0500
TZNAME:EST
DTSTART:20241103T060000
END:STANDARD
BEGIN:DAYLIGHT
TZOFFSETFROM:-0500
TZOFFSETTO:-0400
TZNAME:EDT
DTSTART:20250309T070000
END:DAYLIGHT
BEGIN:STANDARD
TZOFFSETFROM:-0400
TZOFFSETTO:-0500
TZNAME:EST
DTSTART:20251102T060000
END:STANDARD
BEGIN:DAYLIGHT
TZOFFSETFROM:-0500
TZOFFSETTO:-0400
TZNAME:EDT
DTSTART:20260308T070000
END:DAYLIGHT
BEGIN:STANDARD
TZOFFSETFROM:-0400
TZOFFSETTO:-0500
TZNAME:EST
DTSTART:20261101T060000
END:STANDARD
END:VTIMEZONE
BEGIN:VEVENT
DTSTART;VALUE=DATE:20250207
DTEND;VALUE=DATE:20250210
DTSTAMP:20260424T102424
CREATED:20241211T213528Z
LAST-MODIFIED:20241211T213528Z
UID:10000202-1738886400-1739145599@usmvmcgastate.com
SUMMARY:MD-2 20th WINTER RENDEZVOUS
DESCRIPTION:Come on out to the 20th WINTER RENDEZVOUS and help make it a great party. We will rendezvous on February 7th 8th 9th at the Plaza inn and suites located at 931 dual highway Hagerstown\, Maryland. \nMs. Karen is our point of contact so only speak with her. Call 301-733-5100 between 0900 – 12pm and 1300 – 1500. \nCall to double check your room reservations or to be put on the list for rooms when they become available. \nAny event questions you have\, contact a Western Maryland Brother.
URL:https://usmvmcgastate.com/calendar/md-2-20th-winter-rendezvous/
LOCATION:Plaza Inn and Suites\,  931 dual highway\, Hagerstown\, MD\, United States
END:VEVENT
END:VCALENDAR