BEGIN:VCALENDAR
VERSION:2.0
PRODID:-// - ECPv6.15.20//NONSGML v1.0//EN
CALSCALE:GREGORIAN
METHOD:PUBLISH
X-ORIGINAL-URL:https://usmvmcgastate.com
X-WR-CALDESC:Events for 
REFRESH-INTERVAL;VALUE=DURATION:PT1H
X-Robots-Tag:noindex
X-PUBLISHED-TTL:PT1H
BEGIN:VTIMEZONE
TZID:America/New_York
BEGIN:DAYLIGHT
TZOFFSETFROM:-0500
TZOFFSETTO:-0400
TZNAME:EDT
DTSTART:20240310T070000
END:DAYLIGHT
BEGIN:STANDARD
TZOFFSETFROM:-0400
TZOFFSETTO:-0500
TZNAME:EST
DTSTART:20241103T060000
END:STANDARD
BEGIN:DAYLIGHT
TZOFFSETFROM:-0500
TZOFFSETTO:-0400
TZNAME:EDT
DTSTART:20250309T070000
END:DAYLIGHT
BEGIN:STANDARD
TZOFFSETFROM:-0400
TZOFFSETTO:-0500
TZNAME:EST
DTSTART:20251102T060000
END:STANDARD
BEGIN:DAYLIGHT
TZOFFSETFROM:-0500
TZOFFSETTO:-0400
TZNAME:EDT
DTSTART:20260308T070000
END:DAYLIGHT
BEGIN:STANDARD
TZOFFSETFROM:-0400
TZOFFSETTO:-0500
TZNAME:EST
DTSTART:20261101T060000
END:STANDARD
END:VTIMEZONE
BEGIN:VEVENT
DTSTART;TZID=America/New_York:20250531T120000
DTEND;TZID=America/New_York:20250531T190000
DTSTAMP:20260425T223115
CREATED:20250511T054105Z
LAST-MODIFIED:20250511T054105Z
UID:10000407-1748692800-1748718000@usmvmcgastate.com
SUMMARY:PA-2 Campout
DESCRIPTION:As many of you know the Operation God Bless America ride will take place on Sunday June 1st. This event is chaired by some of our brothers from MD chapters (Big J\, Shorty\, Big E). As a little pre event kickoff\, PA2 will be hosting a get together on Saturday May 31st. This will be a free event with free camping.We will be meeting up and going for a little ride in the afternoon. Then we will proceed to one of our local watering holes for some grub. After that we will return to the VFW grounds for camping\, a fire and brotherhood. Oh did I forget to mention we will also have a free keg of beer. The main objective of this get together is to support the OGBA ride. But to also spend some relaxing time just chillin as brothers. If you can not make our campout that’s cool. But please do whatever you can to make the OGBA ride on Sunday. That’s what this weekend is about. Helping our fellow veterans who cannot help themselves. Itinerary is below with all the needed info.\n5-31-25\nCampground opens at 1200 for tent set up\, etc\n1500 we will goto a local Legion for a few drinks.\n1700 we will proceed to Tower Ridge bar for some grub.\nAfter that we will return for brotherhood\, fire and beer at the grounds.\n\n\nVFW grounds/camping area address\n\n822 Mountain Ridge RD\nMcConnellsburg PA 17233
URL:https://usmvmcgastate.com/calendar/pa-2-campout/
LOCATION:PA-2 Campout\, 822 Mountain Ridge RD\, McConnellsburg\, PA\, 17233\, United States
END:VEVENT
END:VCALENDAR