BEGIN:VCALENDAR
VERSION:2.0
PRODID:-// - ECPv6.15.20//NONSGML v1.0//EN
CALSCALE:GREGORIAN
METHOD:PUBLISH
X-ORIGINAL-URL:https://usmvmcgastate.com
X-WR-CALDESC:Events for 
REFRESH-INTERVAL;VALUE=DURATION:PT1H
X-Robots-Tag:noindex
X-PUBLISHED-TTL:PT1H
BEGIN:VTIMEZONE
TZID:America/New_York
BEGIN:DAYLIGHT
TZOFFSETFROM:-0500
TZOFFSETTO:-0400
TZNAME:EDT
DTSTART:20240310T070000
END:DAYLIGHT
BEGIN:STANDARD
TZOFFSETFROM:-0400
TZOFFSETTO:-0500
TZNAME:EST
DTSTART:20241103T060000
END:STANDARD
BEGIN:DAYLIGHT
TZOFFSETFROM:-0500
TZOFFSETTO:-0400
TZNAME:EDT
DTSTART:20250309T070000
END:DAYLIGHT
BEGIN:STANDARD
TZOFFSETFROM:-0400
TZOFFSETTO:-0500
TZNAME:EST
DTSTART:20251102T060000
END:STANDARD
BEGIN:DAYLIGHT
TZOFFSETFROM:-0500
TZOFFSETTO:-0400
TZNAME:EDT
DTSTART:20260308T070000
END:DAYLIGHT
BEGIN:STANDARD
TZOFFSETFROM:-0400
TZOFFSETTO:-0500
TZNAME:EST
DTSTART:20261101T060000
END:STANDARD
END:VTIMEZONE
BEGIN:VEVENT
DTSTART;TZID=America/New_York:20250125T113000
DTEND;TZID=America/New_York:20250125T170000
DTSTAMP:20260420T090038
CREATED:20250111T041714Z
LAST-MODIFIED:20250111T041714Z
UID:10000247-1737804600-1737824400@usmvmcgastate.com
SUMMARY:Tri-State (MD/PA/WVA) Winter fun ride
DESCRIPTION:The Tri-State chapters of MD6\, PA2\, WVA352\, and WVA 5 are hosting a winter fun ride to raise money for the Operation God Bless America organization (OGBA).\nRide Info:\nDate: 25 Jan 2025\nTime: 1130 meet up at first location\nDonation:  We ask each person participating (rider/passenger) for $25 to go into the 50/50 pot to be pulled at the last stop.\nChapter Donation:  We also ask each chapter participating if they could please donate $100 which will be presented to the OGBA.\nLocations:  Start @ Olde Town Tavern in Frederick MD\n             2nd Stop @ The Green Frog in Martinsburg\, WV\n            3rd Stop @ The American Legion in Greencastle PA\n            last stop @ Break Away II Sports Lounge in Hagerstown MD\nWe will spend about 45 minutes at each stop to drink\, eat\, and warm up from the ride.\nTransport:  Ride your scoot (Weather Permitting) or drive your vehicle (Carpooling is preferred)\nInfo about OGBA:   About Us | Operation: God Bless America\nAll proceeds are donated to the Long-term care Veterans at the VA Medical Center in Martinsburg\, WV.\nThe money is put in a personal care account so patients can get items they need that the VA doesn’t cover: hearing aids\, glasses\, TVs\, shaving supplies\, soap\, and other personal care items.\nThe funds also go to the patient recreational fund which has supplied TVs\, Wii systems\, pool tables\, bingo machines\, a serenity garden\, refurbishing of the center’s bowling alley\, and various other items to help make the veterans know that their sacrifice was and always will be greatly appreciated.\nWe have 3 brothers who are a part of the steering committee for OGBA\, they are making a huge impact on this organization and incorporating our core values into the mission.\nPresident – Big J\nPublic Relations – Big Shorty\nMember – Big E (Elvis)\nAlong with these 3 committee members\, many of the brothers in this Tri-State area contribute in many different ways to assist the OGBA\, and their annual fundraiser ride (1 June 2025).\nLast year our great nation led the ride flying the US flag and all the Military branches’ flags.  We also controlled the traffic to allow the 1000+ bikes on the ride to safely enter and exit the highway.\nThis is an amazing organization that supports our fellow veterans. Participation in the OGBA events is the epitome of our 3 objectives\, showing our fellow Vets and Civilians what the USMVMC is all about.\nWe hope to see you all on the ride on the 25.
URL:https://usmvmcgastate.com/calendar/tri-state-md-pa-wva-winter-fun-ride/
LOCATION:Olde Town Tavern\, 325 N Market St\, Frederick\, MD\, 21701\, United States
END:VEVENT
END:VCALENDAR