BEGIN:VCALENDAR
VERSION:2.0
PRODID:-// - ECPv6.15.20//NONSGML v1.0//EN
CALSCALE:GREGORIAN
METHOD:PUBLISH
X-ORIGINAL-URL:https://usmvmcgastate.com
X-WR-CALDESC:Events for 
REFRESH-INTERVAL;VALUE=DURATION:PT1H
X-Robots-Tag:noindex
X-PUBLISHED-TTL:PT1H
BEGIN:VTIMEZONE
TZID:America/New_York
BEGIN:DAYLIGHT
TZOFFSETFROM:-0500
TZOFFSETTO:-0400
TZNAME:EDT
DTSTART:20250309T070000
END:DAYLIGHT
BEGIN:STANDARD
TZOFFSETFROM:-0400
TZOFFSETTO:-0500
TZNAME:EST
DTSTART:20251102T060000
END:STANDARD
BEGIN:DAYLIGHT
TZOFFSETFROM:-0500
TZOFFSETTO:-0400
TZNAME:EDT
DTSTART:20260308T070000
END:DAYLIGHT
BEGIN:STANDARD
TZOFFSETFROM:-0400
TZOFFSETTO:-0500
TZNAME:EST
DTSTART:20261101T060000
END:STANDARD
BEGIN:DAYLIGHT
TZOFFSETFROM:-0500
TZOFFSETTO:-0400
TZNAME:EDT
DTSTART:20270314T070000
END:DAYLIGHT
BEGIN:STANDARD
TZOFFSETFROM:-0400
TZOFFSETTO:-0500
TZNAME:EST
DTSTART:20271107T060000
END:STANDARD
END:VTIMEZONE
BEGIN:VEVENT
DTSTART;VALUE=DATE:20261002
DTEND;VALUE=DATE:20261004
DTSTAMP:20260421T050230
CREATED:20260221T013113Z
LAST-MODIFIED:20260221T013155Z
UID:10000597-1790899200-1791071999@usmvmcgastate.com
SUMMARY:NJ State "Jersey Crew’s" 26th Annual End of Summer Bash
DESCRIPTION:Come out and celebrate the U.S. Military Vets MC Jersey Crew’s 26th Annual End of Summer Bash. There is limited indoor sleeping space and primitive camping space at the meet and greet location all weekend. \nWHEN: \nOctober 2nd Meet and Greet\n21 Lomurno Lane Cape May Court house\n1600-???? \nOctober 3rd 26th Annual\nVillas VFW Post 5343\n6 E. Delaware Parkway\n1300-1700\n$20 Per Person $30 a Couple \nNJ State Annual Flyer!
URL:https://usmvmcgastate.com/calendar/nj-state-jersey-crews-26th-annual-end-of-summer-bash/
LOCATION:NJ Meet and Greet\, 21 Lomurno Lane Cape May Court house\, Cape may court house\, 08210\, United States
END:VEVENT
END:VCALENDAR