BEGIN:VCALENDAR
VERSION:2.0
PRODID:-// - ECPv6.15.20//NONSGML v1.0//EN
CALSCALE:GREGORIAN
METHOD:PUBLISH
X-ORIGINAL-URL:https://usmvmcgastate.com
X-WR-CALDESC:Events for 
REFRESH-INTERVAL;VALUE=DURATION:PT1H
X-Robots-Tag:noindex
X-PUBLISHED-TTL:PT1H
BEGIN:VTIMEZONE
TZID:America/New_York
BEGIN:DAYLIGHT
TZOFFSETFROM:-0500
TZOFFSETTO:-0400
TZNAME:EDT
DTSTART:20240310T070000
END:DAYLIGHT
BEGIN:STANDARD
TZOFFSETFROM:-0400
TZOFFSETTO:-0500
TZNAME:EST
DTSTART:20241103T060000
END:STANDARD
BEGIN:DAYLIGHT
TZOFFSETFROM:-0500
TZOFFSETTO:-0400
TZNAME:EDT
DTSTART:20250309T070000
END:DAYLIGHT
BEGIN:STANDARD
TZOFFSETFROM:-0400
TZOFFSETTO:-0500
TZNAME:EST
DTSTART:20251102T060000
END:STANDARD
BEGIN:DAYLIGHT
TZOFFSETFROM:-0500
TZOFFSETTO:-0400
TZNAME:EDT
DTSTART:20260308T070000
END:DAYLIGHT
BEGIN:STANDARD
TZOFFSETFROM:-0400
TZOFFSETTO:-0500
TZNAME:EST
DTSTART:20261101T060000
END:STANDARD
END:VTIMEZONE
BEGIN:VEVENT
DTSTART;TZID=America/New_York:20251004T130000
DTEND;TZID=America/New_York:20251004T170000
DTSTAMP:20260419T172709
CREATED:20250216T041149Z
LAST-MODIFIED:20250218T181003Z
UID:10000273-1759582800-1759597200@usmvmcgastate.com
SUMMARY:NJ State Annual End of Summer Bash
DESCRIPTION:NJ State End of Summer Bash Flyer!\nCome Out and Celebrate the U.S. Military Vets MC Jersey Crew’s 25th Annual End of Summer Bash.  See attached Flyer.\nWHEN:\nOctober 3th Meet and Greet\n21 Lomurno Lane Cape May Court house\n1600-????\nOctober 4th 25th Annual\nVillas VFW Post 5343\n6 E. Delaware Parkway\n1300-1700\n$20 Per Person $30 a Couple
URL:https://usmvmcgastate.com/calendar/nj-state-annual/
LOCATION:Villas VFW Post 5343\, 6 E. Delaware Parkway\, Villas\, NJ\, 08251\, United States
END:VEVENT
END:VCALENDAR