BEGIN:VCALENDAR
VERSION:2.0
PRODID:-// - ECPv6.15.20//NONSGML v1.0//EN
CALSCALE:GREGORIAN
METHOD:PUBLISH
X-ORIGINAL-URL:https://usmvmcgastate.com
X-WR-CALDESC:Events for 
REFRESH-INTERVAL;VALUE=DURATION:PT1H
X-Robots-Tag:noindex
X-PUBLISHED-TTL:PT1H
BEGIN:VTIMEZONE
TZID:America/New_York
BEGIN:DAYLIGHT
TZOFFSETFROM:-0500
TZOFFSETTO:-0400
TZNAME:EDT
DTSTART:20240310T070000
END:DAYLIGHT
BEGIN:STANDARD
TZOFFSETFROM:-0400
TZOFFSETTO:-0500
TZNAME:EST
DTSTART:20241103T060000
END:STANDARD
BEGIN:DAYLIGHT
TZOFFSETFROM:-0500
TZOFFSETTO:-0400
TZNAME:EDT
DTSTART:20250309T070000
END:DAYLIGHT
BEGIN:STANDARD
TZOFFSETFROM:-0400
TZOFFSETTO:-0500
TZNAME:EST
DTSTART:20251102T060000
END:STANDARD
BEGIN:DAYLIGHT
TZOFFSETFROM:-0500
TZOFFSETTO:-0400
TZNAME:EDT
DTSTART:20260308T070000
END:DAYLIGHT
BEGIN:STANDARD
TZOFFSETFROM:-0400
TZOFFSETTO:-0500
TZNAME:EST
DTSTART:20261101T060000
END:STANDARD
END:VTIMEZONE
BEGIN:VEVENT
DTSTART;TZID=America/New_York:20251025T180000
DTEND;TZID=America/New_York:20251025T235900
DTSTAMP:20260425T182243
CREATED:20241203T191400Z
LAST-MODIFIED:20250902T190157Z
UID:10000193-1761415200-1761436740@usmvmcgastate.com
SUMMARY:Michigan Halloween/Harvest Party
DESCRIPTION:Michigan Halloween/Harvest Party 10/25/2025 \nMI Fall Halloween Party Flyer \nHalloween/Harvest Party \nOctober 25 2025. 6pm till close \nLocation: 3744 E. Michigan Ave. Jackson MI. 49202 \nClubhouse will be open October\n24 Clubhouse will be open as\nnormal for anyone wanting to\ncome Friday \nCostume Contest\n4- 1st Place Prizes\nsexiest\nScariest\nMost Original\nCutest Couple
URL:https://usmvmcgastate.com/calendar/michigan-halloween-harvest-party/
LOCATION:MI Halloween Party\, 3744 E. Michigan Ave.\, Jackson\, MI\, 49202\, United States
END:VEVENT
END:VCALENDAR