BEGIN:VCALENDAR
VERSION:2.0
PRODID:-// - ECPv6.15.20//NONSGML v1.0//EN
CALSCALE:GREGORIAN
METHOD:PUBLISH
X-ORIGINAL-URL:https://usmvmcgastate.com
X-WR-CALDESC:Events for 
REFRESH-INTERVAL;VALUE=DURATION:PT1H
X-Robots-Tag:noindex
X-PUBLISHED-TTL:PT1H
BEGIN:VTIMEZONE
TZID:America/New_York
BEGIN:DAYLIGHT
TZOFFSETFROM:-0500
TZOFFSETTO:-0400
TZNAME:EDT
DTSTART:20250309T070000
END:DAYLIGHT
BEGIN:STANDARD
TZOFFSETFROM:-0400
TZOFFSETTO:-0500
TZNAME:EST
DTSTART:20251102T060000
END:STANDARD
BEGIN:DAYLIGHT
TZOFFSETFROM:-0500
TZOFFSETTO:-0400
TZNAME:EDT
DTSTART:20260308T070000
END:DAYLIGHT
BEGIN:STANDARD
TZOFFSETFROM:-0400
TZOFFSETTO:-0500
TZNAME:EST
DTSTART:20261101T060000
END:STANDARD
BEGIN:DAYLIGHT
TZOFFSETFROM:-0500
TZOFFSETTO:-0400
TZNAME:EDT
DTSTART:20270314T070000
END:DAYLIGHT
BEGIN:STANDARD
TZOFFSETFROM:-0400
TZOFFSETTO:-0500
TZNAME:EST
DTSTART:20271107T060000
END:STANDARD
END:VTIMEZONE
BEGIN:VEVENT
DTSTART;VALUE=DATE:20260117
DTEND;VALUE=DATE:20260118
DTSTAMP:20260420T060937
CREATED:20251208T192658Z
LAST-MODIFIED:20251227T181127Z
UID:10000535-1768608000-1768694399@usmvmcgastate.com
SUMMARY:ND Below Zero Hero
DESCRIPTION:Happy Holidays to all our brother across this nation from North Dakota State.  We are coming up on our 19th annual Below Zero Hero ride.  Flyer will be coming out soon but I wanted to let everyone know some of the details so you guys that plan on coming can make reservations. Our ride is January 17th! \nHotel with blocks of rooms reserved: \nRamada Fargo- 701-935-1282\nBlock under US Military Vets Motorcycle Club. $119 a night \nYou can ask anyone who has been to this event\, it is a must do and a great weekend of brotherhood.  We will have the clubhouse open Friday evening to hangout and cause some shenanigans! \nFor those that want to do the ride but are flying in we have some bikes that you can use. We will make as many trips on our route as needed to make sure everyone gets the highly sought after BZH Patch!
URL:https://usmvmcgastate.com/calendar/nd-below-zero-hero/
LOCATION:M & Js Saloon ND\, 817 Main Ave W\,\, West Fargo\, ND\, 58078\, United States
END:VEVENT
END:VCALENDAR