BEGIN:VCALENDAR
VERSION:2.0
PRODID:-// - ECPv6.15.20//NONSGML v1.0//EN
CALSCALE:GREGORIAN
METHOD:PUBLISH
X-ORIGINAL-URL:https://usmvmcgastate.com
X-WR-CALDESC:Events for 
REFRESH-INTERVAL;VALUE=DURATION:PT1H
X-Robots-Tag:noindex
X-PUBLISHED-TTL:PT1H
BEGIN:VTIMEZONE
TZID:America/New_York
BEGIN:DAYLIGHT
TZOFFSETFROM:-0500
TZOFFSETTO:-0400
TZNAME:EDT
DTSTART:20230312T070000
END:DAYLIGHT
BEGIN:STANDARD
TZOFFSETFROM:-0400
TZOFFSETTO:-0500
TZNAME:EST
DTSTART:20231105T060000
END:STANDARD
BEGIN:DAYLIGHT
TZOFFSETFROM:-0500
TZOFFSETTO:-0400
TZNAME:EDT
DTSTART:20240310T070000
END:DAYLIGHT
BEGIN:STANDARD
TZOFFSETFROM:-0400
TZOFFSETTO:-0500
TZNAME:EST
DTSTART:20241103T060000
END:STANDARD
BEGIN:DAYLIGHT
TZOFFSETFROM:-0500
TZOFFSETTO:-0400
TZNAME:EDT
DTSTART:20250309T070000
END:DAYLIGHT
BEGIN:STANDARD
TZOFFSETFROM:-0400
TZOFFSETTO:-0500
TZNAME:EST
DTSTART:20251102T060000
END:STANDARD
END:VTIMEZONE
BEGIN:VEVENT
DTSTART;TZID=America/New_York:20240803T120000
DTEND;TZID=America/New_York:20240803T170000
DTSTAMP:20260421T174711
CREATED:20240802T172245Z
LAST-MODIFIED:20240802T172245Z
UID:10000116-1722686400-1722704400@usmvmcgastate.com
SUMMARY:PA-2 Angel’s COL
DESCRIPTION:As some of you may know our brother Petcock’s wife recently passed away. They are having a COL which is scheduled for August 3\, 2024\, 12:00 at Liberty Baptist Church. The address is 11195 Airport Rd.\, Waynesboro\, PA. 17268. They will have a service lead by Pastor Rodney and then the celebration of life with some food and drinks. \nWe are meeting at the TA on 16 and 81. PA EXIT 5. At 0930 (Saturday Aug 3rd) for breakfast before riding to Angel’s (Petcock’s extension’s) COL\, if anyone is interested in joining us.
URL:https://usmvmcgastate.com/calendar/pa-2-angels-col/
LOCATION:Liberty Baptist Church\, 11195 Airport Rd\, Waynesboro\, PA\, 17268\, United States
END:VEVENT
END:VCALENDAR