BEGIN:VCALENDAR
VERSION:2.0
PRODID:-// - ECPv6.15.20//NONSGML v1.0//EN
CALSCALE:GREGORIAN
METHOD:PUBLISH
X-ORIGINAL-URL:https://usmvmcgastate.com
X-WR-CALDESC:Events for 
REFRESH-INTERVAL;VALUE=DURATION:PT1H
X-Robots-Tag:noindex
X-PUBLISHED-TTL:PT1H
BEGIN:VTIMEZONE
TZID:America/New_York
BEGIN:DAYLIGHT
TZOFFSETFROM:-0500
TZOFFSETTO:-0400
TZNAME:EDT
DTSTART:20250309T070000
END:DAYLIGHT
BEGIN:STANDARD
TZOFFSETFROM:-0400
TZOFFSETTO:-0500
TZNAME:EST
DTSTART:20251102T060000
END:STANDARD
BEGIN:DAYLIGHT
TZOFFSETFROM:-0500
TZOFFSETTO:-0400
TZNAME:EDT
DTSTART:20260308T070000
END:DAYLIGHT
BEGIN:STANDARD
TZOFFSETFROM:-0400
TZOFFSETTO:-0500
TZNAME:EST
DTSTART:20261101T060000
END:STANDARD
BEGIN:DAYLIGHT
TZOFFSETFROM:-0500
TZOFFSETTO:-0400
TZNAME:EDT
DTSTART:20270314T070000
END:DAYLIGHT
BEGIN:STANDARD
TZOFFSETFROM:-0400
TZOFFSETTO:-0500
TZNAME:EST
DTSTART:20271107T060000
END:STANDARD
END:VTIMEZONE
BEGIN:VEVENT
DTSTART;TZID=America/New_York:20260425T150000
DTEND;TZID=America/New_York:20260425T170000
DTSTAMP:20260422T101242
CREATED:20260420T184008Z
LAST-MODIFIED:20260420T184008Z
UID:10000623-1777129200-1777136400@usmvmcgastate.com
SUMMARY:MO-1 Brother Ghost's Extension\, Evil
DESCRIPTION:Brother Ghost’s Extension\, Evil:\n–Visitation/Viewing will be 1500 to 1700\, Saturday\, 25 APR 2026\n–Leintz Funeral Home\n  4701 10th Ave\, Leavenworth\, KS\n–Internment in the Leavenworth National Cemetery in KS will be at a future date TBD\n–MC riding uniform is appropriate attire.\n\nSome of us are staying at the Hampton Inn in Leavenworth\, KS
URL:https://usmvmcgastate.com/calendar/mo-1-brother-ghosts-extension-evil/
LOCATION:Leintz Funeral Home\, 4701 10th Ave\, Leavenworth\, KS\, United States
END:VEVENT
END:VCALENDAR