BEGIN:VCALENDAR
VERSION:2.0
PRODID:-// - ECPv6.15.20//NONSGML v1.0//EN
CALSCALE:GREGORIAN
METHOD:PUBLISH
X-ORIGINAL-URL:https://usmvmcgastate.com
X-WR-CALDESC:Events for 
REFRESH-INTERVAL;VALUE=DURATION:PT1H
X-Robots-Tag:noindex
X-PUBLISHED-TTL:PT1H
BEGIN:VTIMEZONE
TZID:America/New_York
BEGIN:DAYLIGHT
TZOFFSETFROM:-0500
TZOFFSETTO:-0400
TZNAME:EDT
DTSTART:20230312T070000
END:DAYLIGHT
BEGIN:STANDARD
TZOFFSETFROM:-0400
TZOFFSETTO:-0500
TZNAME:EST
DTSTART:20231105T060000
END:STANDARD
BEGIN:DAYLIGHT
TZOFFSETFROM:-0500
TZOFFSETTO:-0400
TZNAME:EDT
DTSTART:20240310T070000
END:DAYLIGHT
BEGIN:STANDARD
TZOFFSETFROM:-0400
TZOFFSETTO:-0500
TZNAME:EST
DTSTART:20241103T060000
END:STANDARD
BEGIN:DAYLIGHT
TZOFFSETFROM:-0500
TZOFFSETTO:-0400
TZNAME:EDT
DTSTART:20250309T070000
END:DAYLIGHT
BEGIN:STANDARD
TZOFFSETFROM:-0400
TZOFFSETTO:-0500
TZNAME:EST
DTSTART:20251102T060000
END:STANDARD
END:VTIMEZONE
BEGIN:VEVENT
DTSTART;VALUE=DATE:20240823
DTEND;VALUE=DATE:20240826
DTSTAMP:20260424T212519
CREATED:20240523T050528Z
LAST-MODIFIED:20240604T215044Z
UID:10000060-1724371200-1724630399@usmvmcgastate.com
SUMMARY:Midwest Mayhem 23rd - 25th
DESCRIPTION:We want to see as many brothers as possible come to the event so we lowered the cost of admission to $20 per person with pre-registration\, and $35 at the door.  This is right between the Ohio Bash and SW Rendezvous.  Camping is included with limited electrical hookups for campers at a small fee (quiet generators recommended).   FREE KAZOOS!\nWe have the entire Kettle Moraine ranch to ourselves (horse back riding will be available).
URL:https://usmvmcgastate.com/calendar/midwest-mayhem-23rd-25th/
LOCATION:Kettle Moraine Ranch\, W379S9674 CTH-S\, Eagle\, WI\, 53119\, United States
END:VEVENT
END:VCALENDAR