BEGIN:VCALENDAR
VERSION:2.0
PRODID:-// - ECPv6.15.20//NONSGML v1.0//EN
CALSCALE:GREGORIAN
METHOD:PUBLISH
X-ORIGINAL-URL:https://usmvmcgastate.com
X-WR-CALDESC:Events for 
REFRESH-INTERVAL;VALUE=DURATION:PT1H
X-Robots-Tag:noindex
X-PUBLISHED-TTL:PT1H
BEGIN:VTIMEZONE
TZID:America/New_York
BEGIN:DAYLIGHT
TZOFFSETFROM:-0500
TZOFFSETTO:-0400
TZNAME:EDT
DTSTART:20230312T070000
END:DAYLIGHT
BEGIN:STANDARD
TZOFFSETFROM:-0400
TZOFFSETTO:-0500
TZNAME:EST
DTSTART:20231105T060000
END:STANDARD
BEGIN:DAYLIGHT
TZOFFSETFROM:-0500
TZOFFSETTO:-0400
TZNAME:EDT
DTSTART:20240310T070000
END:DAYLIGHT
BEGIN:STANDARD
TZOFFSETFROM:-0400
TZOFFSETTO:-0500
TZNAME:EST
DTSTART:20241103T060000
END:STANDARD
BEGIN:DAYLIGHT
TZOFFSETFROM:-0500
TZOFFSETTO:-0400
TZNAME:EDT
DTSTART:20250309T070000
END:DAYLIGHT
BEGIN:STANDARD
TZOFFSETFROM:-0400
TZOFFSETTO:-0500
TZNAME:EST
DTSTART:20251102T060000
END:STANDARD
BEGIN:DAYLIGHT
TZOFFSETFROM:-0500
TZOFFSETTO:-0400
TZNAME:EDT
DTSTART:20260308T070000
END:DAYLIGHT
BEGIN:STANDARD
TZOFFSETFROM:-0400
TZOFFSETTO:-0500
TZNAME:EST
DTSTART:20261101T060000
END:STANDARD
END:VTIMEZONE
BEGIN:VEVENT
DTSTART;TZID=America/New_York:20250906T120000
DTEND;TZID=America/New_York:20250906T170000
DTSTAMP:20260425T110844
CREATED:20250323T041725Z
LAST-MODIFIED:20250801T152047Z
UID:10000386-1757160000-1757178000@usmvmcgastate.com
SUMMARY:Maine State Annual
DESCRIPTION:Maine State will hold their annual Saturday September 6 in Acton Maine at 1200hrs.\n Location: Iron Tails Saloon Rt. 109\, Acton\, Maine
URL:https://usmvmcgastate.com/calendar/mains-state-annual/
LOCATION:Iron Tails Saloon\, 559 Route 109\, acton\, ME\, 04001\, United States
END:VEVENT
BEGIN:VEVENT
DTSTART;VALUE=DATE:20240907
DTEND;VALUE=DATE:20240908
DTSTAMP:20260425T110844
CREATED:20240523T050541Z
LAST-MODIFIED:20240903T034801Z
UID:10000068-1725667200-1725753599@usmvmcgastate.com
SUMMARY:Maine State Annual
DESCRIPTION:Maines 10th annual September 7 at Iron Tails Saloon\n1200 hrs to when ever! No charge\,iron tails has a great menu. Raffles\,50/50 an most of all Brotherhood! All donations to be donated to veteran families in need for Christmas.\nFor any brothers attending an heading up to Wreaths Across America for Chapter 100 annual an tagging we will be rolling out Sunday morning September 8 an tagging on the 9th.\nThis year will be special\,the Maine chapter will be donating an old Sporty (HD) to be set up an anchored to a foundation where tagging for our brothers. This has been in the works for awhile an it’s finally gonna happen!\nHotels for Maine annual\nPort Inn\n55 York St Kennebunk Me (207)-261-5490\n\nQuality inn\n1892 Main st Sanford ME (207)-261-5128\nThese are the cheapest we are along the coast line everything is expensive.\n\nTag-A-Tree chapter 100 annual September 8/9\nLog cabin reservations\nFlagpolecabins.com\nOr contact Flanker (813)-690-2571
URL:https://usmvmcgastate.com/calendar/maine-state-annual/
LOCATION:Iron Tails Saloon\, 559 Route 109\, acton\, ME\, 04001\, United States
END:VEVENT
END:VCALENDAR