BEGIN:VCALENDAR
VERSION:2.0
PRODID:-// - ECPv6.15.20//NONSGML v1.0//EN
CALSCALE:GREGORIAN
METHOD:PUBLISH
X-ORIGINAL-URL:https://usmvmcgastate.com
X-WR-CALDESC:Events for 
REFRESH-INTERVAL;VALUE=DURATION:PT1H
X-Robots-Tag:noindex
X-PUBLISHED-TTL:PT1H
BEGIN:VTIMEZONE
TZID:America/New_York
BEGIN:DAYLIGHT
TZOFFSETFROM:-0500
TZOFFSETTO:-0400
TZNAME:EDT
DTSTART:20250309T070000
END:DAYLIGHT
BEGIN:STANDARD
TZOFFSETFROM:-0400
TZOFFSETTO:-0500
TZNAME:EST
DTSTART:20251102T060000
END:STANDARD
BEGIN:DAYLIGHT
TZOFFSETFROM:-0500
TZOFFSETTO:-0400
TZNAME:EDT
DTSTART:20260308T070000
END:DAYLIGHT
BEGIN:STANDARD
TZOFFSETFROM:-0400
TZOFFSETTO:-0500
TZNAME:EST
DTSTART:20261101T060000
END:STANDARD
BEGIN:DAYLIGHT
TZOFFSETFROM:-0500
TZOFFSETTO:-0400
TZNAME:EDT
DTSTART:20270314T070000
END:DAYLIGHT
BEGIN:STANDARD
TZOFFSETFROM:-0400
TZOFFSETTO:-0500
TZNAME:EST
DTSTART:20271107T060000
END:STANDARD
END:VTIMEZONE
BEGIN:VEVENT
DTSTART;VALUE=DATE:20260814
DTEND;VALUE=DATE:20260817
DTSTAMP:20260419T112336
CREATED:20251208T192105Z
LAST-MODIFIED:20260203T204313Z
UID:10000534-1786665600-1786924799@usmvmcgastate.com
SUMMARY:NC Combined Annual
DESCRIPTION:This year is North Carolina’s 20th Anniversary and one party that you won’t want to miss.  We will be having our combined annual at the Iron Horse Motorcycle Lodge in Stecoah NC Aug 14-16. If you’re wondering where that is\, it’s over in the mountains of western North Carolina. Make your reservations before April 1st and get 30% off!  DO NOT try to book online.  Our weekend is blocked for us and the only way to make your reservation is to email or text.\n\n      This is an adult only motorcycle resort\, NO ONE under 21 and NO outside alcohol. We do have a well stocked bar but if there is a particular flavor you crave just email us and we’ll do our best to have it there.\n\n      If you make your reservations before April 1 and tell them you’re with USMVMC\, you’ll get 30% off the lodging.  After that they open up that weekend for anybody.  Not to be greedy but we want the whole place to ourselves so get your reservations in.\n\n     As always the bar opens up by noon on Friday and goes until we pack up Sunday morning. There is a small creek so we will be having our famous duck races as well as some bike games\, a burnout trailer and raffles.\n\n      This place is pretty legit\, it has a bunch of cabins\, RV parking\, tent camping\, bunk house and even a few replica covered wagons. There is a lodge where you’ll get breakfast and dinner that also serves as hang out space (air conditioned). Breakfast and Dinner are ordered through the lodge. They do not serve lunch\, but don’t worry we will.\n\n    This time of year is pretty slow for them\, they are a motorcycle resort after all and it’s winter\, so they are not fully staffed. To make reservations email them at information@ironhorsenc.com or TEXT 1-828-735-6174. Yes this is a different number than what is on their website\, again\, not fully staffed right now. Sonia the office manager will call you back to make your reservation so if you have one of those j-o-b things and can’t be reached at a certain time you have to tell them that.\n\n      Here’s a map of their facilities so you can get an idea of which cabin you want to rent. Their website has all the details and pics for each. Email me back at usmvmc.northcarolina1@gmail.com if you have any questions or issues. DId I mention that it’s only minutes away from the Tail of the Dragon?
URL:https://usmvmcgastate.com/calendar/nc-1-20th-anniversary-and-nc-combined-annual/
LOCATION:Iron Horse Motorcycle Lodge\, 1755 Lower Stecoah Road\, Robbinsville\, NC\, 28771\, United States
END:VEVENT
END:VCALENDAR