BEGIN:VCALENDAR
VERSION:2.0
PRODID:-// - ECPv6.15.20//NONSGML v1.0//EN
CALSCALE:GREGORIAN
METHOD:PUBLISH
X-ORIGINAL-URL:https://usmvmcgastate.com
X-WR-CALDESC:Events for 
REFRESH-INTERVAL;VALUE=DURATION:PT1H
X-Robots-Tag:noindex
X-PUBLISHED-TTL:PT1H
BEGIN:VTIMEZONE
TZID:America/New_York
BEGIN:DAYLIGHT
TZOFFSETFROM:-0500
TZOFFSETTO:-0400
TZNAME:EDT
DTSTART:20250309T070000
END:DAYLIGHT
BEGIN:STANDARD
TZOFFSETFROM:-0400
TZOFFSETTO:-0500
TZNAME:EST
DTSTART:20251102T060000
END:STANDARD
BEGIN:DAYLIGHT
TZOFFSETFROM:-0500
TZOFFSETTO:-0400
TZNAME:EDT
DTSTART:20260308T070000
END:DAYLIGHT
BEGIN:STANDARD
TZOFFSETFROM:-0400
TZOFFSETTO:-0500
TZNAME:EST
DTSTART:20261101T060000
END:STANDARD
BEGIN:DAYLIGHT
TZOFFSETFROM:-0500
TZOFFSETTO:-0400
TZNAME:EDT
DTSTART:20270314T070000
END:DAYLIGHT
BEGIN:STANDARD
TZOFFSETFROM:-0400
TZOFFSETTO:-0500
TZNAME:EST
DTSTART:20271107T060000
END:STANDARD
END:VTIMEZONE
BEGIN:VEVENT
DTSTART;VALUE=DATE:20260904
DTEND;VALUE=DATE:20260907
DTSTAMP:20260423T055903
CREATED:20260119T180837Z
LAST-MODIFIED:20260119T180837Z
UID:10000560-1788480000-1788739199@usmvmcgastate.com
SUMMARY:IN-10 (Notorious X) Encampment
DESCRIPTION:Notorious X (IN-10) would like to invite you to our Annual/Encampment September 4-5-6\, 2026! \nThis is a Family Friendly Event to share some Brotherhood and our Families (NO not sharing wife’s… you know what I mean! LOL). Anyway\, it will be at the same place as the last two years in Mansfield IN… the heart of Covered Bridges! Also if you have a Mini-Bike bring it\, we have some awesome mini-bike games open to all! \nWe’ll have a Bonfire\, BLT’s and Breakfast for free… want more\, there’s a Bar/Grill on site with awesome food and beverages at very reasonable prices. They will also have a live band. \nElectrical hookups are $30 for the weekend so Pack up your Camper and Family and let’s enjoy a great weekend together!
URL:https://usmvmcgastate.com/calendar/in-10-notorious-x-encampment/
LOCATION:IN-10 Encampment\, 6068 Mill Rd.\, corbon\, IN\, 47837\, United States
END:VEVENT
END:VCALENDAR