BEGIN:VCALENDAR
VERSION:2.0
PRODID:-// - ECPv6.15.20//NONSGML v1.0//EN
CALSCALE:GREGORIAN
METHOD:PUBLISH
X-ORIGINAL-URL:https://usmvmcgastate.com
X-WR-CALDESC:Events for 
REFRESH-INTERVAL;VALUE=DURATION:PT1H
X-Robots-Tag:noindex
X-PUBLISHED-TTL:PT1H
BEGIN:VTIMEZONE
TZID:America/New_York
BEGIN:DAYLIGHT
TZOFFSETFROM:-0500
TZOFFSETTO:-0400
TZNAME:EDT
DTSTART:20240310T070000
END:DAYLIGHT
BEGIN:STANDARD
TZOFFSETFROM:-0400
TZOFFSETTO:-0500
TZNAME:EST
DTSTART:20241103T060000
END:STANDARD
BEGIN:DAYLIGHT
TZOFFSETFROM:-0500
TZOFFSETTO:-0400
TZNAME:EDT
DTSTART:20250309T070000
END:DAYLIGHT
BEGIN:STANDARD
TZOFFSETFROM:-0400
TZOFFSETTO:-0500
TZNAME:EST
DTSTART:20251102T060000
END:STANDARD
BEGIN:DAYLIGHT
TZOFFSETFROM:-0500
TZOFFSETTO:-0400
TZNAME:EDT
DTSTART:20260308T070000
END:DAYLIGHT
BEGIN:STANDARD
TZOFFSETFROM:-0400
TZOFFSETTO:-0500
TZNAME:EST
DTSTART:20261101T060000
END:STANDARD
BEGIN:DAYLIGHT
TZOFFSETFROM:-0500
TZOFFSETTO:-0400
TZNAME:EDT
DTSTART:20270314T070000
END:DAYLIGHT
BEGIN:STANDARD
TZOFFSETFROM:-0400
TZOFFSETTO:-0500
TZNAME:EST
DTSTART:20271107T060000
END:STANDARD
END:VTIMEZONE
BEGIN:VEVENT
DTSTART;VALUE=DATE:20260304
DTEND;VALUE=DATE:20260308
DTSTAMP:20260420T194640
CREATED:20251216T030220Z
LAST-MODIFIED:20260115T210546Z
UID:10000536-1772582400-1772927999@usmvmcgastate.com
SUMMARY:FLA-6 28th Daytona Annual
DESCRIPTION:FLA-6 28th Daytona Annual Saturday 7 March \nThe Clubhouse will be open Daily starting at Noon Wednesday thru Saturday.
URL:https://usmvmcgastate.com/calendar/fla-6-daytona-annual-2/
LOCATION:FLA-6 Daytona Club House\, 358 8th Street\, Holly Hill\, United States
END:VEVENT
BEGIN:VEVENT
DTSTART;TZID=America/New_York:20250607T100000
DTEND;TZID=America/New_York:20250607T170000
DTSTAMP:20260420T194640
CREATED:20250528T150926Z
LAST-MODIFIED:20250528T151123Z
UID:10000412-1749290400-1749315600@usmvmcgastate.com
SUMMARY:FLA-6 Doc Holiday‘s poker run
DESCRIPTION:On June 7\, we are having our memorial poker run for cancer in support of Doc Holiday. It’s a way of us remembering him.
URL:https://usmvmcgastate.com/calendar/fla-6-doc-holidays-poker-run/
LOCATION:Sportsmen’s Den\, 1184 N Nova Rd\, Daytona Beach\, FL\, 32117\, United States
END:VEVENT
END:VCALENDAR