BEGIN:VCALENDAR
VERSION:2.0
PRODID:-// - ECPv6.15.20//NONSGML v1.0//EN
CALSCALE:GREGORIAN
METHOD:PUBLISH
X-ORIGINAL-URL:https://usmvmcgastate.com
X-WR-CALDESC:Events for 
REFRESH-INTERVAL;VALUE=DURATION:PT1H
X-Robots-Tag:noindex
X-PUBLISHED-TTL:PT1H
BEGIN:VTIMEZONE
TZID:America/New_York
BEGIN:DAYLIGHT
TZOFFSETFROM:-0500
TZOFFSETTO:-0400
TZNAME:EDT
DTSTART:20240310T070000
END:DAYLIGHT
BEGIN:STANDARD
TZOFFSETFROM:-0400
TZOFFSETTO:-0500
TZNAME:EST
DTSTART:20241103T060000
END:STANDARD
BEGIN:DAYLIGHT
TZOFFSETFROM:-0500
TZOFFSETTO:-0400
TZNAME:EDT
DTSTART:20250309T070000
END:DAYLIGHT
BEGIN:STANDARD
TZOFFSETFROM:-0400
TZOFFSETTO:-0500
TZNAME:EST
DTSTART:20251102T060000
END:STANDARD
BEGIN:DAYLIGHT
TZOFFSETFROM:-0500
TZOFFSETTO:-0400
TZNAME:EDT
DTSTART:20260308T070000
END:DAYLIGHT
BEGIN:STANDARD
TZOFFSETFROM:-0400
TZOFFSETTO:-0500
TZNAME:EST
DTSTART:20261101T060000
END:STANDARD
BEGIN:DAYLIGHT
TZOFFSETFROM:-0500
TZOFFSETTO:-0400
TZNAME:EDT
DTSTART:20270314T070000
END:DAYLIGHT
BEGIN:STANDARD
TZOFFSETFROM:-0400
TZOFFSETTO:-0500
TZNAME:EST
DTSTART:20271107T060000
END:STANDARD
END:VTIMEZONE
BEGIN:VEVENT
DTSTART;TZID=America/New_York:20260417T190000
DTEND;TZID=America/New_York:20260417T230000
DTSTAMP:20260419T114122
CREATED:20250614T183207Z
LAST-MODIFIED:20250627T182413Z
UID:10000462-1776452400-1776466800@usmvmcgastate.com
SUMMARY:FLA-6 Daytona Brotherhood Night
DESCRIPTION:FLA-6 Daytona Brotherhood Night on the Third Friday of every Month starting at 1900hrs. \nLocation: FLA-6 Clubhouse 358 8th Street Holly Hill FL. 32117
URL:https://usmvmcgastate.com/calendar/fla-6-daytona-open-house/2026-04-17/
LOCATION:FLA-6 Club House\, 358 8th Street\, Holly Hill\, FL\, United States
END:VEVENT
BEGIN:VEVENT
DTSTART;TZID=America/New_York:20250412T093000
DTEND;TZID=America/New_York:20250412T170000
DTSTAMP:20260419T114122
CREATED:20250328T233116Z
LAST-MODIFIED:20250328T233116Z
UID:10000389-1744450200-1744477200@usmvmcgastate.com
SUMMARY:COL for FLA-6 Brother Studs
DESCRIPTION:This is the information we have for the celebration of life for our brother at the chapter 6 Clubhouse here in Daytona Beach. April 12 we will open the clubhouse at 9:30 AM. The celebration of life will be between 1030 and 1130. No later than 12. After that\, we will be rolling over to chapter 14 annual. We will have the honor guard present for the ceremony. It’s an honor to have this at our clubhouse and we will also be posting his colors on the chapter 100 wall and lighting him up. Much love and respect.
URL:https://usmvmcgastate.com/calendar/col-for-fla-6-brother-studs/
LOCATION:FLA-6 Club House\, 358 8th Street\, Holly Hill\, FL\, United States
END:VEVENT
BEGIN:VEVENT
DTSTART;TZID=America/New_York:20250308T110000
DTEND;TZID=America/New_York:20250308T233000
DTSTAMP:20260419T114122
CREATED:20250117T213125Z
LAST-MODIFIED:20250117T213125Z
UID:10000252-1741431600-1741476600@usmvmcgastate.com
SUMMARY:FLA-6 Daytona Annual
DESCRIPTION:
URL:https://usmvmcgastate.com/calendar/fla-6-daytona-annual/
LOCATION:FLA-6 Club House\, 358 8th Street\, Holly Hill\, FL\, United States
END:VEVENT
END:VCALENDAR