BEGIN:VCALENDAR
VERSION:2.0
PRODID:-// - ECPv6.15.20//NONSGML v1.0//EN
CALSCALE:GREGORIAN
METHOD:PUBLISH
X-ORIGINAL-URL:https://usmvmcgastate.com
X-WR-CALDESC:Events for 
REFRESH-INTERVAL;VALUE=DURATION:PT1H
X-Robots-Tag:noindex
X-PUBLISHED-TTL:PT1H
BEGIN:VTIMEZONE
TZID:America/New_York
BEGIN:DAYLIGHT
TZOFFSETFROM:-0500
TZOFFSETTO:-0400
TZNAME:EDT
DTSTART:20230312T070000
END:DAYLIGHT
BEGIN:STANDARD
TZOFFSETFROM:-0400
TZOFFSETTO:-0500
TZNAME:EST
DTSTART:20231105T060000
END:STANDARD
BEGIN:DAYLIGHT
TZOFFSETFROM:-0500
TZOFFSETTO:-0400
TZNAME:EDT
DTSTART:20240310T070000
END:DAYLIGHT
BEGIN:STANDARD
TZOFFSETFROM:-0400
TZOFFSETTO:-0500
TZNAME:EST
DTSTART:20241103T060000
END:STANDARD
BEGIN:DAYLIGHT
TZOFFSETFROM:-0500
TZOFFSETTO:-0400
TZNAME:EDT
DTSTART:20250309T070000
END:DAYLIGHT
BEGIN:STANDARD
TZOFFSETFROM:-0400
TZOFFSETTO:-0500
TZNAME:EST
DTSTART:20251102T060000
END:STANDARD
END:VTIMEZONE
BEGIN:VEVENT
DTSTART;TZID=America/New_York:20241123T103000
DTEND;TZID=America/New_York:20241123T140000
DTSTAMP:20260421T093833
CREATED:20241119T191420Z
LAST-MODIFIED:20241119T191537Z
UID:10000178-1732357800-1732370400@usmvmcgastate.com
SUMMARY:FLA-13 COL for Brother Wolverine
DESCRIPTION:As an update to the passing of Brother Wolverine\, his COL is scheduled for this Saturday\, 23 Nov 24. \nLucky 13 will go KSU from our club house to location of his COL at 1030 hrs. \nOur clubhouse address is: \n6963 Old NASA Blvd. \nMelbourne FL.\, 32904 \nServices will start at 1130 hrs. at : \nLou’s Blues \n3191 N Hwy A1A \nIndialantic\, FL 32903 \nYour Brothers of Lucky 13 look forward to seeing our Brothers. We just wish this was under better circumstances. \nL&R
URL:https://usmvmcgastate.com/calendar/fla-13-col-for-brother-wolverine/
LOCATION:FLA-13 Clubhouse\, 6963 Old NASA Blvd.\, Melbourne\, FL\, 32904\, United States
END:VEVENT
END:VCALENDAR