BEGIN:VCALENDAR
VERSION:2.0
PRODID:-// - ECPv6.15.20//NONSGML v1.0//EN
CALSCALE:GREGORIAN
METHOD:PUBLISH
X-ORIGINAL-URL:https://usmvmcgastate.com
X-WR-CALDESC:Events for 
REFRESH-INTERVAL;VALUE=DURATION:PT1H
X-Robots-Tag:noindex
X-PUBLISHED-TTL:PT1H
BEGIN:VTIMEZONE
TZID:America/New_York
BEGIN:DAYLIGHT
TZOFFSETFROM:-0500
TZOFFSETTO:-0400
TZNAME:EDT
DTSTART:20240310T070000
END:DAYLIGHT
BEGIN:STANDARD
TZOFFSETFROM:-0400
TZOFFSETTO:-0500
TZNAME:EST
DTSTART:20241103T060000
END:STANDARD
BEGIN:DAYLIGHT
TZOFFSETFROM:-0500
TZOFFSETTO:-0400
TZNAME:EDT
DTSTART:20250309T070000
END:DAYLIGHT
BEGIN:STANDARD
TZOFFSETFROM:-0400
TZOFFSETTO:-0500
TZNAME:EST
DTSTART:20251102T060000
END:STANDARD
BEGIN:DAYLIGHT
TZOFFSETFROM:-0500
TZOFFSETTO:-0400
TZNAME:EDT
DTSTART:20260308T070000
END:DAYLIGHT
BEGIN:STANDARD
TZOFFSETFROM:-0400
TZOFFSETTO:-0500
TZNAME:EST
DTSTART:20261101T060000
END:STANDARD
END:VTIMEZONE
BEGIN:VEVENT
DTSTART;TZID=America/New_York:20250405T100000
DTEND;TZID=America/New_York:20250405T150000
DTSTAMP:20260425T181625
CREATED:20241215T172946Z
LAST-MODIFIED:20241215T173620Z
UID:10000203-1743847200-1743865200@usmvmcgastate.com
SUMMARY:OK State No More 22 Ride
DESCRIPTION:We have secured the same hotel as last year.  If you want to use the link to do everything online it is below. If you want to call the hotel use the code USMV22 to get the special rate of $94.25 per night. All rooms have to be reserved NLT 10 March 2025 to get the reduced rate.\nBook your group rate for USMV22\nThere are several restaurants in the area near the hotel and it is only 1.8 miles from the Clubhouse.  All of the restaurants listed below are within 5 miles of the Clubhouse and hotel.\nBricktown Brewery – Offers local craft beers and a variety menu\nCracker Barrel – Home style southern cooking\nBoomerang Diner – 50’s style Diner\nBen & Jay’s Pizzeria\nBack Porch Drafthouse – Local craft beers and a  variety menu\nTu Familia – Mexican Restaurant and great Perfect Margaritas\nSalas Cantina – TexMex\n360 Restaurant in Apache Casino –  High class dining for Lawton\, Oklahoma\nTourist ideas while in Lawton also\nMuseum of the Great Plains\nMaddie Beal House (2 blocks from CH)\nWildlife Refuge ( You can see the Buffalo roam\, BUT DON’T TRY TO PET THE FLUFFY COWS!!!!!)\nHistoric Medicine Park ( Big deal in the 20s when gangsters started a summer getaway location)\nMount Scott for sceninc overview of TEXOMA (Texas and Oklahoma) Also a cool ride up and down the mountain!\nHoly City\nField Artillery Museum (Located on Ft Sill so leave the Pew Pew in the hotel)\nElmer Thomas Park – Many Veteran monuments (The one we are proud of is the Gold Star Family as we were a big part of helping bring one to Lawton)\nDiamondback Harley Davidson is half a mile from the hotel if you need maintenance or repairs\, or just want to shop.  (Military town so be sure and get your Veteran discount!)
URL:https://usmvmcgastate.com/calendar/ok-state-no-more-22-ride/
LOCATION:Diamonback HD\, 301 SE Interstate Dr\, Lawton\, OK\, 73501\, United States
END:VEVENT
END:VCALENDAR