BEGIN:VCALENDAR
VERSION:2.0
PRODID:-// - ECPv6.15.20//NONSGML v1.0//EN
CALSCALE:GREGORIAN
METHOD:PUBLISH
X-ORIGINAL-URL:https://usmvmcgastate.com
X-WR-CALDESC:Events for 
REFRESH-INTERVAL;VALUE=DURATION:PT1H
X-Robots-Tag:noindex
X-PUBLISHED-TTL:PT1H
BEGIN:VTIMEZONE
TZID:America/New_York
BEGIN:DAYLIGHT
TZOFFSETFROM:-0500
TZOFFSETTO:-0400
TZNAME:EDT
DTSTART:20230312T070000
END:DAYLIGHT
BEGIN:STANDARD
TZOFFSETFROM:-0400
TZOFFSETTO:-0500
TZNAME:EST
DTSTART:20231105T060000
END:STANDARD
BEGIN:DAYLIGHT
TZOFFSETFROM:-0500
TZOFFSETTO:-0400
TZNAME:EDT
DTSTART:20240310T070000
END:DAYLIGHT
BEGIN:STANDARD
TZOFFSETFROM:-0400
TZOFFSETTO:-0500
TZNAME:EST
DTSTART:20241103T060000
END:STANDARD
BEGIN:DAYLIGHT
TZOFFSETFROM:-0500
TZOFFSETTO:-0400
TZNAME:EDT
DTSTART:20250309T070000
END:DAYLIGHT
BEGIN:STANDARD
TZOFFSETFROM:-0400
TZOFFSETTO:-0500
TZNAME:EST
DTSTART:20251102T060000
END:STANDARD
END:VTIMEZONE
BEGIN:VEVENT
DTSTART;TZID=America/New_York:20241220T140000
DTEND;TZID=America/New_York:20241220T170000
DTSTAMP:20260423T120817
CREATED:20240906T222853Z
LAST-MODIFIED:20241205T184737Z
UID:10000139-1734703200-1734714000@usmvmcgastate.com
SUMMARY:VA-4 Brother Toe Tag laid to rest at Arlington National Cemetery
DESCRIPTION:VA4\, Culpeper President Toe Tag will be laid to rest at Arlington National Cemetery on Friday afternoon\, 20 December. His Celebration of Life will be held on Saturday\, 21 December at American Legion Post #364 in Woodbridge\, VA from 1-5pm. \nUPDATE: In August of this year\, the nation lost a leader\, we lost a brother\, a lot of us lost a friend\, the country a patriot\, a veteran and great person.  None of this compares to the loss of that his family is feeling.  Brother Toetag is being missed each day by his wife Gumby (Sarah)\, his children\, his grandkids and by us\, his brothers.  His family got to see how we\, as a Nation\, loved\, honored\, and respected Toetag at his funeral on August 20th of this year.  They didn’t get to experience how we interacted with him\, the memories that we made with him\, the lasting impression he made on us\, how we sought his leadership\, his friendship\, his brotherhood and his contagious being. \nOn December 20th\, our Great Nation will honor our brother\, David “ToeTag”\, with his interment at Arlington National Cemetery.  For those in the Eagle Nation wishing to pay their respects at ToeTag’s burial\, you will need to be at the Arlington National Cemetery Administration Building no later than 2:15PM on Friday\, 20 December to stage for the procession to the burial plot. NOTE: When approaching the guards on Memorial Drive\, show your ID and advise the guards that you are heading to the Administration Building for David Back’s interment/burial. As a reminder\, ANC is federal land and a “no-carry” policy is enforced.\nOn December 21st (1-5PM) the Virginia Brothers\, will host a Celebration of Life at the American Legion Post 364 (3640 Friendly Post Lane\, Woodbridge\, VA 22193).  This celebration will be a time to remember\, celebrate and toast our brother\, as he will be mssed\, but never forgotten.\n\nWe invite all brothers to share a memory or memories of Brother ToeTag in written form. A memory barrel will be made available to deposit these memories into at the COL.  For the brothers that are unable to attend\, we invite you to email your memory(s) to toetagmemory@outlook.com.  Emailed memories will be printed and deposited into the memory Barrel on your behalf\, these memories will be presented to Gumby\, for her and the family to read at their leisure and to learn what he meant to all of us. We ask that you forward any memories prior to December 20\, and identify the memory with your Roadname and Chapter Designation. (i.e. Hooch\, VA3)\n\nIn addition\, if you have photos of ToeTag which you would like displayed at the COL\, please send directly to Hooch or Raider. We need as many as possible.
URL:https://usmvmcgastate.com/calendar/va-4-brother-toe-tag-laid-to-rest-at-arlington-national-cemetery/
LOCATION:Arlington National Cemetery\, 1 Memorial Ave\, Arlington\, VA\, United States
END:VEVENT
END:VCALENDAR