BEGIN:VCALENDAR
VERSION:2.0
PRODID:-// - ECPv6.15.20//NONSGML v1.0//EN
CALSCALE:GREGORIAN
METHOD:PUBLISH
X-ORIGINAL-URL:https://usmvmcgastate.com
X-WR-CALDESC:Events for 
REFRESH-INTERVAL;VALUE=DURATION:PT1H
X-Robots-Tag:noindex
X-PUBLISHED-TTL:PT1H
BEGIN:VTIMEZONE
TZID:America/New_York
BEGIN:DAYLIGHT
TZOFFSETFROM:-0500
TZOFFSETTO:-0400
TZNAME:EDT
DTSTART:20230312T070000
END:DAYLIGHT
BEGIN:STANDARD
TZOFFSETFROM:-0400
TZOFFSETTO:-0500
TZNAME:EST
DTSTART:20231105T060000
END:STANDARD
BEGIN:DAYLIGHT
TZOFFSETFROM:-0500
TZOFFSETTO:-0400
TZNAME:EDT
DTSTART:20240310T070000
END:DAYLIGHT
BEGIN:STANDARD
TZOFFSETFROM:-0400
TZOFFSETTO:-0500
TZNAME:EST
DTSTART:20241103T060000
END:STANDARD
BEGIN:DAYLIGHT
TZOFFSETFROM:-0500
TZOFFSETTO:-0400
TZNAME:EDT
DTSTART:20250309T070000
END:DAYLIGHT
BEGIN:STANDARD
TZOFFSETFROM:-0400
TZOFFSETTO:-0500
TZNAME:EST
DTSTART:20251102T060000
END:STANDARD
BEGIN:DAYLIGHT
TZOFFSETFROM:-0500
TZOFFSETTO:-0400
TZNAME:EDT
DTSTART:20260308T070000
END:DAYLIGHT
BEGIN:STANDARD
TZOFFSETFROM:-0400
TZOFFSETTO:-0500
TZNAME:EST
DTSTART:20261101T060000
END:STANDARD
END:VTIMEZONE
BEGIN:VEVENT
DTSTART;TZID=America/New_York:20250614T120000
DTEND;TZID=America/New_York:20250614T170000
DTSTAMP:20260419T200030
CREATED:20250421T182234Z
LAST-MODIFIED:20250421T182234Z
UID:10000400-1749902400-1749920400@usmvmcgastate.com
SUMMARY:PA7/PA4 Combined Crawfish boil/Pig Roast
DESCRIPTION:PA-4 PA-7 Annual Flyer! \nPA7 “Iron Forge” Annual Crawfish Boil &\nPA4 “Long Guns•� 20th Anniversary\nCombined Annual\nSaturday June 14\, 2025\nOPEN TO PUBLIC \n$25/Person-ALL YOU CAN EAT AND DRINK\nLocation: AmVets Post 293\, 2074 PA-72\, \nLebanon\, PA 17046 \nDoors open at NOON\, first batch out at 1PM and continues until food runs Out\nMENU \nCajun-style crawfish boil with potatoes\, corn\, and sausage and Pit Pulled Pork\nBeer and bottled water\nFor more information contact Bork:\n(717)368-4388 (text preferred) or email\nBork. USMVM C@gmail.com \nCash bar\, food-truck and other vendors also available
URL:https://usmvmcgastate.com/calendar/pa7-pa4-combined-crawfish-boil-pig-roast/
LOCATION:AmVets Post 293\, 2074 PA-72\, Lebanon\, PA\, 17046\, United States
END:VEVENT
BEGIN:VEVENT
DTSTART;TZID=America/New_York:20240608T130000
DTEND;TZID=America/New_York:20240608T210000
DTSTAMP:20260419T200030
CREATED:20240523T050316Z
LAST-MODIFIED:20240601T033721Z
UID:10000029-1717851600-1717880400@usmvmcgastate.com
SUMMARY:PA7's annual crawfish boil
DESCRIPTION:PA7 Crawfish Boil \n  \nPA7’s annual crawfish boil will be Saturday the 8th of June starting at 1300.\nLocation: AmVets Post 293\, 2074 PA-72\, Lebanon\, PA 17046\nDoors open/first food served at 1PM and continues until food runs out. \nPlease note\, if you are coming\, and you are traveling to the Lebanon AMVETS from the north (traveling south on PA 72) please be advised that the bridge just north of the AMVETS is closed for repairs.  There are detour signs\, and Google Maps (& Waze?) is aware of the bridge shutdown.  Between the detour signs and a directions app you should be in good shape.
URL:https://usmvmcgastate.com/calendar/pa7s-annual-crawfish-boil/
LOCATION:AmVets Post 293\, 2074 PA-72\, Lebanon\, PA\, 17046\, United States
END:VEVENT
END:VCALENDAR