BEGIN:VCALENDAR
VERSION:2.0
PRODID:-// - ECPv6.15.20//NONSGML v1.0//EN
CALSCALE:GREGORIAN
METHOD:PUBLISH
X-ORIGINAL-URL:https://usmvmcgastate.com
X-WR-CALDESC:Events for 
REFRESH-INTERVAL;VALUE=DURATION:PT1H
X-Robots-Tag:noindex
X-PUBLISHED-TTL:PT1H
BEGIN:VTIMEZONE
TZID:America/New_York
BEGIN:DAYLIGHT
TZOFFSETFROM:-0500
TZOFFSETTO:-0400
TZNAME:EDT
DTSTART:20240310T070000
END:DAYLIGHT
BEGIN:STANDARD
TZOFFSETFROM:-0400
TZOFFSETTO:-0500
TZNAME:EST
DTSTART:20241103T060000
END:STANDARD
BEGIN:DAYLIGHT
TZOFFSETFROM:-0500
TZOFFSETTO:-0400
TZNAME:EDT
DTSTART:20250309T070000
END:DAYLIGHT
BEGIN:STANDARD
TZOFFSETFROM:-0400
TZOFFSETTO:-0500
TZNAME:EST
DTSTART:20251102T060000
END:STANDARD
BEGIN:DAYLIGHT
TZOFFSETFROM:-0500
TZOFFSETTO:-0400
TZNAME:EDT
DTSTART:20260308T070000
END:DAYLIGHT
BEGIN:STANDARD
TZOFFSETFROM:-0400
TZOFFSETTO:-0500
TZNAME:EST
DTSTART:20261101T060000
END:STANDARD
END:VTIMEZONE
BEGIN:VEVENT
DTSTART;TZID=America/New_York:20250426T100000
DTEND;TZID=America/New_York:20250426T170000
DTSTAMP:20260425T110904
CREATED:20240805T043612Z
LAST-MODIFIED:20250412T210039Z
UID:10000118-1745661600-1745686800@usmvmcgastate.com
SUMMARY:GA-14 5th Annual Linda Vaughan Memorial Cancer Sucks Poker Run
DESCRIPTION: The GA-14 5th Annual Linda Vaughan Memorial Cancer Sucks Poker Run will be on Saturday\, April 26th.\nWe are excited to see everyone and appreciate the support for this little family. Don’t forget that we’ll be partying with Stiff Six at their Open House on Friday\, the 25th as well!\nThis is our Annual\, Flyer Attached:
URL:https://usmvmcgastate.com/calendar/ga-14-5th-annual-linda-vaughan-memorial-cancer-sucks-poker-run/
LOCATION:American Legion Post 96\, 472 Main Street\, Warrenton\, GA\, United States
END:VEVENT
END:VCALENDAR