BEGIN:VCALENDAR
VERSION:2.0
PRODID:-// - ECPv6.15.20//NONSGML v1.0//EN
CALSCALE:GREGORIAN
METHOD:PUBLISH
X-ORIGINAL-URL:https://usmvmcgastate.com
X-WR-CALDESC:Events for 
REFRESH-INTERVAL;VALUE=DURATION:PT1H
X-Robots-Tag:noindex
X-PUBLISHED-TTL:PT1H
BEGIN:VTIMEZONE
TZID:America/New_York
BEGIN:DAYLIGHT
TZOFFSETFROM:-0500
TZOFFSETTO:-0400
TZNAME:EDT
DTSTART:20250309T070000
END:DAYLIGHT
BEGIN:STANDARD
TZOFFSETFROM:-0400
TZOFFSETTO:-0500
TZNAME:EST
DTSTART:20251102T060000
END:STANDARD
BEGIN:DAYLIGHT
TZOFFSETFROM:-0500
TZOFFSETTO:-0400
TZNAME:EDT
DTSTART:20260308T070000
END:DAYLIGHT
BEGIN:STANDARD
TZOFFSETFROM:-0400
TZOFFSETTO:-0500
TZNAME:EST
DTSTART:20261101T060000
END:STANDARD
BEGIN:DAYLIGHT
TZOFFSETFROM:-0500
TZOFFSETTO:-0400
TZNAME:EDT
DTSTART:20270314T070000
END:DAYLIGHT
BEGIN:STANDARD
TZOFFSETFROM:-0400
TZOFFSETTO:-0500
TZNAME:EST
DTSTART:20271107T060000
END:STANDARD
END:VTIMEZONE
BEGIN:VEVENT
DTSTART;TZID=America/New_York:20260425T100000
DTEND;TZID=America/New_York:20260425T160000
DTSTAMP:20260423T113427
CREATED:20260105T170312Z
LAST-MODIFIED:20260105T170407Z
UID:10000549-1777111200-1777132800@usmvmcgastate.com
SUMMARY:VA-4 Car and Bike Show
DESCRIPTION:VA-4 Car And Bike Show Flyer! \nWe are holding a Car and Bike Show with a Poker Run on 25 April 2026. So breakout your best ride for bragging rights.\n\nU.S. Military Vets Motorcycle Club Culpeper Chapter Car and Motorcycle Show And Poker Run \n25 April 2026 \nAt American Legion Post 330 \n14222 Rixeyville Rd \nCulpeper\, VA 22701 \nPoker Run 1st Bike out at 1000 Last Bike Out 1100 \nBest Hand Worst Hand
URL:https://usmvmcgastate.com/calendar/va-4-car-and-bike-show/
LOCATION:American Legion Post 330\, 14222 Rixeyville Rd\, Culpeper\, VA\, 22701\, United States
END:VEVENT
BEGIN:VEVENT
DTSTART;VALUE=DATE:20260626
DTEND;VALUE=DATE:20260629
DTSTAMP:20260423T113427
CREATED:20251005T064153Z
LAST-MODIFIED:20251005T064153Z
UID:10000500-1782432000-1782691199@usmvmcgastate.com
SUMMARY:Virginia Combined Annual and VA4 20 Year Celebration
DESCRIPTION:The Brothers of Virginia 4 (The Bastards) are inviting the Brothers of this great Nation to the Virginia combined annual celebrating VA4’s 20 Years as a Chapter. The festivities will be held at American Legion Post 330\, 14222 Rixeyville Rd\, Culpeper Va 22701.  26 – 28 June 2026. With a Meet and Greet Friday Night and festivities Saturday Starting at 1200.
URL:https://usmvmcgastate.com/calendar/virginia-combined-annual-and-va4-20-year-celebration/
LOCATION:American Legion Post 330\, 14222 Rixeyville Rd\, Culpeper\, VA\, 22701\, United States
END:VEVENT
END:VCALENDAR