BEGIN:VCALENDAR
VERSION:2.0
PRODID:-// - ECPv6.15.20//NONSGML v1.0//EN
CALSCALE:GREGORIAN
METHOD:PUBLISH
X-ORIGINAL-URL:https://usmvmcgastate.com
X-WR-CALDESC:Events for 
REFRESH-INTERVAL;VALUE=DURATION:PT1H
X-Robots-Tag:noindex
X-PUBLISHED-TTL:PT1H
BEGIN:VTIMEZONE
TZID:America/New_York
BEGIN:DAYLIGHT
TZOFFSETFROM:-0500
TZOFFSETTO:-0400
TZNAME:EDT
DTSTART:20250309T070000
END:DAYLIGHT
BEGIN:STANDARD
TZOFFSETFROM:-0400
TZOFFSETTO:-0500
TZNAME:EST
DTSTART:20251102T060000
END:STANDARD
BEGIN:DAYLIGHT
TZOFFSETFROM:-0500
TZOFFSETTO:-0400
TZNAME:EDT
DTSTART:20260308T070000
END:DAYLIGHT
BEGIN:STANDARD
TZOFFSETFROM:-0400
TZOFFSETTO:-0500
TZNAME:EST
DTSTART:20261101T060000
END:STANDARD
BEGIN:DAYLIGHT
TZOFFSETFROM:-0500
TZOFFSETTO:-0400
TZNAME:EDT
DTSTART:20270314T070000
END:DAYLIGHT
BEGIN:STANDARD
TZOFFSETFROM:-0400
TZOFFSETTO:-0500
TZNAME:EST
DTSTART:20271107T060000
END:STANDARD
END:VTIMEZONE
BEGIN:VEVENT
DTSTART;TZID=America/New_York:20260101T110000
DTEND;TZID=America/New_York:20260101T150000
DTSTAMP:20260419T094445
CREATED:20251021T232040Z
LAST-MODIFIED:20251216T014807Z
UID:10000512-1767265200-1767279600@usmvmcgastate.com
SUMMARY:VA-4 New Years Day Ride
DESCRIPTION:VA4 is planning for our annual Polar Bear Ride on 1 January 2026 and invites you to join us. Let’s start the New Year together with a ride\, brotherhood\, food and drink. This is a no cost ride\, with exception of your food and drink.\n\nThis year we will meet at the – Royal Farms gas station next to McDonalds (South bound side of Rt 29 across from Sheetz our old spot)\, Royal Farms @ 10088 James Madison Hwy\, Bealeton\, VA 22712 on the corner of Routes 15/29 and Route 17 in Opal at 1115 hrs with KSU at 1130 hrs.\n\n\nWith a change in policy at Hard Times Cafe\, we have changed the destination for our annual New Year’s Day Ride.\nWe will be stopping for Brotherhood at a Veteran Owed establishment\n\nSix Bears and A Goat\n1140 International Pkwy\nFredericksburg VA 22406
URL:https://usmvmcgastate.com/calendar/va-4-new-years-day-ride-2/
LOCATION:Royal Farms gas station\, 10088 James Madison Hwy\, Bealeton\, VA\, 22712\, United States
END:VEVENT
BEGIN:VEVENT
DTSTART;TZID=America/New_York:20260101T120000
DTEND;TZID=America/New_York:20260101T150000
DTSTAMP:20260419T094445
CREATED:20251116T172156Z
LAST-MODIFIED:20251116T172156Z
UID:10000520-1767268800-1767279600@usmvmcgastate.com
SUMMARY:GA New Years Day Ride
DESCRIPTION:We will Meet up at 1200 (Noon) at Bevricks Char House Grille 1055 Fortner Rd\, Metter\, GA 30439. \nFor a Nice relaxing Lunch and Brotherhood to start the New Year! \nBevricks is conveniently located Off of I-16 at exit 104 in Metter GA
URL:https://usmvmcgastate.com/calendar/ga-new-years-day-ride-2/
LOCATION:Bevricks\, 1055 Fortner Rd.\, Metter\, 30439\, United States
END:VEVENT
BEGIN:VEVENT
DTSTART;TZID=America/New_York:20260110T130000
DTEND;TZID=America/New_York:20260110T230000
DTSTAMP:20260419T094445
CREATED:20251205T011601Z
LAST-MODIFIED:20260105T170950Z
UID:10000526-1768050000-1768086000@usmvmcgastate.com
SUMMARY:FLA-10 Annual
DESCRIPTION:FLA-10\, Clubhouse will be open Friday from late afternoon and evening for a Meet and Greet!
URL:https://usmvmcgastate.com/calendar/fla-10-annual/
LOCATION:FLA-10 Clubhouse\, 36136 Emeralda Ave\, Leesburg\, FL\, 34788\, United States
END:VEVENT
BEGIN:VEVENT
DTSTART;VALUE=DATE:20260116
DTEND;VALUE=DATE:20260119
DTSTAMP:20260419T094445
CREATED:20251218T003135Z
LAST-MODIFIED:20260108T154739Z
UID:10000539-1768521600-1768780799@usmvmcgastate.com
SUMMARY:SC-3 'The Lost Boys'  ﻿﻿﻿Homeless Vets Donation Drive
DESCRIPTION:Homeless Vets Donation Drive\, Dates 16\,17\,18 January 2026 \nLocation: Beaufort South Carolina
URL:https://usmvmcgastate.com/calendar/sc-3-the-lost-boys-homeless-vets-donation-drive/
LOCATION:VFW Post 8760\, 37 castle rock road\, Beaufort\, SC\, 29906\, United States
END:VEVENT
BEGIN:VEVENT
DTSTART;TZID=America/New_York:20260116T190000
DTEND;TZID=America/New_York:20260116T230000
DTSTAMP:20260419T094445
CREATED:20250614T183207Z
LAST-MODIFIED:20250627T182413Z
UID:10000461-1768590000-1768604400@usmvmcgastate.com
SUMMARY:FLA-6 Daytona Brotherhood Night
DESCRIPTION:FLA-6 Daytona Brotherhood Night on the Third Friday of every Month starting at 1900hrs. \nLocation: FLA-6 Clubhouse 358 8th Street Holly Hill FL. 32117
URL:https://usmvmcgastate.com/calendar/fla-6-daytona-open-house/2026-01-16/
LOCATION:FLA-6 Club House\, 358 8th Street\, Holly Hill\, FL\, United States
END:VEVENT
BEGIN:VEVENT
DTSTART;VALUE=DATE:20260117
DTEND;VALUE=DATE:20260118
DTSTAMP:20260419T094445
CREATED:20251208T192658Z
LAST-MODIFIED:20251227T181127Z
UID:10000535-1768608000-1768694399@usmvmcgastate.com
SUMMARY:ND Below Zero Hero
DESCRIPTION:Happy Holidays to all our brother across this nation from North Dakota State.  We are coming up on our 19th annual Below Zero Hero ride.  Flyer will be coming out soon but I wanted to let everyone know some of the details so you guys that plan on coming can make reservations. Our ride is January 17th! \nHotel with blocks of rooms reserved: \nRamada Fargo- 701-935-1282\nBlock under US Military Vets Motorcycle Club. $119 a night \nYou can ask anyone who has been to this event\, it is a must do and a great weekend of brotherhood.  We will have the clubhouse open Friday evening to hangout and cause some shenanigans! \nFor those that want to do the ride but are flying in we have some bikes that you can use. We will make as many trips on our route as needed to make sure everyone gets the highly sought after BZH Patch!
URL:https://usmvmcgastate.com/calendar/nd-below-zero-hero/
LOCATION:M & Js Saloon ND\, 817 Main Ave W\,\, West Fargo\, ND\, 58078\, United States
END:VEVENT
BEGIN:VEVENT
DTSTART;VALUE=DATE:20260123
DTEND;VALUE=DATE:20260126
DTSTAMP:20260419T094445
CREATED:20250926T010943Z
LAST-MODIFIED:20260122T203421Z
UID:10000498-1769126400-1769385599@usmvmcgastate.com
SUMMARY:"CANCELLED' TX-8 Annual 'CANCELLED'
DESCRIPTION:***URGENT UPDATE***\nTX-8 has cancelled the Panhandle Freezeout Annual in Amarillo due to possible severe winter weather in the forecast.  We do not want any Brothers risking it to come and possibly getting stuck as well.\n\nWe do not know the severity of the weather\, but forecasting states it will be bad.\n\nPlease cancel any room reservations you might have made today so there is no charge to you.\n\nWe will post a new date when we determine it.\n\nStay warm and stay safe Brothers
URL:https://usmvmcgastate.com/calendar/tx-8-annual-panhandle-freezeout/
LOCATION:MA
END:VEVENT
BEGIN:VEVENT
DTSTART;VALUE=DATE:20260130
DTEND;VALUE=DATE:20260131
DTSTAMP:20260419T094445
CREATED:20251021T214856Z
LAST-MODIFIED:20260129T175641Z
UID:10000503-1769731200-1769817599@usmvmcgastate.com
SUMMARY:CANCELED! GA-6 Open House CANCELED!
DESCRIPTION:Canceled due to Weather and so the brothers can get their families prepared for the Winter Storm that is coming through this weekend. \nSee you all next month!
URL:https://usmvmcgastate.com/calendar/ga-6-open-house-7/
LOCATION:GA-6 Club House\, 4238 James Dr.\, Hephzibah\, 30815\, United States
END:VEVENT
BEGIN:VEVENT
DTSTART;TZID=America/New_York:20260131T110000
DTEND;TZID=America/New_York:20260131T170000
DTSTAMP:20260419T094445
CREATED:20250824T193949Z
LAST-MODIFIED:20251208T193616Z
UID:10000486-1769857200-1769878800@usmvmcgastate.com
SUMMARY:MS State Annual/Farmers Retirement Party
DESCRIPTION:The 2026 MS State Mardi Gras Parade Party will be on Jan 31st\, 2026\, at The Juke Joint in Ocean Springs\, MS. The first Mardi Gras parade of the 2026 season. Come out and join us again for another great time and share some Brotherhood. With the addition of celebrating Brother Farmers Retirement from this great Club! \nMS State Mardi Gras Annual Flyer! \nSaturday\, Jan 31st\, 2026. Parade starts at 1:00pm \nThe city shuts down Government Street at noon for the parade\, so be\nsure you are in the Juke Joint parking lot prior to noon.\nThe Juke Joint\, 1911 Government Street\, Ocean Springs\, MS \nMardi Gras Parade\, Brotherhood\, Music\nDrink Specials\, Raffle & door prizes\, great food !\nDid we mention a live Mardi Gras Parade? \nMeet & Greet Friday Night Jan 30th \, 2026\, at 7pm\nThe Juke Joint\, 1911 Government Street\, Ocean Springs\, MS\nThe Juke Joint is located off I-10 exit 50\, as are the Hotels. \nCome join us and help us celebrate 16 years of Brotherhood! \nHotel Info:\nAll the hotels are located at Mississippi I-10 Exit 50 in Ocean\nSprings\, MS\, and are convenient to everything.\nRamada Limited\n8011 Tucker Rd\, Biloxi\, MS 39532\nOcean Springs\, MS\, 39564\n(228) 872-2323\nBest Western\n7921 Lamar Pool\, Biloxi\, MS 39532\n(228) 875-7111\nHampton Inn\n13921 Big Ridge Rd\, Biloxi\, MS 39532\n(228) 872-6370 \nHoliday Inn Express & Suites\n7301 Washington Ave\, Ocean Springs\, MS 39564\n(228) 872-7255
URL:https://usmvmcgastate.com/calendar/3193/
LOCATION:The Juke Joint\, 1911 Government Street\, Ocean Springs\, MS\, United States
END:VEVENT
BEGIN:VEVENT
DTSTART;TZID=America/New_York:20260131T120000
DTEND;TZID=America/New_York:20260131T160000
DTSTAMP:20260419T094445
CREATED:20260101T013654Z
LAST-MODIFIED:20260114T180625Z
UID:10000547-1769860800-1769875200@usmvmcgastate.com
SUMMARY:FLA 4 Annual
DESCRIPTION:FLA-4 Annua Flyer
URL:https://usmvmcgastate.com/calendar/fla-4-annual/
LOCATION:VFW Post 8058\, 3475 Douglas ave\, fort pierce\, FL\, 34981\, United States
END:VEVENT
END:VCALENDAR