BEGIN:VCALENDAR
VERSION:2.0
PRODID:-// - ECPv6.15.20//NONSGML v1.0//EN
CALSCALE:GREGORIAN
METHOD:PUBLISH
X-ORIGINAL-URL:https://usmvmcgastate.com
X-WR-CALDESC:Events for 
REFRESH-INTERVAL;VALUE=DURATION:PT1H
X-Robots-Tag:noindex
X-PUBLISHED-TTL:PT1H
BEGIN:VTIMEZONE
TZID:America/New_York
BEGIN:DAYLIGHT
TZOFFSETFROM:-0500
TZOFFSETTO:-0400
TZNAME:EDT
DTSTART:20240310T070000
END:DAYLIGHT
BEGIN:STANDARD
TZOFFSETFROM:-0400
TZOFFSETTO:-0500
TZNAME:EST
DTSTART:20241103T060000
END:STANDARD
BEGIN:DAYLIGHT
TZOFFSETFROM:-0500
TZOFFSETTO:-0400
TZNAME:EDT
DTSTART:20250309T070000
END:DAYLIGHT
BEGIN:STANDARD
TZOFFSETFROM:-0400
TZOFFSETTO:-0500
TZNAME:EST
DTSTART:20251102T060000
END:STANDARD
BEGIN:DAYLIGHT
TZOFFSETFROM:-0500
TZOFFSETTO:-0400
TZNAME:EDT
DTSTART:20260308T070000
END:DAYLIGHT
BEGIN:STANDARD
TZOFFSETFROM:-0400
TZOFFSETTO:-0500
TZNAME:EST
DTSTART:20261101T060000
END:STANDARD
END:VTIMEZONE
BEGIN:VEVENT
DTSTART;VALUE=DATE:20251031
DTEND;VALUE=DATE:20251102
DTSTAMP:20260419T154818
CREATED:20250812T003534Z
LAST-MODIFIED:20251007T181832Z
UID:10000483-1761868800-1762041599@usmvmcgastate.com
SUMMARY:FLA 15 & 20 Combined Annual and Halloween Party
DESCRIPTION:FLA 15 and 20 are throwing another combined party on Halloween\, Friday\, October 31st and Saturday\, November 1st.\nThe location is FLA 15 Clubhouse at 5601 Co Rd 393\, Crestview\, FL. If you type Hwy 393 into the GPS\, it may take you to the wrong spot\, so please use Co Rd 393 instead.\nThe bar will open no later than 1700 Friday\, and it’ll close when everyone leaves. Wear a costume on Friday if you want\, or dress up like a biker.\nThere is hotel info on the flier\, or you can camp on site. As always\, I look forward to seeing those that can make it. I’ll see you soon.\n\nNOTE: Sleep Inn is still one of the Motels\, But Their Contact information has changed\,\nTheir contact Number for the discount is 8550-732-8866\nThe cost is still $87.20 but is PLUS tax\nUse code US MILITARY VETS MOTORCYCLE CLUBSorry for any inconvenience.
URL:https://usmvmcgastate.com/calendar/fla-15-20-combined-annual-and-halloween-party/
LOCATION:FLA-15 Clubhouse\, 5601 County RD 393\, Crestview\, FL\, 32539\, United States
END:VEVENT
BEGIN:VEVENT
DTSTART;TZID=America/New_York:20251108T120000
DTEND;TZID=America/New_York:20251108T170000
DTSTAMP:20260419T154818
CREATED:20250711T210053Z
LAST-MODIFIED:20250711T210053Z
UID:10000475-1762603200-1762621200@usmvmcgastate.com
SUMMARY:Celebration of Life for Brother Hillbilly (WA State)
DESCRIPTION:On November 8\, 2025\, we will celebrate the life and legacy of Brother Hillbilly\, on his birthday. This will be an opportunity for Eagle Nation to pay tribute to this great Brother. \nThe event will start at 1200 at 207 Laurel Lane\, Smithfield\, Virginia 23430. Hammocks and tent camping available on site.
URL:https://usmvmcgastate.com/calendar/celebration-of-life-for-brother-hillbilly-wa-state/
LOCATION:WA State Hillbilly COL\,  207 Laurel Lane\, Smithfield\, VA\, 23430\, United States
END:VEVENT
BEGIN:VEVENT
DTSTART;TZID=America/New_York:20251108T120000
DTEND;TZID=America/New_York:20251108T180000
DTSTAMP:20260419T154818
CREATED:20250919T171651Z
LAST-MODIFIED:20251103T062917Z
UID:10000496-1762603200-1762624800@usmvmcgastate.com
SUMMARY:VA-5 Armistice Day Ride
DESCRIPTION:•DATE:8NOV2025\n•LOCATION: 615 Bar & Grill (1615 general booth blvd\, Virginia Beach\, Va 23454)\n•TIME:1200-1800\n•50/50 &Gun Raffle\, tons of great prizes up for grabs. Come grab a cold one\, enjoy some great food\, and hang with the crew! Winner for shotgun raffle will be drawn\, we will also be having a flash sale on all merch.\nAll proceeds benefit the Mayflower Marathon food drive to benefit those in need\, this holiday season. Hope to see you brothers there.
URL:https://usmvmcgastate.com/calendar/va-5-armistice-day-ride/
LOCATION:615 Bar & Grill\, 1615 general booth Blvd..\, Virginia Beach\, VA\, 23454\, United States
END:VEVENT
BEGIN:VEVENT
DTSTART;TZID=America/New_York:20251108T140000
DTEND;TZID=America/New_York:20251108T170000
DTSTAMP:20260419T154818
CREATED:20251026T173800Z
LAST-MODIFIED:20251026T174006Z
UID:10000514-1762610400-1762621200@usmvmcgastate.com
SUMMARY:FLA-1 Annual
DESCRIPTION:See attached flyer for our upcoming annual which is right after state elections. Below are 3 hotels close to everything that weekend.\n\n\nhttps://www.ihg.com/holidayinnexpress/hotels/us/en/davie/flldv/hoteldetail?cm_mmc=GoogleMaps-_-EX-_-US-_-FLLDV\n\nhttps://www.hilton.com/en/hotels/fllpthx-hampton-ft-lauderdale-plantation/?SEO_id=GMB-AMER-HX-FLLPTHX&y_source=1_MjA4NTAwNS03MTUtbG9jYXRpb24ud2Vic2l0ZQ%3D%3D\n\nhttps://www.marriott.com/en-us/hotels/fllfd-four-points-fort-lauderdale-airport-dania-beach/overview/?scid=f2ae0541-1279-4f24-b197-a979c79310b0
URL:https://usmvmcgastate.com/calendar/fla-1-annual-2/
LOCATION:Mickeys Tiki Bar South\, 2775 Burris Rd ste 2A\, Davie\, FL\, 33314\, United States
END:VEVENT
BEGIN:VEVENT
DTSTART;TZID=America/New_York:20251108T140000
DTEND;TZID=America/New_York:20251108T230000
DTSTAMP:20260419T154818
CREATED:20250507T135856Z
LAST-MODIFIED:20250507T135856Z
UID:10000406-1762610400-1762642800@usmvmcgastate.com
SUMMARY:GA-12 Valdosta Annual
DESCRIPTION:GA-12 Annual Flyer \nSaturday 8 Nov 2025 starts at 2pm \nLocation: 2417 S. PATTERSON STREET VALDOSTA\, GA 31601
URL:https://usmvmcgastate.com/calendar/ga-12-valdosta-annual-2/
LOCATION:GA-12 Clubhouse\, 2417 South Patterson St.\, 31601\, United States
END:VEVENT
BEGIN:VEVENT
DTSTART;TZID=America/New_York:20251115T090000
DTEND;TZID=America/New_York:20251115T160000
DTSTAMP:20260419T154818
CREATED:20251002T021313Z
LAST-MODIFIED:20251002T022116Z
UID:10000499-1763197200-1763222400@usmvmcgastate.com
SUMMARY:FLA-4 Poker Run
DESCRIPTION:FLA 4 – Poker Run – 15 NOV 2025
URL:https://usmvmcgastate.com/calendar/fla-4-poker-run/
LOCATION:Treasure Coast HD\, 4967 SE Federal Hwy\, Stuart\, FL\, 34997\, United States
END:VEVENT
BEGIN:VEVENT
DTSTART;TZID=America/New_York:20251115T120000
DTEND;TZID=America/New_York:20251115T150000
DTSTAMP:20260419T154818
CREATED:20250626T012159Z
LAST-MODIFIED:20250919T174817Z
UID:10000473-1763208000-1763218800@usmvmcgastate.com
SUMMARY:GA State Meeting
DESCRIPTION:The GA State Meeting will Start promptly at 1200 Noon. \nWe will be conducting the Election for the Georgia State President. \nLocation will be:  The American Legion Post 172\, 1345 Radio Loop\, Warner Robins\, GA 31088.
URL:https://usmvmcgastate.com/calendar/ga-state-meeting/
LOCATION:American Legion post 172\, 1345 Radio Loop\, Warner Robins\, 31088\, United States
END:VEVENT
BEGIN:VEVENT
DTSTART;TZID=America/New_York:20251115T180000
DTEND;TZID=America/New_York:20251115T230000
DTSTAMP:20260419T154818
CREATED:20251025T224952Z
LAST-MODIFIED:20251025T225036Z
UID:10000513-1763229600-1763247600@usmvmcgastate.com
SUMMARY:IN-5 Fall Closer
DESCRIPTION:
URL:https://usmvmcgastate.com/calendar/in-5-fall-closer-2/
LOCATION:IN-5 Clubhouse\, 3186 Nubian Rd.\, Salem\, IN\, United States
END:VEVENT
BEGIN:VEVENT
DTSTART;VALUE=DATE:20251117
DTEND;VALUE=DATE:20251118
DTSTAMP:20260419T154818
CREATED:20241220T162408Z
LAST-MODIFIED:20241220T162408Z
UID:10000209-1763337600-1763423999@usmvmcgastate.com
SUMMARY:IN5 Dirty nickel Fall closer
DESCRIPTION:IN5 Dirty nickel Fall closer  November   17th 2025
URL:https://usmvmcgastate.com/calendar/in5-dirty-nickel-fall-closer/
LOCATION:MA
END:VEVENT
BEGIN:VEVENT
DTSTART;TZID=America/New_York:20251118T100000
DTEND;TZID=America/New_York:20251118T170000
DTSTAMP:20260419T154818
CREATED:20251112T030651Z
LAST-MODIFIED:20251112T030817Z
UID:10000518-1763460000-1763485200@usmvmcgastate.com
SUMMARY:MI Brother Miles Final Ceremonies
DESCRIPTION:Information on Miles’ funeral. Tuesday Nov 18th. Showing at 1000\, Merkle Funeral Services Inc. 297 Tecumseh St. Dundee MI 48131.\nBurial at 1330\,  Great Lakes National Cemetery\, Holly\, MI.\n\nCelebration of Life immediately following grave-site ceremony at “Veterans Hall” MI2 Clubhouse\, 2640 Blazer Road Maybe\, MI 48159.\nDundee\, MI has reasonable hotels\, and/or contact Mr. Bill for info on who has opened there homes for visitors (multiple rooms avail).
URL:https://usmvmcgastate.com/calendar/mi-brother-miles-final-ceremonies/
LOCATION:Merkle Funeral Services\, 297 Tecumseh St.\, Dundee\, MI\, 48131\, United States
END:VEVENT
BEGIN:VEVENT
DTSTART;TZID=America/New_York:20251121T190000
DTEND;TZID=America/New_York:20251121T230000
DTSTAMP:20260419T154818
CREATED:20250614T183207Z
LAST-MODIFIED:20250627T182413Z
UID:10000459-1763751600-1763766000@usmvmcgastate.com
SUMMARY:FLA-6 Daytona Brotherhood Night
DESCRIPTION:FLA-6 Daytona Brotherhood Night on the Third Friday of every Month starting at 1900hrs. \nLocation: FLA-6 Clubhouse 358 8th Street Holly Hill FL. 32117
URL:https://usmvmcgastate.com/calendar/fla-6-daytona-open-house/2025-11-21/
LOCATION:FLA-6 Club House\, 358 8th Street\, Holly Hill\, FL\, United States
END:VEVENT
BEGIN:VEVENT
DTSTART;VALUE=DATE:20251127
DTEND;VALUE=DATE:20251128
DTSTAMP:20260419T154818
CREATED:20251116T173921Z
LAST-MODIFIED:20251116T173921Z
UID:10000521-1764201600-1764287999@usmvmcgastate.com
SUMMARY:Thanksgiving Day
DESCRIPTION:On October 31\, 1939\, President Franklin D. Roosevelt signed a presidential proclamation changing the holiday to the next to last Thursday in November.
URL:https://usmvmcgastate.com/calendar/thanksgiving-day-2/
LOCATION:MA
END:VEVENT
BEGIN:VEVENT
DTSTART;TZID=America/New_York:20251129T110000
DTEND;TZID=America/New_York:20251129T170000
DTSTAMP:20260419T154818
CREATED:20241231T214637Z
LAST-MODIFIED:20251116T211325Z
UID:10000219-1764414000-1764435600@usmvmcgastate.com
SUMMARY:GA-5 Cartersville - Frosty Bells Toy Run
DESCRIPTION:
URL:https://usmvmcgastate.com/calendar/ga-5-cartersville-frosty-bells-toy-run/
LOCATION:Southern Devil Harley Davidson\, 2281 US-411\, Cartersville\, 30121\, United States
END:VEVENT
END:VCALENDAR