BEGIN:VCALENDAR
VERSION:2.0
PRODID:-// - ECPv6.15.20//NONSGML v1.0//EN
CALSCALE:GREGORIAN
METHOD:PUBLISH
X-ORIGINAL-URL:https://usmvmcgastate.com
X-WR-CALDESC:Events for 
REFRESH-INTERVAL;VALUE=DURATION:PT1H
X-Robots-Tag:noindex
X-PUBLISHED-TTL:PT1H
BEGIN:VTIMEZONE
TZID:America/New_York
BEGIN:DAYLIGHT
TZOFFSETFROM:-0500
TZOFFSETTO:-0400
TZNAME:EDT
DTSTART:20240310T070000
END:DAYLIGHT
BEGIN:STANDARD
TZOFFSETFROM:-0400
TZOFFSETTO:-0500
TZNAME:EST
DTSTART:20241103T060000
END:STANDARD
BEGIN:DAYLIGHT
TZOFFSETFROM:-0500
TZOFFSETTO:-0400
TZNAME:EDT
DTSTART:20250309T070000
END:DAYLIGHT
BEGIN:STANDARD
TZOFFSETFROM:-0400
TZOFFSETTO:-0500
TZNAME:EST
DTSTART:20251102T060000
END:STANDARD
BEGIN:DAYLIGHT
TZOFFSETFROM:-0500
TZOFFSETTO:-0400
TZNAME:EDT
DTSTART:20260308T070000
END:DAYLIGHT
BEGIN:STANDARD
TZOFFSETFROM:-0400
TZOFFSETTO:-0500
TZNAME:EST
DTSTART:20261101T060000
END:STANDARD
END:VTIMEZONE
BEGIN:VEVENT
DTSTART;VALUE=DATE:20250801
DTEND;VALUE=DATE:20250811
DTSTAMP:20260419T194429
CREATED:20240905T063723Z
LAST-MODIFIED:20240905T063723Z
UID:10000137-1754006400-1754870399@usmvmcgastate.com
SUMMARY:Sturgis Motorcycle Rally
DESCRIPTION:2025 is the 85th Anniversary of the Sturgis Motorcycle Rally\n(aka Black Hills Motorcycle Rally) The Worlds Largest & Most Famous Motorcycle Rally \nThrough the Sturgis\, SD area at multiple locations and venues you will find top notch music and entertainment\, 1000s of vendors\, wild parties and more stuff than we can even tell you about. \nThere are lots of great campgrounds from peaceful and relaxing\, to campgrounds with their own parties\, entertainment\, shows\, vendors and more going all day and all night. \nThe Sturgis Motorcycle Rally takes place throughout the city of Sturgis\, SD and the surrounding area with something going on all day and all night for the entire week. Some of the hot spots with events going on are… \nIron Horse Saloon\, Knuckle Saloon\, Glencoe Camp Resort (home of the world famous titty alley)\, Sturgis Buffalo Chip (known for some of the biggest name concerts)\, and of course the Full Throttle Saloon – the World’s Largest Biker Bar! \nIf you ride and have never been to The Sturgis Rally\, you need to go. If you been there before\, we don’t need to tell you how much fun it is!
URL:https://usmvmcgastate.com/calendar/sturgis-motorcycle-rally-2/
LOCATION:MA
END:VEVENT
BEGIN:VEVENT
DTSTART;VALUE=DATE:20250802
DTEND;VALUE=DATE:20250803
DTSTAMP:20260419T194429
CREATED:20250119T143352Z
LAST-MODIFIED:20250328T230805Z
UID:10000253-1754092800-1754179199@usmvmcgastate.com
SUMMARY:Maryland State Annual
DESCRIPTION:Save the date for the Maryland State 26th Annual. Annual will be on August 2nd 2025. \nThe hotel has been secured for the Maryland State 26th Annual on August 1-2 2025 . The link for rooms is:\nBest Western Hanover \nAddress: 6755 Dorsey Rd\, Elkridge\, MD 21075\n\nhttps://www.bestwestern.com/en_US/book/hotel-rooms.21028.html?groupId=J49QP7F3 [bestwestern.com]\n\n\n\nSee you there.
URL:https://usmvmcgastate.com/calendar/maryland-state-annual/
LOCATION:Best Western Hanover\, 6755 Dorsey Rd\, Elkridge\, MD\, 21075\, United States
END:VEVENT
BEGIN:VEVENT
DTSTART;TZID=America/New_York:20250802T140000
DTEND;TZID=America/New_York:20250802T235900
DTSTAMP:20260419T194429
CREATED:20241203T191154Z
LAST-MODIFIED:20250117T214312Z
UID:10000192-1754143200-1754179140@usmvmcgastate.com
SUMMARY:Michigan Combined Annual
DESCRIPTION:Michigan Combined annual 8/2/2025 \nMI Combined Annual
URL:https://usmvmcgastate.com/calendar/michigan-combined-annual/
LOCATION:Veterans Hall\, 2640 Blazer Road\, Maybe\, 48159\, United States
END:VEVENT
BEGIN:VEVENT
DTSTART;VALUE=DATE:20250803
DTEND;VALUE=DATE:20250804
DTSTAMP:20260419T194429
CREATED:20241220T162052Z
LAST-MODIFIED:20241220T162052Z
UID:10000207-1754179200-1754265599@usmvmcgastate.com
SUMMARY:IN5 Dirty nickel Brother SPURRZ ride
DESCRIPTION:IN5 Dirty nickel Brother SPURRZ ride  August 3rd 2025
URL:https://usmvmcgastate.com/calendar/in5-dirty-nickel-brother-spurrz-ride/
LOCATION:MA
END:VEVENT
BEGIN:VEVENT
DTSTART;TZID=America/New_York:20250803T110000
DTEND;TZID=America/New_York:20250803T160000
DTSTAMP:20260419T194429
CREATED:20250728T001617Z
LAST-MODIFIED:20250728T001651Z
UID:10000480-1754218800-1754236800@usmvmcgastate.com
SUMMARY:TX-1 Brother Recon's Grandson Benefit
DESCRIPTION:Our brother’s grandson has been having heart issues since birth. The doctors told his family that it is time that he must have this heart surgery soon. They will have to travel up north for the surgery and stay with him for a month near the hospital. Recon has stated that he will sell his house to get the money they need. I hope we can help him avoid this. Recon is a life member and needs our help. Please pray for him and his family.
URL:https://usmvmcgastate.com/calendar/tx-1-brother-recons-ganson-benefit/
LOCATION:Allure Aesthetix\, 1201 Ocean Dr.\, Corpus Christi\, TX\, United States
END:VEVENT
BEGIN:VEVENT
DTSTART;TZID=America/New_York:20250805T180000
DTEND;TZID=America/New_York:20250805T210000
DTSTAMP:20260419T194429
CREATED:20250212T212623Z
LAST-MODIFIED:20250212T212623Z
UID:10000270-1754416800-1754427600@usmvmcgastate.com
SUMMARY:GA11 Bike Night
DESCRIPTION: We here at GA11 are happy to announce that our Bike Night has changed locations to the Taco Mac at 2275 Market Place Blvd Cumming GA.\nAs always our Bike Night will be held on the First Tuesday of the month starting in April until October. Start time from 1800 until 2100hrs. Come on out for some Great Giveaways\,  Good Food\,  Plenty of Adult Beverages to choose from oh and did i mention they are offering a surprise just for the Event!!!
URL:https://usmvmcgastate.com/calendar/ga11-bike-night-6/
LOCATION:Taco Mac\, 2275 Market Place Blvd\, Cumming\, United States
END:VEVENT
BEGIN:VEVENT
DTSTART;TZID=America/New_York:20250809T110000
DTEND;TZID=America/New_York:20250809T170000
DTSTAMP:20260419T194429
CREATED:20250724T153351Z
LAST-MODIFIED:20250724T153351Z
UID:10000479-1754737200-1754758800@usmvmcgastate.com
SUMMARY:GA-18 Poker Run
DESCRIPTION:
URL:https://usmvmcgastate.com/calendar/ga-18-poker-run/
LOCATION:Copperhead Lodge\, 171 copperhead pkwy\, Blairsville\, 30512\, United States
END:VEVENT
BEGIN:VEVENT
DTSTART;TZID=America/New_York:20250809T120000
DTEND;TZID=America/New_York:20250809T170000
DTSTAMP:20260419T194429
CREATED:20250608T230349Z
LAST-MODIFIED:20250608T230349Z
UID:10000417-1754740800-1754758800@usmvmcgastate.com
SUMMARY:MD-4 Poker Run
DESCRIPTION:MD-4 will be hosting a poker run this year on 09 August 2025. Registration will begin at 1200 at the North East MD VFW (815 Turkey Point RD\, North East MD 21901) with first bike out at 1300. It is a VFW tour poker run and the route\, if you decide to go in the Order we suggest\, is a nice ride!
URL:https://usmvmcgastate.com/calendar/md-4-poker-run/
LOCATION:North East MD VFW\, 815 Turkey Point RD\, North East\, MD\, 21901\, United States
END:VEVENT
BEGIN:VEVENT
DTSTART;TZID=America/New_York:20250809T130000
DTEND;TZID=America/New_York:20250809T200000
DTSTAMP:20260419T194429
CREATED:20250328T231220Z
LAST-MODIFIED:20250328T231256Z
UID:10000387-1754744400-1754769600@usmvmcgastate.com
SUMMARY:GA-7 Family Day
DESCRIPTION:9 Aug 25 at 1300hrs\, GA7 will be having a Family Day at our clubhouse\, Everyone is welcome to join us and bring your littles with you. We will have water slides\, food\, candy\, and non alcoholic drinks at no charge. Donation cards available for adult beverages. Come join us for a great day with the family. See attached flyer. Y’all be safe out on the road.
URL:https://usmvmcgastate.com/calendar/ga-7-family-day/
LOCATION:GA-7 Club House\, 13 Andrews Street\, Surrency\, United States
END:VEVENT
BEGIN:VEVENT
DTSTART;VALUE=DATE:20250815
DTEND;VALUE=DATE:20250818
DTSTAMP:20260419T194429
CREATED:20250611T052917Z
LAST-MODIFIED:20250611T053024Z
UID:10000419-1755216000-1755475199@usmvmcgastate.com
SUMMARY:Ohio Summer Bash
DESCRIPTION:The Ohio Summer Bash is scheduled this year for August 15-17th at (1919 Gordon Rd. Cederville\, OH 45314.) There will be a $20 cover per person which includes your food and drinks for the weekend. Free on-site camping is available at the event property. There are nearby hotels for those who would rather stay there than to camp. We can provide a shuttle to those who are staying at the hotels so you are able to enjoy your time at the party. There is a list of hotels attached in no particular order for those who need the information. \nOH Summer Bash Flyer! \nOH SUMMER BASH HOTEL INFO
URL:https://usmvmcgastate.com/calendar/ohio-summer-bash-2/
LOCATION:OH Summer Bash\, 1919 Gordon Rd.\, Cederville\, OH\, 45314\, United States
END:VEVENT
BEGIN:VEVENT
DTSTART;TZID=America/New_York:20250815T120000
DTEND;TZID=America/New_York:20250817T000000
DTSTAMP:20260419T194429
CREATED:20240923T150016Z
LAST-MODIFIED:20250728T175644Z
UID:10000149-1755259200-1755388800@usmvmcgastate.com
SUMMARY:NC Combined Annual
DESCRIPTION:Brothers we have changed the date and venue for our next NC Combined Annual. It will be one week earlier. 15-17 Aug 2025. It will be at the Special Forces Association I-XVII. \n1509 Zinnia Court\, Fayetteville NC 28306
URL:https://usmvmcgastate.com/calendar/nc-combined-annual/
LOCATION:Special Forces Association I-XVII\, 1509 Zinnia court\, Fayetteville\, NC\, 28306\, United States
END:VEVENT
BEGIN:VEVENT
DTSTART;TZID=America/New_York:20250815T190000
DTEND;TZID=America/New_York:20250815T230000
DTSTAMP:20260419T194429
CREATED:20250614T183207Z
LAST-MODIFIED:20250627T182413Z
UID:10000456-1755284400-1755298800@usmvmcgastate.com
SUMMARY:FLA-6 Daytona Brotherhood Night
DESCRIPTION:FLA-6 Daytona Brotherhood Night on the Third Friday of every Month starting at 1900hrs. \nLocation: FLA-6 Clubhouse 358 8th Street Holly Hill FL. 32117
URL:https://usmvmcgastate.com/calendar/fla-6-daytona-open-house/2025-08-15/
LOCATION:FLA-6 Club House\, 358 8th Street\, Holly Hill\, FL\, United States
END:VEVENT
BEGIN:VEVENT
DTSTART;TZID=America/New_York:20250816T100000
DTEND;TZID=America/New_York:20250816T170000
DTSTAMP:20260419T194429
CREATED:20250516T161131Z
LAST-MODIFIED:20250516T161131Z
UID:10000410-1755338400-1755363600@usmvmcgastate.com
SUMMARY:TN-8 Benefit Ride
DESCRIPTION:TN-8 Grande’s Crew Greeneville TN\, will be having our annual benefit ride for our local Veteran’s Memorial Park Ride.   All proceeds will go to benefit the Greeneville Veteran’s Memorial Park.  We will have a beautiful ride planned\, food and live music.  If at all possible come out and help us support our local Veteran’s Memorial Park.
URL:https://usmvmcgastate.com/calendar/tn-8-benefit-ride-2/
LOCATION:TN-8 Veterans Memorial Park\, 803 Forest St.\, Greeneville\, TN\, United States
END:VEVENT
BEGIN:VEVENT
DTSTART;TZID=America/New_York:20250816T130000
DTEND;TZID=America/New_York:20250816T160000
DTSTAMP:20260419T194429
CREATED:20240909T023630Z
LAST-MODIFIED:20250210T035752Z
UID:10000141-1755349200-1755360000@usmvmcgastate.com
SUMMARY:NH-2 Annual
DESCRIPTION: NH 2 annual will be August 16\n At the Texas Roadhouse.  From  1300 to 1600 hrs.  47 fox run rd Newington NH.
URL:https://usmvmcgastate.com/calendar/nh-2-annual-2/
LOCATION:NH-2 Annual\, 41 Fox Run Rd.\, Newington\, NH\, United States
END:VEVENT
BEGIN:VEVENT
DTSTART;VALUE=DATE:20250822
DTEND;VALUE=DATE:20250825
DTSTAMP:20260419T194429
CREATED:20241205T183919Z
LAST-MODIFIED:20250617T213329Z
UID:10000195-1755820800-1756079999@usmvmcgastate.com
SUMMARY:Midwest Mayhem
DESCRIPTION:Start planning to attend the Midwest Mayhem. It will be at Stump Lake in North Dakota\, 32nd St NE\, Lakota ND 58344. See attached flier for making reservations. Dates are August 22nd-24th 2025. We hope to see you all there this year. Come on up for some Brotherhood and get out of your state!\nThere are 30 and 50 amp hookups along with water connections. If you need sewage pumped there is a guy that will come to your camper and pump your sewage (for a price $30) he will do all the work. If you have a large trailer it is best to call early and reserve a spot as they have to put you in a certain spot.\n\nMIDWEST MAYHEM Flyer!
URL:https://usmvmcgastate.com/calendar/midwest-mayhem/
LOCATION:Stump Lake\, 32nd St NE\, Lakota\, ND\, 58344\, United States
END:VEVENT
BEGIN:VEVENT
DTSTART;TZID=America/New_York:20250823T120000
DTEND;TZID=America/New_York:20250823T170000
DTSTAMP:20260419T194429
CREATED:20241210T004355Z
LAST-MODIFIED:20250807T165735Z
UID:10000200-1755950400-1755968400@usmvmcgastate.com
SUMMARY:Indiana 3 Annual
DESCRIPTION:24th year of IN3 Sunny Side 23 August 2025 VFW New Albany 1919 Grantline Rd. New Albany IN\n@ Noon \n24th year of IN3 Sunny Side
URL:https://usmvmcgastate.com/calendar/indiana-3-annual/
LOCATION:New Albany IN VFW\, 1919 Grantline Rd\, New Albany\, IN\, United States
END:VEVENT
BEGIN:VEVENT
DTSTART;TZID=America/New_York:20250828T160000
DTEND;TZID=America/New_York:20250828T200000
DTSTAMP:20260419T194429
CREATED:20250822T195519Z
LAST-MODIFIED:20250822T195519Z
UID:10000484-1756396800-1756411200@usmvmcgastate.com
SUMMARY:GA 5 Toolman's Father Viewing
DESCRIPTION:SUBJECT: Request For Veteran Funeral Escort from TOOLMAN GA 5 \nOn 17 August 2025 Toolman’s father\, SFC (Ret) Kenneth Broadaway\, passed away.   SFC Broadaway retired after 20+ years of service including 2 tours of duty in the Republic of Vietnam.   SFC Broadaway is to be laid to rest on 29 August 2025 at the Georgia National Cemetery near Canton\, GA. \nToolman is sending an invitation out to the nation to assist in escorting the funeral procession from Owens Funeral Home 12 Collins Dr Cartersville\, GA 30120 to the GA National Cemetery at 1080 Scott Hudgins Dr Canton\, GA 30114.   The services begin on 29 Aug 2025 at 1100hrs and will move to the cemetery directly after they have concluded.   When the ceremony at the cemetery has concluded Toolman invites everyone to The Local Dive Bar at 120 S Erwin St Cartersville\, GA 30120 for a memorial and further brotherhood and fellowship. \n– Location: Owens Funeral Home 12 Collins Dr Cartersville\, GA 30120 \n– Viewing: Thursday 28 August 2025 1600-2000 hrs \n– FUNERAL SERVICES: Friday 29 August 2025 @ 1100 \n– Staging Motorcycles: 29 August 2025 @ 1000-1045 hrs \n– (Travel to National Cemetery after service.) \n– National Cemetery Funeral: 29 August 2025 @ 1300 hrs (Then return to Cartersville The Local Dive Bar at 120 S Erwin St Cartersville\, GA 30120. ) \n  \nThank you for your time and efforts to support this request.
URL:https://usmvmcgastate.com/calendar/ga-5-toolmans-father-viewing/
LOCATION:Owens Funeral Home\, 12 Collins Dr\, Cartersville\, 30120\, United States
END:VEVENT
BEGIN:VEVENT
DTSTART;VALUE=DATE:20250829
DTEND;VALUE=DATE:20250901
DTSTAMP:20260419T194429
CREATED:20241021T221846Z
LAST-MODIFIED:20250814T161912Z
UID:10000157-1756425600-1756684799@usmvmcgastate.com
SUMMARY:South West Rendezvous Oklahoma Edition
DESCRIPTION:Brothers\, SWR 2025 has been secured for August 29-31. Flyers are enclosed. We will be doing an outdoor event this year at the Route 66 motorcycle rally park in Depew OK. We own the park so it will be just USMVMC for the whole weekend. plenty of space for shenanigans and fuckery. The complex and this event will be adult only so we ask 18+ only. Tent camping is Free there are limited full hookup RV slips so get the number from the flyer and call and reserve quickly. There is a$125 fee for full hookup but only a $20 fee if you boondock your rv. There are several cabins available and we will also be raffling a cabin off for the weekend. The cost of this event is $30 for a single $50 for a couple (patch + extension) this entry gets you all you can drink fri-sun + plus dinner friday\, breakfast saturday and a lunch/dinner Saturday afternoon. There is a pool and a pond with a water slide to cool off to include multiple climate controlled buildings to include our bar. If you have any questions please reach out.. For those that prefer more comfort we have laid on a hampton inn room block aprox 5 miles from our venue. information below..  Hope to see you there.\nRoute 66 Biker Rally Park\n26101 Milfay Rd\nDepew\, OK 74028\n918-645-9029 for cabin and rv full hook up reservations ask for charlie\n\nHampton Inn & Suites\n\n915 Ada Web Dr\nStroud\, OK 74079\nP: 918-987-0144\n\nlink for special pricing  Southwest Rendezvous\n\nOklahoma will be on the campsite starting Thursday at 1230 if you are inclined to be in the area early by all means let’s start the party early. There are still hotel rooms left available for the non camper. There will be raffle prizes 50/50 games and also a wet T-shirt contest with cash prizes. Friday will be the opening ceremony\, hot dogs and hamburgers for dinner. Saturday will be the bulk of the fuckery with breakfast and a late lunch being served along with Raffles and wet T-shirt contest. At some point we will close and have a hell of a party. We look forward to seeing every Brother there.
URL:https://usmvmcgastate.com/calendar/south-west-rendezvous-oklahoma-edition/
LOCATION:Route 66 Biker Rally Park\, 26101 Milfay Rd.\, Depew\, OK\, 74028\, United States
END:VEVENT
BEGIN:VEVENT
DTSTART;TZID=America/New_York:20250829T100000
DTEND;TZID=America/New_York:20250829T170000
DTSTAMP:20260419T194429
CREATED:20250822T195809Z
LAST-MODIFIED:20250822T195809Z
UID:10000485-1756461600-1756486800@usmvmcgastate.com
SUMMARY:GA 5 Toolman's Father Funeral
DESCRIPTION:SUBJECT: Request For Veteran Funeral Escort from TOOLMAN GA 5 \nOn 17 August 2025 Toolman’s father\, SFC (Ret) Kenneth Broadaway\, passed away.   SFC Broadaway retired after 20+ years of service including 2 tours of duty in the Republic of Vietnam.   SFC Broadaway is to be laid to rest on 29 August 2025 at the Georgia National Cemetery near Canton\, GA. \nToolman is sending an invitation out to the nation to assist in escorting the funeral procession from Owens Funeral Home 12 Collins Dr Cartersville\, GA 30120 to the GA National Cemetery at 1080 Scott Hudgins Dr Canton\, GA 30114.   The services begin on 29 Aug 2025 at 1100hrs and will move to the cemetery directly after they have concluded.   When the ceremony at the cemetery has concluded Toolman invites everyone to The Local Dive Bar at 120 S Erwin St Cartersville\, GA 30120 for a memorial and further brotherhood and fellowship. \n– Location: Owens Funeral Home 12 Collins Dr Cartersville\, GA 30120 \n– Viewing: Thursday 28 August 2025 1600-2000 hrs \n– FUNERAL SERVICES: Friday 29 August 2025 @ 1100 \n– Staging Motorcycles: 29 August 2025 @ 1000-1045 hrs \n– (Travel to National Cemetery after service.) \n– National Cemetery Funeral: 29 August 2025 @ 1300 hrs (Then return to Cartersville The Local Dive Bar at 120 S Erwin St Cartersville\, GA 30120. ) \n  \nThank you for your time and efforts to support this request.
URL:https://usmvmcgastate.com/calendar/ga-5-toolmans-father-funeral/
LOCATION:Owens Funeral Home\, 12 Collins Dr\, Cartersville\, 30120\, United States
END:VEVENT
END:VCALENDAR