BEGIN:VCALENDAR
VERSION:2.0
PRODID:-// - ECPv6.15.20//NONSGML v1.0//EN
CALSCALE:GREGORIAN
METHOD:PUBLISH
X-ORIGINAL-URL:https://usmvmcgastate.com
X-WR-CALDESC:Events for 
REFRESH-INTERVAL;VALUE=DURATION:PT1H
X-Robots-Tag:noindex
X-PUBLISHED-TTL:PT1H
BEGIN:VTIMEZONE
TZID:America/New_York
BEGIN:DAYLIGHT
TZOFFSETFROM:-0500
TZOFFSETTO:-0400
TZNAME:EDT
DTSTART:20240310T070000
END:DAYLIGHT
BEGIN:STANDARD
TZOFFSETFROM:-0400
TZOFFSETTO:-0500
TZNAME:EST
DTSTART:20241103T060000
END:STANDARD
BEGIN:DAYLIGHT
TZOFFSETFROM:-0500
TZOFFSETTO:-0400
TZNAME:EDT
DTSTART:20250309T070000
END:DAYLIGHT
BEGIN:STANDARD
TZOFFSETFROM:-0400
TZOFFSETTO:-0500
TZNAME:EST
DTSTART:20251102T060000
END:STANDARD
BEGIN:DAYLIGHT
TZOFFSETFROM:-0500
TZOFFSETTO:-0400
TZNAME:EDT
DTSTART:20260308T070000
END:DAYLIGHT
BEGIN:STANDARD
TZOFFSETFROM:-0400
TZOFFSETTO:-0500
TZNAME:EST
DTSTART:20261101T060000
END:STANDARD
END:VTIMEZONE
BEGIN:VEVENT
DTSTART;VALUE=DATE:20250614
DTEND;VALUE=DATE:20250623
DTSTAMP:20260425T235345
CREATED:20240905T063354Z
LAST-MODIFIED:20240905T063354Z
UID:10000136-1749859200-1750636799@usmvmcgastate.com
SUMMARY:Laconia Motorcycle Rally
DESCRIPTION:2025 is the 102nd Annual Laconia Motorcycle Rally \nIf you only attend one rally in 2025\, Laconia Bike Week should be it. \n8 days of Motorcycles and Fun! \nOnce here in Laconia\, riders enjoy the sights and sounds of this national motorcycle rally and can experience all of the thrills you would expect at AMA sanctioned events such as Hill Climbs\, vintage and super motor races\, and stunt shows. \nLaconia Motorcycle Week also has demo rides from some of the biggest major motorcycle manufacturers including Harley-Davidson\, Indian\, Yamaha and more!  The area bustles with live music of all kinds\, bike shows\, and vendors featuring the latest and greatest in the motorcycle industry.   Race fans can enjoy camping at Motorcycle Nirvana and be right in the center of the racing action for the vintage races\, flat track\, and 99th Annual Loudon Classic. \nAlthough our legacy as the World’s Oldest Motorcycle Rally® is because our gypsy tour began in 1916\, our legacy continues because of our unmatched scenic riding throughout the beautiful State of New Hampshire. Residents and businesses alike\, welcome motorcyclists during the Rally every year in June. \nSo\, there’s a lot to like about the deep and storied relationship between New Hampshire and riding – No wonder many have dubbed the state’s motto “Live Free and Ride®!”
URL:https://usmvmcgastate.com/calendar/laconia-motorcycle-rally/
LOCATION:IL
END:VEVENT
BEGIN:VEVENT
DTSTART;VALUE=DATE:20250620
DTEND;VALUE=DATE:20250623
DTSTAMP:20260425T235345
CREATED:20240804T234739Z
LAST-MODIFIED:20250520T014804Z
UID:10000117-1750377600-1750636799@usmvmcgastate.com
SUMMARY:New York State Annual
DESCRIPTION:The NYS Annual will be on June 20\, 21 and 22 2025\nIt was previously scheduled for May 30\, 31\, and June 1.\nWe decided to move due to NPM 2025 the weekend before.\nLocation is the same as always:\nLake Chalet Motel and Campground\n593 NY-8\nBridgewater NY 13313\n(315) 822-6074
URL:https://usmvmcgastate.com/calendar/new-york-state-annual-2/
LOCATION:Lake Chalet Motel and Campground\, 593 NY-8\, Bridgewater\, NY\, 13313\, United States
END:VEVENT
BEGIN:VEVENT
DTSTART;VALUE=DATE:20250620
DTEND;VALUE=DATE:20250623
DTSTAMP:20260425T235345
CREATED:20250107T180753Z
LAST-MODIFIED:20250205T051405Z
UID:10000234-1750377600-1750636799@usmvmcgastate.com
SUMMARY:WA State Annual
DESCRIPTION:Our 2nd Annual will be 20-22 June 2025.  Last year we rode around the valleys. This year we’re going to ride in the mountains. Three passes in a day\, Snoqualmie\, Blewett and Stevens.
URL:https://usmvmcgastate.com/calendar/wa-state-annual/
LOCATION:VFW Post 969\, rec 15409 Pioneer Way E.\, Orting\, WA\, United States
END:VEVENT
BEGIN:VEVENT
DTSTART;VALUE=DATE:20250627
DTEND;VALUE=DATE:20250630
DTSTAMP:20260425T235345
CREATED:20241105T042343Z
LAST-MODIFIED:20250416T034654Z
UID:10000174-1750982400-1751241599@usmvmcgastate.com
SUMMARY:MD-6 Annual
DESCRIPTION:MD-6 Annual 27 – 29 June 2025.\nMD-6 Annual Flyer\n\n\nNorth Central MD.\n17th Annual Party \n27 – 29 June 2025 \nPrimitive camping on site all weekend.\n(power available for medical devices\, contact a md6\nbrother regarding campers or rvs) \nMeet & Greet: Friday 27 June night starting at 1900\nMain event Saturday 28 June starting at noon \nFeaturing Live music by Beg\, Borrow & Steel (rock) \nLewistown social club \n10540 Putman road\, Thurmont\, MD 21788\nfood & refreshments $20 per person \nopen to the public \n Texas Hold ’em / LRC Friday Night\n Breakfast on Saturday morning for those\nwho camp\n Food Friday night\n Great adult refreshments\n Other fun activities\n Fire pit will be lit each night \nWe reserve the right to refuse service and deny entrance to anyone for any reason. All proceeds go to a local Veterans Origination \nIf you don’t want to camp ask any MD6 brother\nabout lodging or stay at the local hotel.\nCamping is gonna be more fun:\nSpring Hill Suites by Marriott Frederick\n111 Byte Dr\, Frederick\, MD 21702\nSorry no discount rate available\nContact any MD6 brother if you have questions
URL:https://usmvmcgastate.com/calendar/md-6-annual-2/
LOCATION:Lewistown Social Club\, 10540 Putman road\, Thurmont\, MD\, 21788\, United States
END:VEVENT
BEGIN:VEVENT
DTSTART;TZID=America/New_York:20250627T180000
DTEND;TZID=America/New_York:20250627T230000
DTSTAMP:20260425T235345
CREATED:20250109T042338Z
LAST-MODIFIED:20250109T044039Z
UID:10000241-1751047200-1751065200@usmvmcgastate.com
SUMMARY:GA-6 Open House
DESCRIPTION:
URL:https://usmvmcgastate.com/calendar/ga-6-open-house-5/
LOCATION:GA-6 Club House\, 4238 James Dr.\, Hephzibah\, 30815\, United States
END:VEVENT
BEGIN:VEVENT
DTSTART;TZID=America/New_York:20250701T180000
DTEND;TZID=America/New_York:20250701T210000
DTSTAMP:20260425T235345
CREATED:20250212T212604Z
LAST-MODIFIED:20250212T212604Z
UID:10000269-1751392800-1751403600@usmvmcgastate.com
SUMMARY:GA11 Bike Night
DESCRIPTION: We here at GA11 are happy to announce that our Bike Night has changed locations to the Taco Mac at 2275 Market Place Blvd Cumming GA.\nAs always our Bike Night will be held on the First Tuesday of the month starting in April until October. Start time from 1800 until 2100hrs. Come on out for some Great Giveaways\,  Good Food\,  Plenty of Adult Beverages to choose from oh and did i mention they are offering a surprise just for the Event!!!
URL:https://usmvmcgastate.com/calendar/ga11-bike-night-5/
LOCATION:Taco Mac\, 2275 Market Place Blvd\, Cumming\, United States
END:VEVENT
BEGIN:VEVENT
DTSTART;VALUE=DATE:20250704
DTEND;VALUE=DATE:20250707
DTSTAMP:20260425T235345
CREATED:20250504T152118Z
LAST-MODIFIED:20250504T152118Z
UID:10000405-1751587200-1751846399@usmvmcgastate.com
SUMMARY:TX-5 4th of July Party
DESCRIPTION:TX-5 will be throwing our 12th annual 4th of July party. Attached is the flyer with all the details. It is always a good time with great food\, fireworks\, family and Brotherhood. \nTX-5 July 4th flyer \n12th ANNUAL USMV MC TEXAS 5 \nCHAPTER PARTY 2025\nJULY 4th PARTY\nJuly 4th –July 6th \nBBQ Dinner & Fireworks on July 5th \nWHERE: 5751 FM 1002 South\, Big Sandy TX 75755\nCampers & RVs are welcome or bring a tent (or crash in the house)\nWe have plenty of inside or outside room for everyone\nHotel if you prefer: Americas Best\, 903-877-9227 (between $60 to $70 with tax) 12732 SH-155\, Tyler Texas (24 miles away)\nSOME AWESOME BBQ AND SMOKED MEATS \nTX5 Firework Show is one you don’t want to miss \nPOOL WILL BE OPEN \nWelcome to bring all the FIREWORKS you want but not needed. \nBring a chair and have some fun with us
URL:https://usmvmcgastate.com/calendar/tx-5-4th-of-july-party-2/
LOCATION:TX-5 July 4th Party\, 5751 FM 1002 South\, Big Sandy\, TX\, 75755\, United States
END:VEVENT
BEGIN:VEVENT
DTSTART;VALUE=DATE:20250711
DTEND;VALUE=DATE:20250713
DTSTAMP:20260425T235345
CREATED:20241125T140857Z
LAST-MODIFIED:20250509T043750Z
UID:10000183-1752192000-1752364799@usmvmcgastate.com
SUMMARY:IN-8UPMF Annual
DESCRIPTION:The 2025 8UPMF Annual is going to be July 11-12.\nMark your calendar!\nLocation:\nColumbus Indiana VFW 215 N National Rd\, Columbus\, IN 47201\nNo cover\, Free Food and Free Alcohol while supplies last.  Lots of room to camp (tent\, RV\, Travel Trailer\, etc…)\, room in the Bingo Hall to crash all FREE.\n\nHotel Information:
URL:https://usmvmcgastate.com/calendar/in-8upmf-annual/
LOCATION:Columbus IN VFW\, 215 N National Rd.\, Columbus\, IN\, 47201\, United States
END:VEVENT
BEGIN:VEVENT
DTSTART;TZID=America/New_York:20250711T130000
DTEND;TZID=America/New_York:20250712T235900
DTSTAMP:20260425T235345
CREATED:20241210T003017Z
LAST-MODIFIED:20250623T065354Z
UID:10000197-1752238800-1752364740@usmvmcgastate.com
SUMMARY:GA4 - Savannah Annual
DESCRIPTION:SAVANNAH ‘DIEHARDS’\nANNIVERSARY BASH!! \nCELEBRATING 22 YEARS IN THE EAGLE NATION! \nJULY 11-13\, 2025 \nVFW POST 660 5115 Ogeechee Rd\, Savannah\, GA 31405\nMeet & Greet Friday 1900-? Charter Party Saturday 1300-? \nGA-4 Annual Flyer
URL:https://usmvmcgastate.com/calendar/ga4-savannah-annual-2/
LOCATION:VFW POST 660\, 5115 Ogeechee Rd.\, Savannah\, United States
END:VEVENT
BEGIN:VEVENT
DTSTART;TZID=America/New_York:20250712T120000
DTEND;TZID=America/New_York:20250712T160000
DTSTAMP:20260425T235345
CREATED:20250105T223945Z
LAST-MODIFIED:20250120T192941Z
UID:10000231-1752321600-1752336000@usmvmcgastate.com
SUMMARY:WVA-2 Annual Party in the Panhandle
DESCRIPTION:WVA-2 is pleased to announce our 2025 Party in the Panhandle\, 12 July 2025. Take a beautiful ride to the Panhandle of West Virginia and spend a great day of Brotherhood. \nWVA-2 Party in the Panhandle
URL:https://usmvmcgastate.com/calendar/wva-2-annual/
LOCATION:Green Frog Altos\, 5476 Shepherdstown Road\, Martinsburg\, WV\, 25404\, United States
END:VEVENT
BEGIN:VEVENT
DTSTART;VALUE=DATE:20250717
DTEND;VALUE=DATE:20250721
DTSTAMP:20260425T235345
CREATED:20241210T005016Z
LAST-MODIFIED:20241210T005413Z
UID:10000201-1752710400-1753055999@usmvmcgastate.com
SUMMARY:45th Annual Indiana ABATE Boogie
DESCRIPTION:The Boogie – The Midwest’s Best Biker Fest \n\nGates open at 8:00 AM\, Thursday\, July 18\, and will remain open throughout the event and close at 11:00 AM\, Sunday\, July 21. \n\n\nBoogie Location\nLawrence County\nRecreational Park\n99 Moore Lane\,\nSpringville\, IN 47462
URL:https://usmvmcgastate.com/calendar/45th-annual-indiana-abate-boogie/
LOCATION:Lawrence County Recreational Park\, 99 Moore Lane\, Springville\, IN\, 47462\, United States
END:VEVENT
BEGIN:VEVENT
DTSTART;TZID=America/New_York:20250718T190000
DTEND;TZID=America/New_York:20250718T230000
DTSTAMP:20260425T235345
CREATED:20250614T183207Z
LAST-MODIFIED:20250627T182413Z
UID:10000455-1752865200-1752879600@usmvmcgastate.com
SUMMARY:FLA-6 Daytona Brotherhood Night
DESCRIPTION:FLA-6 Daytona Brotherhood Night on the Third Friday of every Month starting at 1900hrs. \nLocation: FLA-6 Clubhouse 358 8th Street Holly Hill FL. 32117
URL:https://usmvmcgastate.com/calendar/fla-6-daytona-open-house/2025-07-18/
LOCATION:FLA-6 Club House\, 358 8th Street\, Holly Hill\, FL\, United States
END:VEVENT
BEGIN:VEVENT
DTSTART;TZID=America/New_York:20250722T133000
DTEND;TZID=America/New_York:20250722T170000
DTSTAMP:20260425T235345
CREATED:20250717T165222Z
LAST-MODIFIED:20250717T165222Z
UID:10000478-1753191000-1753203600@usmvmcgastate.com
SUMMARY:Celebration of life for Roo
DESCRIPTION:FL-7 Brother Snaxxx’s extension has passed after a very long fight with cancer and was beloved by all who met her.\nServices for Christina Easton “Roo” will be a graveside service followed by a celebration of life. \n\nWe will be meeting at the funeral home first at 1:30pm Tuesday July 22nd and leaving from there to the cemetery. Services will be performed graveside at 2:00pm by the family’s longtime pastor. *Funeral home : Memorial Funeral Directory\, 654 Athens Rd\, Princeton WV\, 24740 (meet at 1:30pm) *Cemetery: Roselawn Memorial Gardens\, 450 Courthouse Rd\, Princeton WV 24740 (graveside service at 2:00pm). *Celebration of life location: Mount Jackson Baptist Church\, 115 N State St\, Athens WV 24712 (meal will be catered and served) and opportunity given for mourners to speak to Christina (Roo’s) memory. We are looking forward to seeing you all and remembering a beautiful\, brilliant and amazing young woman. 
URL:https://usmvmcgastate.com/calendar/celebration-of-life-for-roo/
LOCATION:Memorial Funeral\, 654 Athens Rd.\, Princeton\, WV\, 24740\, United States
END:VEVENT
BEGIN:VEVENT
DTSTART;VALUE=DATE:20250725
DTEND;VALUE=DATE:20250727
DTSTAMP:20260425T235345
CREATED:20241203T185105Z
LAST-MODIFIED:20250703T121426Z
UID:10000186-1753401600-1753574399@usmvmcgastate.com
SUMMARY:GA 1 Atlanta Annual
DESCRIPTION:GA 1 Atlanta First Few will be holding it’s annual on July 25 2025 and July 26 2025 at the American Legion Post 216 3914 Ewing Rd. Austell\, GA 30106. Friday 25 July 2025 will be the Meet and Greet from 1700 – 0000.  The annual will be on Saturday 26 2025 from 1300 – 0000.  Giveaway will be at 1730.
URL:https://usmvmcgastate.com/calendar/ga-1-atlanta-annual/
LOCATION:American Legion Post 216\, 3914 Ewing Rd\, Austell\, 30106\, United States
END:VEVENT
BEGIN:VEVENT
DTSTART;VALUE=DATE:20250725
DTEND;VALUE=DATE:20250727
DTSTAMP:20260425T235345
CREATED:20250211T033049Z
LAST-MODIFIED:20250608T225617Z
UID:10000263-1753401600-1753574399@usmvmcgastate.com
SUMMARY:VA Combined Annual
DESCRIPTION:2025 VA Combined Annual Flyer!\nThe 2025 Virginia Combined Annual will be hosted by VA State Chapter (VA3) in Woodbridge\, VA\, the weekend of 25-27 July.\n25 July 2025 – Meet and Greet\n26 July 2025 – Annual Party with our Casino Night that evening.\nJoin us at American Legion Post 364\, 3640 Friendly Post Labe\, Woodbridge VA\n\nSchedule of Events \n Meet & Greet \nKick things off on Friday\, July 25 with a Meet & Greet at the American Legion Post 364. \n Rides: (Both rides will be group-led\, starting at American Legion Post 364. \nFriday Night: \n\nMidnight Monument Ride – Kickstands Up at 2030 hrs\nRide through Washington\, D.C. to see the iconic National Monuments lit up at night.\n\nSaturday: \n\nNational Museum of the U.S. Army Visit – Kickstands Up at 1215 hrs\nExplore the history of the U.S. Army at this world-class museum.\n\n Beverages             \nThe American Legion Bar will be open and serving drinks all weekend! Plus\, don’t miss out on 50/50s and Raffles for a chance to win some great prizes. \n Saturday Night \nCasino Night – Open to the Public! 1800-2100 Hrs \nThe weekend wraps up with our Casino Night\, featuring professional dealers and tables: \n\nBlackjack\nCraps\nTexas Hold ‘Em\nRoulette\nThe infamous Dildo Downs Bob Races\n\nCome for Brotherhood\, take a ride\, stay for the debauchery! Make sure to mark your calendars and join us for a weekend you won’t forget!
URL:https://usmvmcgastate.com/calendar/va-combined-annual/
LOCATION:American Legion Post 364\, 3640 Friendly Post Ln\, Woodbridge\, VA\, 22192\, United States
END:VEVENT
BEGIN:VEVENT
DTSTART;TZID=America/New_York:20250725T080000
DTEND;TZID=America/New_York:20250725T170000
DTSTAMP:20260425T235345
CREATED:20250109T042434Z
LAST-MODIFIED:20250109T044114Z
UID:10000242-1753430400-1753462800@usmvmcgastate.com
SUMMARY:GA-6 Open House
DESCRIPTION:
URL:https://usmvmcgastate.com/calendar/ga-6-open-house-6/
LOCATION:GA-6 Club House\, 4238 James Dr.\, Hephzibah\, 30815\, United States
END:VEVENT
BEGIN:VEVENT
DTSTART;TZID=America/New_York:20250726T100000
DTEND;TZID=America/New_York:20250726T170000
DTSTAMP:20260425T235345
CREATED:20250716T173929Z
LAST-MODIFIED:20250716T173929Z
UID:10000476-1753524000-1753549200@usmvmcgastate.com
SUMMARY:GA-11 Homeless Vets Ride
DESCRIPTION:
URL:https://usmvmcgastate.com/calendar/ga-11-homeless-vets-ride/
LOCATION:Towne Lake Chiropractic\, 1000 Wyngate Pkwy\, Woodstock\, United States
END:VEVENT
BEGIN:VEVENT
DTSTART;VALUE=DATE:20250801
DTEND;VALUE=DATE:20250811
DTSTAMP:20260425T235345
CREATED:20240905T063723Z
LAST-MODIFIED:20240905T063723Z
UID:10000137-1754006400-1754870399@usmvmcgastate.com
SUMMARY:Sturgis Motorcycle Rally
DESCRIPTION:2025 is the 85th Anniversary of the Sturgis Motorcycle Rally\n(aka Black Hills Motorcycle Rally) The Worlds Largest & Most Famous Motorcycle Rally \nThrough the Sturgis\, SD area at multiple locations and venues you will find top notch music and entertainment\, 1000s of vendors\, wild parties and more stuff than we can even tell you about. \nThere are lots of great campgrounds from peaceful and relaxing\, to campgrounds with their own parties\, entertainment\, shows\, vendors and more going all day and all night. \nThe Sturgis Motorcycle Rally takes place throughout the city of Sturgis\, SD and the surrounding area with something going on all day and all night for the entire week. Some of the hot spots with events going on are… \nIron Horse Saloon\, Knuckle Saloon\, Glencoe Camp Resort (home of the world famous titty alley)\, Sturgis Buffalo Chip (known for some of the biggest name concerts)\, and of course the Full Throttle Saloon – the World’s Largest Biker Bar! \nIf you ride and have never been to The Sturgis Rally\, you need to go. If you been there before\, we don’t need to tell you how much fun it is!
URL:https://usmvmcgastate.com/calendar/sturgis-motorcycle-rally-2/
LOCATION:IL
END:VEVENT
BEGIN:VEVENT
DTSTART;VALUE=DATE:20250802
DTEND;VALUE=DATE:20250803
DTSTAMP:20260425T235345
CREATED:20250119T143352Z
LAST-MODIFIED:20250328T230805Z
UID:10000253-1754092800-1754179199@usmvmcgastate.com
SUMMARY:Maryland State Annual
DESCRIPTION:Save the date for the Maryland State 26th Annual. Annual will be on August 2nd 2025. \nThe hotel has been secured for the Maryland State 26th Annual on August 1-2 2025 . The link for rooms is:\nBest Western Hanover \nAddress: 6755 Dorsey Rd\, Elkridge\, MD 21075\n\nhttps://www.bestwestern.com/en_US/book/hotel-rooms.21028.html?groupId=J49QP7F3 [bestwestern.com]\n\n\n\nSee you there.
URL:https://usmvmcgastate.com/calendar/maryland-state-annual/
LOCATION:Best Western Hanover\, 6755 Dorsey Rd\, Elkridge\, MD\, 21075\, United States
END:VEVENT
BEGIN:VEVENT
DTSTART;TZID=America/New_York:20250802T140000
DTEND;TZID=America/New_York:20250802T235900
DTSTAMP:20260425T235345
CREATED:20241203T191154Z
LAST-MODIFIED:20250117T214312Z
UID:10000192-1754143200-1754179140@usmvmcgastate.com
SUMMARY:Michigan Combined Annual
DESCRIPTION:Michigan Combined annual 8/2/2025 \nMI Combined Annual
URL:https://usmvmcgastate.com/calendar/michigan-combined-annual/
LOCATION:Veterans Hall\, 2640 Blazer Road\, Maybe\, 48159\, United States
END:VEVENT
BEGIN:VEVENT
DTSTART;VALUE=DATE:20250803
DTEND;VALUE=DATE:20250804
DTSTAMP:20260425T235345
CREATED:20241220T162052Z
LAST-MODIFIED:20241220T162052Z
UID:10000207-1754179200-1754265599@usmvmcgastate.com
SUMMARY:IN5 Dirty nickel Brother SPURRZ ride
DESCRIPTION:IN5 Dirty nickel Brother SPURRZ ride  August 3rd 2025
URL:https://usmvmcgastate.com/calendar/in5-dirty-nickel-brother-spurrz-ride/
LOCATION:IL
END:VEVENT
BEGIN:VEVENT
DTSTART;TZID=America/New_York:20250803T110000
DTEND;TZID=America/New_York:20250803T160000
DTSTAMP:20260425T235345
CREATED:20250728T001617Z
LAST-MODIFIED:20250728T001651Z
UID:10000480-1754218800-1754236800@usmvmcgastate.com
SUMMARY:TX-1 Brother Recon's Grandson Benefit
DESCRIPTION:Our brother’s grandson has been having heart issues since birth. The doctors told his family that it is time that he must have this heart surgery soon. They will have to travel up north for the surgery and stay with him for a month near the hospital. Recon has stated that he will sell his house to get the money they need. I hope we can help him avoid this. Recon is a life member and needs our help. Please pray for him and his family.
URL:https://usmvmcgastate.com/calendar/tx-1-brother-recons-ganson-benefit/
LOCATION:Allure Aesthetix\, 1201 Ocean Dr.\, Corpus Christi\, TX\, United States
END:VEVENT
BEGIN:VEVENT
DTSTART;TZID=America/New_York:20250805T180000
DTEND;TZID=America/New_York:20250805T210000
DTSTAMP:20260425T235345
CREATED:20250212T212623Z
LAST-MODIFIED:20250212T212623Z
UID:10000270-1754416800-1754427600@usmvmcgastate.com
SUMMARY:GA11 Bike Night
DESCRIPTION: We here at GA11 are happy to announce that our Bike Night has changed locations to the Taco Mac at 2275 Market Place Blvd Cumming GA.\nAs always our Bike Night will be held on the First Tuesday of the month starting in April until October. Start time from 1800 until 2100hrs. Come on out for some Great Giveaways\,  Good Food\,  Plenty of Adult Beverages to choose from oh and did i mention they are offering a surprise just for the Event!!!
URL:https://usmvmcgastate.com/calendar/ga11-bike-night-6/
LOCATION:Taco Mac\, 2275 Market Place Blvd\, Cumming\, United States
END:VEVENT
BEGIN:VEVENT
DTSTART;TZID=America/New_York:20250809T110000
DTEND;TZID=America/New_York:20250809T170000
DTSTAMP:20260425T235345
CREATED:20250724T153351Z
LAST-MODIFIED:20250724T153351Z
UID:10000479-1754737200-1754758800@usmvmcgastate.com
SUMMARY:GA-18 Poker Run
DESCRIPTION:
URL:https://usmvmcgastate.com/calendar/ga-18-poker-run/
LOCATION:Copperhead Lodge\, 171 copperhead pkwy\, Blairsville\, 30512\, United States
END:VEVENT
BEGIN:VEVENT
DTSTART;TZID=America/New_York:20250809T120000
DTEND;TZID=America/New_York:20250809T170000
DTSTAMP:20260425T235345
CREATED:20250608T230349Z
LAST-MODIFIED:20250608T230349Z
UID:10000417-1754740800-1754758800@usmvmcgastate.com
SUMMARY:MD-4 Poker Run
DESCRIPTION:MD-4 will be hosting a poker run this year on 09 August 2025. Registration will begin at 1200 at the North East MD VFW (815 Turkey Point RD\, North East MD 21901) with first bike out at 1300. It is a VFW tour poker run and the route\, if you decide to go in the Order we suggest\, is a nice ride!
URL:https://usmvmcgastate.com/calendar/md-4-poker-run/
LOCATION:North East MD VFW\, 815 Turkey Point RD\, North East\, MD\, 21901\, United States
END:VEVENT
BEGIN:VEVENT
DTSTART;TZID=America/New_York:20250809T130000
DTEND;TZID=America/New_York:20250809T200000
DTSTAMP:20260425T235345
CREATED:20250328T231220Z
LAST-MODIFIED:20250328T231256Z
UID:10000387-1754744400-1754769600@usmvmcgastate.com
SUMMARY:GA-7 Family Day
DESCRIPTION:9 Aug 25 at 1300hrs\, GA7 will be having a Family Day at our clubhouse\, Everyone is welcome to join us and bring your littles with you. We will have water slides\, food\, candy\, and non alcoholic drinks at no charge. Donation cards available for adult beverages. Come join us for a great day with the family. See attached flyer. Y’all be safe out on the road.
URL:https://usmvmcgastate.com/calendar/ga-7-family-day/
LOCATION:GA-7 Club House\, 13 Andrews Street\, Surrency\, United States
END:VEVENT
BEGIN:VEVENT
DTSTART;VALUE=DATE:20250815
DTEND;VALUE=DATE:20250818
DTSTAMP:20260425T235345
CREATED:20250611T052917Z
LAST-MODIFIED:20250611T053024Z
UID:10000419-1755216000-1755475199@usmvmcgastate.com
SUMMARY:Ohio Summer Bash
DESCRIPTION:The Ohio Summer Bash is scheduled this year for August 15-17th at (1919 Gordon Rd. Cederville\, OH 45314.) There will be a $20 cover per person which includes your food and drinks for the weekend. Free on-site camping is available at the event property. There are nearby hotels for those who would rather stay there than to camp. We can provide a shuttle to those who are staying at the hotels so you are able to enjoy your time at the party. There is a list of hotels attached in no particular order for those who need the information. \nOH Summer Bash Flyer! \nOH SUMMER BASH HOTEL INFO
URL:https://usmvmcgastate.com/calendar/ohio-summer-bash-2/
LOCATION:OH Summer Bash\, 1919 Gordon Rd.\, Cederville\, OH\, 45314\, United States
END:VEVENT
BEGIN:VEVENT
DTSTART;TZID=America/New_York:20250815T120000
DTEND;TZID=America/New_York:20250817T000000
DTSTAMP:20260425T235345
CREATED:20240923T150016Z
LAST-MODIFIED:20250728T175644Z
UID:10000149-1755259200-1755388800@usmvmcgastate.com
SUMMARY:NC Combined Annual
DESCRIPTION:Brothers we have changed the date and venue for our next NC Combined Annual. It will be one week earlier. 15-17 Aug 2025. It will be at the Special Forces Association I-XVII. \n1509 Zinnia Court\, Fayetteville NC 28306
URL:https://usmvmcgastate.com/calendar/nc-combined-annual/
LOCATION:Special Forces Association I-XVII\, 1509 Zinnia court\, Fayetteville\, NC\, 28306\, United States
END:VEVENT
BEGIN:VEVENT
DTSTART;TZID=America/New_York:20250816T100000
DTEND;TZID=America/New_York:20250816T170000
DTSTAMP:20260425T235345
CREATED:20250516T161131Z
LAST-MODIFIED:20250516T161131Z
UID:10000410-1755338400-1755363600@usmvmcgastate.com
SUMMARY:TN-8 Benefit Ride
DESCRIPTION:TN-8 Grande’s Crew Greeneville TN\, will be having our annual benefit ride for our local Veteran’s Memorial Park Ride.   All proceeds will go to benefit the Greeneville Veteran’s Memorial Park.  We will have a beautiful ride planned\, food and live music.  If at all possible come out and help us support our local Veteran’s Memorial Park.
URL:https://usmvmcgastate.com/calendar/tn-8-benefit-ride-2/
LOCATION:TN-8 Veterans Memorial Park\, 803 Forest St.\, Greeneville\, TN\, United States
END:VEVENT
BEGIN:VEVENT
DTSTART;TZID=America/New_York:20250816T130000
DTEND;TZID=America/New_York:20250816T160000
DTSTAMP:20260425T235345
CREATED:20240909T023630Z
LAST-MODIFIED:20250210T035752Z
UID:10000141-1755349200-1755360000@usmvmcgastate.com
SUMMARY:NH-2 Annual
DESCRIPTION: NH 2 annual will be August 16\n At the Texas Roadhouse.  From  1300 to 1600 hrs.  47 fox run rd Newington NH.
URL:https://usmvmcgastate.com/calendar/nh-2-annual-2/
LOCATION:NH-2 Annual\, 41 Fox Run Rd.\, Newington\, NH\, United States
END:VEVENT
END:VCALENDAR