BEGIN:VCALENDAR
VERSION:2.0
PRODID:-// - ECPv6.15.20//NONSGML v1.0//EN
CALSCALE:GREGORIAN
METHOD:PUBLISH
X-ORIGINAL-URL:https://usmvmcgastate.com
X-WR-CALDESC:Events for 
REFRESH-INTERVAL;VALUE=DURATION:PT1H
X-Robots-Tag:noindex
X-PUBLISHED-TTL:PT1H
BEGIN:VTIMEZONE
TZID:America/New_York
BEGIN:DAYLIGHT
TZOFFSETFROM:-0500
TZOFFSETTO:-0400
TZNAME:EDT
DTSTART:20230312T070000
END:DAYLIGHT
BEGIN:STANDARD
TZOFFSETFROM:-0400
TZOFFSETTO:-0500
TZNAME:EST
DTSTART:20231105T060000
END:STANDARD
BEGIN:DAYLIGHT
TZOFFSETFROM:-0500
TZOFFSETTO:-0400
TZNAME:EDT
DTSTART:20240310T070000
END:DAYLIGHT
BEGIN:STANDARD
TZOFFSETFROM:-0400
TZOFFSETTO:-0500
TZNAME:EST
DTSTART:20241103T060000
END:STANDARD
BEGIN:DAYLIGHT
TZOFFSETFROM:-0500
TZOFFSETTO:-0400
TZNAME:EDT
DTSTART:20250309T070000
END:DAYLIGHT
BEGIN:STANDARD
TZOFFSETFROM:-0400
TZOFFSETTO:-0500
TZNAME:EST
DTSTART:20251102T060000
END:STANDARD
END:VTIMEZONE
BEGIN:VEVENT
DTSTART;TZID=America/New_York:20240503T190000
DTEND;TZID=America/New_York:20240503T190000
DTSTAMP:20260423T112151
CREATED:20240523T050229Z
LAST-MODIFIED:20240729T171141Z
UID:10000002-1714762800-1714762800@usmvmcgastate.com
SUMMARY:GA-3 Warner Robins Open House
DESCRIPTION:Open House First Friday of Every Month 7pm-11pm Location: 201 Wyler Ave Warner Robins GA. 31093
URL:https://usmvmcgastate.com/calendar/ga-3-warner-robins-open-house/
LOCATION:GA-3 Clubhouse\, 201 Wyler Ave\, Waner Robins\, 31093\, United States
END:VEVENT
BEGIN:VEVENT
DTSTART;VALUE=DATE:20240504
DTEND;VALUE=DATE:20240505
DTSTAMP:20260423T112151
CREATED:20240523T050229Z
LAST-MODIFIED:20240524T061145Z
UID:10000003-1714780800-1714867199@usmvmcgastate.com
SUMMARY:THE OH-6 Buckeye Blast
DESCRIPTION:Click on Event for Flyer!2nd Annual Buckeye Blast by OH-6 THE Zone 6.\nThe hotel is ready to start accepting reservations for the first weekend of May. In Delaware\, Ohio.\nWhen:\n3-5 May 2024\nWhere:\nQuality Inn and Suites\n1251 Columbus Pike\nDelaware\, OH  43015\nCall: (740)363-8869\nSpeak with Keely\, Josh or Olivia and let them know you are with US Military Vets use code USMVOH6\nIt’s best to call M-F during normal business hours and speak to one of the three above\, as others seem to screw it up. If you have any issues or they tell you anything other then\, you’re good to go\, please let me know.\nLast year we sold out the hotel and it was a blast indeed. So get your room and let’s get together for some solid Brotherhood and a damn good time.
URL:https://usmvmcgastate.com/calendar/the-oh-6-buckeye-blast/
LOCATION:VA
END:VEVENT
BEGIN:VEVENT
DTSTART;VALUE=DATE:20240504
DTEND;VALUE=DATE:20240505
DTSTAMP:20260423T112151
CREATED:20240523T050229Z
LAST-MODIFIED:20240524T061145Z
UID:10000004-1714780800-1714867199@usmvmcgastate.com
SUMMARY:Texas Combined Annual
DESCRIPTION:Click on Event for Flyer!The Texas Combined Annual will be held in Central Texas on Saturday\, May 4\, 2024\, at the Fred T. Venable VFW Post 3393 424 Country Rd. 4931\, Kempner TX 76539.\nHost hotel information:\nComfort Suites\n1816 Martin Luther King Jr. Dr.\nCopperas Cove\, TX 76522\nHere is the link to make your reservations with the discount code.\nhttp://www.choicehotels.com/reservations/groups/GN82D2\nSecondary hotel information:\nDays Inn Copperas Cove\n341 Constitution Dr.\nCopperas Cove\, TX 76522\nThey offer military discounts.\nProposed timeline:\nFriday\, May 3:\n1600-2100 Meet and Greet at the hotel.\nSaturday\, May 4:\n0900. Invite to do some PT at the local CrossFit box.\n1100 KSU from the hotel. Ride through CTX to Reverend Jim’s Damn Bar for lunch.\n1600 VFW hall opens for vendors.\n1800 Official opening to Texas Combined Annual.\nSunday\, May 5:\n0900 breakfast tacos and goodbyes
URL:https://usmvmcgastate.com/calendar/texas-combined-annual/
LOCATION:VA
END:VEVENT
BEGIN:VEVENT
DTSTART;TZID=America/New_York:20240504T120000
DTEND;TZID=America/New_York:20240504T120000
DTSTAMP:20260423T112151
CREATED:20240523T050229Z
LAST-MODIFIED:20240524T061145Z
UID:10000005-1714824000-1714824000@usmvmcgastate.com
SUMMARY:GA-2 Annual/ GA State Meeting
DESCRIPTION:Click on Event for Flyer!The Georgia State Meeting will start promptly at 12 Noon!\nLocation: 102 N. 2nd Ave Chatsworth GA 30705
URL:https://usmvmcgastate.com/calendar/ga-2-annual-ga-state-meeting/
LOCATION:VA
END:VEVENT
BEGIN:VEVENT
DTSTART;VALUE=DATE:20240505
DTEND;VALUE=DATE:20240506
DTSTAMP:20260423T112151
CREATED:20240523T050229Z
LAST-MODIFIED:20240524T061145Z
UID:10000006-1714867200-1714953599@usmvmcgastate.com
SUMMARY:Jackson MI Poker Run
DESCRIPTION:
URL:https://usmvmcgastate.com/calendar/jackson-mi-poker-run/
LOCATION:VA
END:VEVENT
BEGIN:VEVENT
DTSTART;VALUE=DATE:20240511
DTEND;VALUE=DATE:20240512
DTSTAMP:20260423T112151
CREATED:20240523T050231Z
LAST-MODIFIED:20240524T061145Z
UID:10000007-1715385600-1715471999@usmvmcgastate.com
SUMMARY:GA-10 (Lamar County) Annual
DESCRIPTION:Click on Event for Flyer!
URL:https://usmvmcgastate.com/calendar/ga-10-lamar-county-annual/
LOCATION:VA
END:VEVENT
BEGIN:VEVENT
DTSTART;VALUE=DATE:20240511
DTEND;VALUE=DATE:20240512
DTSTAMP:20260423T112151
CREATED:20240523T050231Z
LAST-MODIFIED:20240524T061145Z
UID:10000008-1715385600-1715471999@usmvmcgastate.com
SUMMARY:MD-3 SOUTHERN MD CHARTER PARTY
DESCRIPTION:Click on Event for Flyer!Southern MD’s (MD-3) 23RD Annual Charter Party is scheduled for Saturday\, May 11th at the Calvert ELK’s lodge in Prince Frederick\, MD. A Meet and greet will be held on Friday\, May 10th at 1800.
URL:https://usmvmcgastate.com/calendar/md-3-southern-md-charter-party/
LOCATION:VA
END:VEVENT
BEGIN:VEVENT
DTSTART;TZID=America/New_York:20240511T120000
DTEND;TZID=America/New_York:20240511T120000
DTSTAMP:20260423T112151
CREATED:20240523T050231Z
LAST-MODIFIED:20240524T061145Z
UID:10000009-1715428800-1715428800@usmvmcgastate.com
SUMMARY:IN-5 Spring Opener
DESCRIPTION:Click on Event for Flyer!IN-5 Spring Opener May 11 2024\nLocation: (IN-5 Clubhouse) The Dirty Nickel\n3186 Nubian Rd. Salem IN.
URL:https://usmvmcgastate.com/calendar/in-5-spring-opener/
LOCATION:VA
END:VEVENT
BEGIN:VEVENT
DTSTART;TZID=America/New_York:20240511T130000
DTEND;TZID=America/New_York:20240511T130000
DTSTAMP:20260423T112151
CREATED:20240523T050231Z
LAST-MODIFIED:20240524T061145Z
UID:10000010-1715432400-1715432400@usmvmcgastate.com
SUMMARY:NY-1 Annual
DESCRIPTION:Click on Event for Flyer!
URL:https://usmvmcgastate.com/calendar/ny-1-annual/
LOCATION:VA
END:VEVENT
BEGIN:VEVENT
DTSTART;VALUE=DATE:20240518
DTEND;VALUE=DATE:20240519
DTSTAMP:20260423T112151
CREATED:20240523T050231Z
LAST-MODIFIED:20240524T061145Z
UID:10000011-1715990400-1716076799@usmvmcgastate.com
SUMMARY:CANCELLED! FLA-3 Annual CANCELLED!
DESCRIPTION:CANCELLED!
URL:https://usmvmcgastate.com/calendar/cancelled-fla-3-annual-cancelled/
LOCATION:VA
END:VEVENT
BEGIN:VEVENT
DTSTART;TZID=America/New_York:20240518T100000
DTEND;TZID=America/New_York:20240518T100000
DTSTAMP:20260423T112151
CREATED:20240523T050231Z
LAST-MODIFIED:20240524T061145Z
UID:10000012-1716026400-1716026400@usmvmcgastate.com
SUMMARY:IN-4 Benefit Ride
DESCRIPTION:IN-4\, “The Fort”\, will be hosting a “Benefit Ride” on 18May2024 showcasing the “Veterans National Memorial Shrine” in Fort Wayne\, Indiana.See the attached flyers for details.
URL:https://usmvmcgastate.com/calendar/in-4-benefit-ride/
LOCATION:VA
END:VEVENT
BEGIN:VEVENT
DTSTART;TZID=America/New_York:20240518T120000
DTEND;TZID=America/New_York:20240518T120000
DTSTAMP:20260423T112151
CREATED:20240523T050231Z
LAST-MODIFIED:20240524T061145Z
UID:10000013-1716033600-1716033600@usmvmcgastate.com
SUMMARY:PA-2 Benefit for JT
DESCRIPTION:Click on Event for Flyer!The Shippensburg VFW post 6168 is holding an event for Brother JT who was lost earlier this year.
URL:https://usmvmcgastate.com/calendar/pa-2-benefit-for-jt/
LOCATION:VA
END:VEVENT
BEGIN:VEVENT
DTSTART;TZID=America/New_York:20240518T120000
DTEND;TZID=America/New_York:20240518T120000
DTSTAMP:20260423T112151
CREATED:20240523T050231Z
LAST-MODIFIED:20240524T061145Z
UID:10000014-1716033600-1716033600@usmvmcgastate.com
SUMMARY:Virginia State Annual
DESCRIPTION:Click on Event for Flyer!Virginia (VA) State Annual. We invite all our Brothers\, family members\, and significant others to join us on our Virginia State Annual from 17-19 May 2024.\nTime to band together\, party hard\, and enjoy our Brotherhood!!\nLocation: America Legion Post 330\n14222 Rixeyville Road\, Culpeper\, VA 22701
URL:https://usmvmcgastate.com/calendar/virginia-state-annual/
LOCATION:VA
END:VEVENT
BEGIN:VEVENT
DTSTART;TZID=America/New_York:20240518T130000
DTEND;TZID=America/New_York:20240518T130000
DTSTAMP:20260423T112151
CREATED:20240523T050231Z
LAST-MODIFIED:20240524T061145Z
UID:10000015-1716037200-1716037200@usmvmcgastate.com
SUMMARY:NH-1 Annual
DESCRIPTION:Click on Event for Flyer!New Hampshire 1 annual will be May 18 2024 1300 at the American Legion\nPost 11 20 Webster St Jaffrey NH with a meet and greet May 17
URL:https://usmvmcgastate.com/calendar/nh-1-annual/
LOCATION:VA
END:VEVENT
BEGIN:VEVENT
DTSTART;TZID=America/New_York:20240524T180000
DTEND;TZID=America/New_York:20240524T180000
DTSTAMP:20260423T112151
CREATED:20240523T050231Z
LAST-MODIFIED:20240524T061145Z
UID:10000016-1716573600-1716573600@usmvmcgastate.com
SUMMARY:GA-6 Stiff Six Open House
DESCRIPTION:Click on Event for Flyer!
URL:https://usmvmcgastate.com/calendar/ga-6-stiff-six-open-house/
LOCATION:VA
END:VEVENT
BEGIN:VEVENT
DTSTART;TZID=America/New_York:20240525T090000
DTEND;TZID=America/New_York:20240525T090000
DTSTAMP:20260423T112151
CREATED:20240523T050246Z
LAST-MODIFIED:20240526T050638Z
UID:10000017-1716627600-1716627600@usmvmcgastate.com
SUMMARY:AZ-2 Brother Bullfrogs Poker Run
DESCRIPTION: 
URL:https://usmvmcgastate.com/calendar/az-2-brother-bullfrogs-poker-run/
LOCATION:VA
END:VEVENT
BEGIN:VEVENT
DTSTART;VALUE=DATE:20240531
DTEND;VALUE=DATE:20240603
DTSTAMP:20260423T112151
CREATED:20240523T050246Z
LAST-MODIFIED:20240526T050755Z
UID:10000018-1717113600-1717372799@usmvmcgastate.com
SUMMARY:New York State Annual
DESCRIPTION:NY State AnnualFriday May 31 – Sunday June 2\, 2024\nLake Chalet Campground\nBridgewater NY\nNearby is Jeannies Dream Motel for whoever doesnt want to stay at Lake Chalet Campground. It’s 7 miles away.\nAddress for Motel: 1354 US-20 West Winfield NY 13491 (315) 822-3468
URL:https://usmvmcgastate.com/calendar/new-york-state-annual/
LOCATION:Lake Chalet Campground\, 598 Ny-8\, Bridgewater\, NY\, 13313\, United States
END:VEVENT
BEGIN:VEVENT
DTSTART;TZID=America/New_York:20240601T100000
DTEND;TZID=America/New_York:20240601T150000
DTSTAMP:20260423T112151
CREATED:20240523T050246Z
LAST-MODIFIED:20240531T181647Z
UID:10000020-1717236000-1717254000@usmvmcgastate.com
SUMMARY:IN-9 Poker Run
DESCRIPTION:  \nIN-9 Poker Run \nIN-9 3rd annual poker run on June 1st. Starting at VFW Post 2067 151 E Washington Ave\, Peru\, IN 46970\nWe had a great showing last year and hope to have more this year \n 
URL:https://usmvmcgastate.com/calendar/in-9-poker-run/
LOCATION:VFW Post 2067\, 151 E Washington Ave\, Peru\, IN\, 46970\, United States
END:VEVENT
BEGIN:VEVENT
DTSTART;TZID=America/New_York:20240601T100000
DTEND;TZID=America/New_York:20240601T160000
DTSTAMP:20260423T112151
CREATED:20240523T050246Z
LAST-MODIFIED:20240531T181128Z
UID:10000019-1717236000-1717257600@usmvmcgastate.com
SUMMARY:GA-5 Cartersville Poker Run
DESCRIPTION:$20 First Hand – $10 additional hands (no limit!!) \nAll Proceeds to benefit the Georgia National Guard Family Fund
URL:https://usmvmcgastate.com/calendar/ga-5-cartersville-poker-run/
LOCATION:Southern Devil Harley Davidson\, 2281 US-411\, Cartersville\, 30121\, United States
END:VEVENT
BEGIN:VEVENT
DTSTART;TZID=America/New_York:20240601T110000
DTEND;TZID=America/New_York:20240601T170000
DTSTAMP:20260423T112151
CREATED:20240523T050246Z
LAST-MODIFIED:20240531T203343Z
UID:10000021-1717239600-1717261200@usmvmcgastate.com
SUMMARY:FLA-6 Doc Holiday Poker Run
DESCRIPTION:  \n  \npoker run in remembrance of Doc Holiday (F—k Cancer) Daytona Beach Chapter Fla6
URL:https://usmvmcgastate.com/calendar/fla-6-doc-holiday-poker-run/
LOCATION:Fletchers\, 745 Ridgewood Holly Hill\, FL\, United States
END:VEVENT
BEGIN:VEVENT
DTSTART;TZID=America/New_York:20240601T130000
DTEND;TZID=America/New_York:20240601T160000
DTSTAMP:20260423T112151
CREATED:20240523T050301Z
LAST-MODIFIED:20240531T181317Z
UID:10000022-1717246800-1717257600@usmvmcgastate.com
SUMMARY:NH 2 Annual
DESCRIPTION:NH-2 Annual will be change to June 1\,2024 at the Texas Roadhouse from 1300 to 1600. We will have a great meal 50/50 and raffle. Hope to see you all there for a good time.I have made reservations for 5 rooms at $189.00 per night. Hampton Inn Hilton\, phone number 603-516-5609 use vet24 when u call in. Thanks\nAddress: 9 hotel drive Dover NH\nMust book before 30 May 2024
URL:https://usmvmcgastate.com/calendar/nh-2-annual/
LOCATION:VA
END:VEVENT
BEGIN:VEVENT
DTSTART;VALUE=DATE:20240607
DTEND;VALUE=DATE:20240609
DTSTAMP:20260423T112151
CREATED:20240523T050316Z
LAST-MODIFIED:20240605T020307Z
UID:10000028-1717718400-1717891199@usmvmcgastate.com
SUMMARY:GA4 "Savannah" Meet & Greet/Annual
DESCRIPTION:GA4 “Savannah” 21st Annual – June 7th -8th Meet & Greet Fri 1900-? Anniversary Bash Sat 1300-?\nLocation: VFW POST 660 5115 Ogeechee Rd\, Savannah\, GA 31405
URL:https://usmvmcgastate.com/calendar/ga4-savannah-annual/
LOCATION:VFW POST 660\, 5115 Ogeechee Rd.\, Savannah\, United States
END:VEVENT
BEGIN:VEVENT
DTSTART;TZID=America/New_York:20240607T190000
DTEND;TZID=America/New_York:20240607T190000
DTSTAMP:20260423T112151
CREATED:20240523T050301Z
LAST-MODIFIED:20240524T155004Z
UID:10000023-1717786800-1717786800@usmvmcgastate.com
SUMMARY:GA-3 Warner Robins Open House
DESCRIPTION:Open House First Friday of Every Month 7pm-11pmLocation: 201 Wyler Ave Warner Robins GA. 31093
URL:https://usmvmcgastate.com/calendar/ga-3-warner-robins-open-house-2/
LOCATION:Warner Robins Open House\, 201 Wyler Ave\, Warner Robins\, GA\, 31093\, United States
END:VEVENT
BEGIN:VEVENT
DTSTART;VALUE=DATE:20240608
DTEND;VALUE=DATE:20240609
DTSTAMP:20260423T112151
CREATED:20240523T050316Z
LAST-MODIFIED:20240526T052846Z
UID:10000027-1717804800-1717891199@usmvmcgastate.com
SUMMARY:FLA 16 Martin Co Annual
DESCRIPTION:FLA-16 Annual \n  \nFLA 16 Martin Co will be holding our Annual 8 June 2024\nLocation: VFW Post 4194\n2464 SE Veterans Ave\,\nStuart\, FL. 34994
URL:https://usmvmcgastate.com/calendar/fla-16-martin-co-annual/
LOCATION:VFW Post 4194\, 2464 SE Veterans Ave\, Stuart\, FL\, 34994\, United States
END:VEVENT
BEGIN:VEVENT
DTSTART;VALUE=DATE:20240608
DTEND;VALUE=DATE:20240609
DTSTAMP:20260423T112151
CREATED:20240523T050302Z
LAST-MODIFIED:20240526T053554Z
UID:10000025-1717804800-1717891199@usmvmcgastate.com
SUMMARY:AL-4 Memorial D-Day Poker Run
DESCRIPTION:  \nThis year marks the 80th Anniversary of D-Day\, and we’re gearing up to make it unforgettable.\nEvent Scoop:\nWhen: Saturday\, June 08\nStarting Point: VFW Post 4190\, 2309 Veterans Drive SE\, Decatur\, AL 35601\nTiming: Sign-ups at 10 AM and kickstands up at 11 AM\nAs always\, this isn’t just any ride – it’s a day to chill with family and friends\, enjoy some good food and tunes\, and ride in honor of the heroes of D-Day.\nWe’re looking forward to seeing everyone out there!\nSpread the word and bring your crew – the more\, the merrier!
URL:https://usmvmcgastate.com/calendar/al-4-memorial-d-day-poker-run/
LOCATION:VFW Post 4190\, 2309 Veterans Drive SE\, Decatur\, AL\, 35601\, United States
END:VEVENT
BEGIN:VEVENT
DTSTART;VALUE=DATE:20240608
DTEND;VALUE=DATE:20240609
DTSTAMP:20260423T112151
CREATED:20240523T050301Z
LAST-MODIFIED:20240526T053648Z
UID:10000024-1717804800-1717891199@usmvmcgastate.com
SUMMARY:OH-8 Poker Run
DESCRIPTION:OH8 POKER RUN \n  \n5 CARD DRAW POKER RUN\nSATURDAY JUNE 8\, 2024 registration 10am\, First Bike out at 1200\, Last bike in 5pm\nALL PROCEEDS TO BENEFIT VETERAN CAUSES\nSTART // ENDS\nPIQUA VFW POST 4874\n8756 N COUNTY RD 25A PIQUA\, OH 45356\nCARD STOPS AT:\nAL’S PLACE\n91 S MAIN ST FORT LORAMIE\, OH 45845\nMEYER’S TAVERN\n303 N MAIN ST BOTKINS\, OH 45306\nTHE PINES\n2516 C-255 QUINCY\, OH 43343\n**ALL STOPS MUST BE MET TO COLLECT CARD**\n$20 PER BIKE // $5 PER PASSENGER
URL:https://usmvmcgastate.com/calendar/oh-8-poker-run/
LOCATION:PIQUA VFW POST 4874\, 8756 N COUNTY RD 25A\, PIQUA\, OH\, 45356\, United States
END:VEVENT
BEGIN:VEVENT
DTSTART;TZID=America/New_York:20240608T100000
DTEND;TZID=America/New_York:20240608T100000
DTSTAMP:20260423T112151
CREATED:20240523T050302Z
LAST-MODIFIED:20240526T053126Z
UID:10000026-1717840800-1717840800@usmvmcgastate.com
SUMMARY:WA State Brother Hillbilly Memorial Ride and 1st Annual
DESCRIPTION:  \nAs most of you know WA-1 lost our beloved President\, Hillbilly\, last month in a motorcycle accident. He truly was the driving force behind standing up our Chapter in Washington State. Our Chapter has now reset The Table\, filling its officer positions. We’re back on your feet now and moving forward.\nThere have been questions from around The Eagle Nation as to when our Chapter will hold a memorial ride in Hillbilly’s honor. We also need to address our 1st Annual Ride in June. The Chapter has decided to do both at the same time.\nOur Annual and the memorial ride will be on June 8th. We’re thinking that anyone coming in from out of state should show up on the 7th. We’ll be taking over one of our local bars for a meet and greet on the 7th in the Sumner Washington area.\nOn the 8th we’ll ride around what we call The Backyard. This area is tucked up against the Cascade foothills and the surrounding valleys with Mt Rainier as a backdrop. If you’re curious about the area look up the towns of Cumberland\, Enumclaw\, Buckley and Orting.\nOn the 9th we’ll get morning chow at our favorite place in Sumner and then conclude the event.\nWe’re a new Chapter and a small Chapter. Unfortunately\, we don’t have any spare bikes laying around. We don’t have a club house either so you’re on your own for lodging as well.\nIf you’re flying in SeaTac (SEA) is where you are going to want to land.\nU.S. Military Vets Motorcycle Club Block\nJune 7th – 9th\, 2024\nCut-off date for guests to book at discounted rates – May 24th 2024\nTo book\, call the Holiday Inn Express Sumner or use the booking link below! The number to call is 253-299-0205 and ask for the U.S. Military Vets Motorcycle Club Block. \nBooking Link: https://www.hiexpress.com/redirect?path=hd&brandCode=EX&localeCode=en&regionCode=1&hotelCode=SEASU&_PMID=99801505&GPC=ILI&cn=no&viewfullsite=true \nHow to use the link: Once you click on the link it will load the main homepage for the hotel\, you will scroll down to the bottom and enter your dates of stay June 7th – 9th (Anything outside of these dates will not work) then hit search\, this should pull up your rooms with the discounted rates.
URL:https://usmvmcgastate.com/calendar/wa-state-brother-hillbilly-memorial-ride-and-1st-annual/
LOCATION:VA
END:VEVENT
BEGIN:VEVENT
DTSTART;TZID=America/New_York:20240608T130000
DTEND;TZID=America/New_York:20240608T210000
DTSTAMP:20260423T112151
CREATED:20240523T050316Z
LAST-MODIFIED:20240601T033721Z
UID:10000029-1717851600-1717880400@usmvmcgastate.com
SUMMARY:PA7's annual crawfish boil
DESCRIPTION:PA7 Crawfish Boil \n  \nPA7’s annual crawfish boil will be Saturday the 8th of June starting at 1300.\nLocation: AmVets Post 293\, 2074 PA-72\, Lebanon\, PA 17046\nDoors open/first food served at 1PM and continues until food runs out. \nPlease note\, if you are coming\, and you are traveling to the Lebanon AMVETS from the north (traveling south on PA 72) please be advised that the bridge just north of the AMVETS is closed for repairs.  There are detour signs\, and Google Maps (& Waze?) is aware of the bridge shutdown.  Between the detour signs and a directions app you should be in good shape.
URL:https://usmvmcgastate.com/calendar/pa7s-annual-crawfish-boil/
LOCATION:AmVets Post 293\, 2074 PA-72\, Lebanon\, PA\, 17046\, United States
END:VEVENT
BEGIN:VEVENT
DTSTART;VALUE=DATE:20240615
DTEND;VALUE=DATE:20240616
DTSTAMP:20260423T112151
CREATED:20240523T050317Z
LAST-MODIFIED:20240526T055011Z
UID:10000031-1718409600-1718495999@usmvmcgastate.com
SUMMARY:PA-2 Spring Fling
DESCRIPTION:PA-2 Spring Fling \n  \nMason Dixon second annual spring fling will be held June 15\, 2024
URL:https://usmvmcgastate.com/calendar/pa-2-spring-fling/
LOCATION:SPRING FLING\, 4274 Williamson Rd\, Greencastle\, PA\, 17225\, United States
END:VEVENT
BEGIN:VEVENT
DTSTART;VALUE=DATE:20240615
DTEND;VALUE=DATE:20240616
DTSTAMP:20260423T112151
CREATED:20240523T050316Z
LAST-MODIFIED:20240526T054608Z
UID:10000030-1718409600-1718495999@usmvmcgastate.com
SUMMARY:SC-3 4-D Run
DESCRIPTION:  \nSC-3 4-D Run will be June 15th 2024.
URL:https://usmvmcgastate.com/calendar/sc-3-4-d-run/
LOCATION:Brody’s Bar & Grill\, 47 Ferry Dr.\, Beaufort\, SC\, 29907\, United States
END:VEVENT
END:VCALENDAR