BEGIN:VCALENDAR
VERSION:2.0
PRODID:-// - ECPv6.15.20//NONSGML v1.0//EN
CALSCALE:GREGORIAN
METHOD:PUBLISH
X-ORIGINAL-URL:https://usmvmcgastate.com
X-WR-CALDESC:Events for 
REFRESH-INTERVAL;VALUE=DURATION:PT1H
X-Robots-Tag:noindex
X-PUBLISHED-TTL:PT1H
BEGIN:VTIMEZONE
TZID:America/New_York
BEGIN:DAYLIGHT
TZOFFSETFROM:-0500
TZOFFSETTO:-0400
TZNAME:EDT
DTSTART:20250309T070000
END:DAYLIGHT
BEGIN:STANDARD
TZOFFSETFROM:-0400
TZOFFSETTO:-0500
TZNAME:EST
DTSTART:20251102T060000
END:STANDARD
BEGIN:DAYLIGHT
TZOFFSETFROM:-0500
TZOFFSETTO:-0400
TZNAME:EDT
DTSTART:20260308T070000
END:DAYLIGHT
BEGIN:STANDARD
TZOFFSETFROM:-0400
TZOFFSETTO:-0500
TZNAME:EST
DTSTART:20261101T060000
END:STANDARD
BEGIN:DAYLIGHT
TZOFFSETFROM:-0500
TZOFFSETTO:-0400
TZNAME:EDT
DTSTART:20270314T070000
END:DAYLIGHT
BEGIN:STANDARD
TZOFFSETFROM:-0400
TZOFFSETTO:-0500
TZNAME:EST
DTSTART:20271107T060000
END:STANDARD
END:VTIMEZONE
BEGIN:VEVENT
DTSTART;VALUE=DATE:20260808
DTEND;VALUE=DATE:20260809
DTSTAMP:20260419T124353
CREATED:20260114T180406Z
LAST-MODIFIED:20260222T164511Z
UID:10000552-1786147200-1786233599@usmvmcgastate.com
SUMMARY:Section 8 Annual in Nashville
DESCRIPTION: TN2 will hold our Annual 8 Aug 2026 at  VFW Post 1291\, 1907 Lebanon Pike\, Nashville\, TN 37210.\nFor the first time in a long minute\, our annual Section 8 party is actually falling on 8/8 !\nWe hope you can come on in for it!
URL:https://usmvmcgastate.com/calendar/section-8-annual-in-nashville/
LOCATION:VFW Post 1291\, 1907 Lebanon Pike\, Nashville\, TN\, 37210\, United States
END:VEVENT
BEGIN:VEVENT
DTSTART;TZID=America/New_York:20260808T110000
DTEND;TZID=America/New_York:20260808T170000
DTSTAMP:20260419T124353
CREATED:20260210T030307Z
LAST-MODIFIED:20260210T030307Z
UID:10000586-1786186800-1786208400@usmvmcgastate.com
SUMMARY:NorthEast MD VFW Tour Poker Run
DESCRIPTION:We proudly host a VFW Poker Tour Poker Run to support our local VFWs and bring them some business\, with 100% of all proceeds going directly back to veterans. Donations benefit the Perry Point VA Hospital and other VA-affiliated organizations that provide critical support to homeless\, ill\, and at-risk veterans. \nLast year\, through the generosity of our supporters\, we raised $2\,800. This year\, our goal is to grow that contribution and make an even greater impact for those who have served our country. \nEagle Nations support\, whether through participation\, sponsorship\, or sharing this event\, directly helps veterans in need!
URL:https://usmvmcgastate.com/calendar/northeast-md-vfw-tour-poker-run/
LOCATION:Jarrettsville VFW Post 8672\, 1714 Morse Rd.\, Forrest Hill\, MD\, United States
END:VEVENT
END:VCALENDAR