BEGIN:VCALENDAR
VERSION:2.0
PRODID:-// - ECPv6.15.20//NONSGML v1.0//EN
CALSCALE:GREGORIAN
METHOD:PUBLISH
X-ORIGINAL-URL:https://usmvmcgastate.com
X-WR-CALDESC:Events for 
REFRESH-INTERVAL;VALUE=DURATION:PT1H
X-Robots-Tag:noindex
X-PUBLISHED-TTL:PT1H
BEGIN:VTIMEZONE
TZID:America/New_York
BEGIN:DAYLIGHT
TZOFFSETFROM:-0500
TZOFFSETTO:-0400
TZNAME:EDT
DTSTART:20250309T070000
END:DAYLIGHT
BEGIN:STANDARD
TZOFFSETFROM:-0400
TZOFFSETTO:-0500
TZNAME:EST
DTSTART:20251102T060000
END:STANDARD
BEGIN:DAYLIGHT
TZOFFSETFROM:-0500
TZOFFSETTO:-0400
TZNAME:EDT
DTSTART:20260308T070000
END:DAYLIGHT
BEGIN:STANDARD
TZOFFSETFROM:-0400
TZOFFSETTO:-0500
TZNAME:EST
DTSTART:20261101T060000
END:STANDARD
BEGIN:DAYLIGHT
TZOFFSETFROM:-0500
TZOFFSETTO:-0400
TZNAME:EDT
DTSTART:20270314T070000
END:DAYLIGHT
BEGIN:STANDARD
TZOFFSETFROM:-0400
TZOFFSETTO:-0500
TZNAME:EST
DTSTART:20271107T060000
END:STANDARD
END:VTIMEZONE
BEGIN:VEVENT
DTSTART;VALUE=DATE:20260605
DTEND;VALUE=DATE:20260607
DTSTAMP:20260425T062200
CREATED:20260131T171504Z
LAST-MODIFIED:20260209T174637Z
UID:10000581-1780617600-1780790399@usmvmcgastate.com
SUMMARY:AL-4 D-Day Celebration
DESCRIPTION:Save the day Brothers.  AL-4 will be holding our annual D-Day Celebration event.  There will be a Meet & Greet at the Athens\, AL VFW with Club Brothers on Friday night at 1600 on 5 June.  Saturday 6 June 0800 Breakfast and at 1030 a Ride to Huntsville/Madison County Veterans Memorial for the D-Day Celebration remembrance at 1300. \nThere will be free tent camping at the VFW for Club Brothers. \nAL-4 has revamped our annual D-Day event. This year\, we are transitioning from a poker run to a celebration featuring primitive camping (tents only)\, biker games\, food\, and drinks. \nThis year’s celebration will be held 5-6 June at the Athens VFW\, 18615 Jefferson St\, Athens\, AL 35611 \nAL-4 D-Day Event Flyer!
URL:https://usmvmcgastate.com/calendar/al-4-d-day-celebration/
LOCATION:Athens AL VFW Post 4765\, 18615 Jefferson St.\, Athens\, AL\, 35611\, United States
END:VEVENT
BEGIN:VEVENT
DTSTART;VALUE=DATE:20260605
DTEND;VALUE=DATE:20260608
DTSTAMP:20260425T062200
CREATED:20260114T182638Z
LAST-MODIFIED:20260119T231442Z
UID:10000557-1780617600-1780876799@usmvmcgastate.com
SUMMARY:MD State Chapter Annual
DESCRIPTION:MD State will be hosting our 27th Annual Charter Party and Meet-N-Greet on June 5th and June 6th 2026.  The festivities this year will be at the Washington DC/Capitol KOA\, 768 Cecil Avenue North\, Millersville\, MD 21108.\n\nThe Meet-N-Greet will be 1800 on Friday June 5th at the KOA and the Charter Party will be Saturday June  6th at 1300.\n\nWe have reserved 5 Deluxe Cabins (sleeps 6-8)\, 10 camping cabins (Sleep 3 or 4)\, 5 RV sites\, and 10 tent sites.\n\nIf reserving a cabin\,  please try to fill it. The RV sites are of varying length\, so please ask when reserving.\n\nReservations at the KOA can be made now by calling 800-562-0248 M-F\, 0900-1500 EST.\n\nFor those that prefer hotels there are several about 15 minutes from the site:\n\nSpring Hill Suites Arundel mills/BWI airport – 410-799-7100\nResidence INN Arundel Mills/BWI airport – 410-799-7332\nMD State ANNUAL Flyer!\nsite map
URL:https://usmvmcgastate.com/calendar/md-state-chapter-annual/
LOCATION:MD State KOA\,  768 Cecil Ave N\, Millersville\, MD\, 21108\, United States
END:VEVENT
BEGIN:VEVENT
DTSTART;VALUE=DATE:20260605
DTEND;VALUE=DATE:20260608
DTSTAMP:20260425T062200
CREATED:20260310T053131Z
LAST-MODIFIED:20260310T053131Z
UID:10000603-1780617600-1780876799@usmvmcgastate.com
SUMMARY:WA State Annual
DESCRIPTION:3rd WA State Annual will be held 1st weekend in June 2026.\nLocation – 969 Campground\, Orting\, WA\nFree food and drinks\, motorcycle ride with exceptional views w/ ferry ride at no charge\nTent/RV sites available\, no cabins\, hotel less than 15 mins away\n\nCome one come all!
URL:https://usmvmcgastate.com/calendar/wa-state-annual-2/
LOCATION:VFW Post 969 Recreation Park\, 15409 Pioneer Way E\, Orting\, WA\, 98360\, United States
END:VEVENT
END:VCALENDAR