BEGIN:VCALENDAR
VERSION:2.0
PRODID:-// - ECPv6.15.20//NONSGML v1.0//EN
CALSCALE:GREGORIAN
METHOD:PUBLISH
X-ORIGINAL-URL:https://usmvmcgastate.com
X-WR-CALDESC:Events for 
REFRESH-INTERVAL;VALUE=DURATION:PT1H
X-Robots-Tag:noindex
X-PUBLISHED-TTL:PT1H
BEGIN:VTIMEZONE
TZID:America/New_York
BEGIN:DAYLIGHT
TZOFFSETFROM:-0500
TZOFFSETTO:-0400
TZNAME:EDT
DTSTART:20250309T070000
END:DAYLIGHT
BEGIN:STANDARD
TZOFFSETFROM:-0400
TZOFFSETTO:-0500
TZNAME:EST
DTSTART:20251102T060000
END:STANDARD
BEGIN:DAYLIGHT
TZOFFSETFROM:-0500
TZOFFSETTO:-0400
TZNAME:EDT
DTSTART:20260308T070000
END:DAYLIGHT
BEGIN:STANDARD
TZOFFSETFROM:-0400
TZOFFSETTO:-0500
TZNAME:EST
DTSTART:20261101T060000
END:STANDARD
BEGIN:DAYLIGHT
TZOFFSETFROM:-0500
TZOFFSETTO:-0400
TZNAME:EDT
DTSTART:20270314T070000
END:DAYLIGHT
BEGIN:STANDARD
TZOFFSETFROM:-0400
TZOFFSETTO:-0500
TZNAME:EST
DTSTART:20271107T060000
END:STANDARD
END:VTIMEZONE
BEGIN:VEVENT
DTSTART;VALUE=DATE:20260515
DTEND;VALUE=DATE:20260518
DTSTAMP:20260425T205521
CREATED:20251117T030956Z
LAST-MODIFIED:20260108T023600Z
UID:10000523-1778803200-1779062399@usmvmcgastate.com
SUMMARY:WVA-2 Annual 20 Year
DESCRIPTION:The beautiful State of West Virginia cordially invites you to spend a weekend in the woods\, joining us for our West Virginia Combined Annual. We are also celebrating WVA-2’ 20 Year Anniversary. Event is scheduled for the weekend of 15-17 May 2026.\n\nPrimitive camping available on-site.\n\nMoose Acres\n1063  Douglas Grove Road\nMartinsburg\, WV 25405\n\nFriday – Meet & Great\nFood Friday evening and Saturday provided free of charge. Entry free\, beer free\, good music\, raffles and great Brotherhood!\n\nFor those that prefer hotels\, here is the nearest to the event:\n\nQuality Inn & Suites\n1937 Short Road\nKearneysville – Martinsburg\nKearneysville\, WV 25430\n(304) 820-0150
URL:https://usmvmcgastate.com/calendar/wva-2-annual-20-year/
LOCATION:Moose Acres\, 1063 Douglas Grove RD.\, Martinsburg\, WV\, 25405\, United States
END:VEVENT
BEGIN:VEVENT
DTSTART;TZID=America/New_York:20260516T090000
DTEND;TZID=America/New_York:20260516T170000
DTSTAMP:20260425T205521
CREATED:20260217T030035Z
LAST-MODIFIED:20260331T161013Z
UID:10000593-1778922000-1778950800@usmvmcgastate.com
SUMMARY:FLA-8 Annual
DESCRIPTION:Administrative info as follows:\nPoker Run start and end point –\nThe Bunker Vietnam Museum 3400 N Tanner Rd\, Orlando FL 32826\nRegistration Time – 0900\nKSU – 1200\nLocal Hotels – There are more than 10 within 4 miles of the Bunker along Alafaya Trail (434).\n\nFood Trucks and musician on site.\n\nSome of you may know that Chappy has been struggling with health issues that have surpassed his ability to remain an active member of the Eagle Nation.  He has requested\, and been granted\, retirement.\nAs such\, we feel that it is only fitting that we honor his selfless service to his brothers by celebrating him during our annual.  We’re going to move heaven and earth to ensure he’s present and invite all to come participate in his retirement party.\nUpdates to the Annual now include –\nA link to a donation site setup by the GSF for anyone that would like to donate to that great organization.  The link is chapter specific so we get fundraising “credit” for all donations received via that page.  Below is the same QR code that is now on the flyer for that page.\nGSF provided us with some giveaways to attendees and a signed copy of Gary Sinese’s book for us to use as a prize to the winner of the poker run\, or in an auction (we haven’t decided yet which way we’re going)\n\nGary Sinese Foundation Donation Link\n\n\n\n\n\nFL-8 Annual Flyer
URL:https://usmvmcgastate.com/calendar/fla-8-annual-2/
LOCATION:The Bunker Vietnam Museum\, 3400 N. Tanner Rd\, Orlando\, FL\, 32826\, United States
END:VEVENT
BEGIN:VEVENT
DTSTART;TZID=America/New_York:20260516T090000
DTEND;TZID=America/New_York:20260516T170000
DTSTAMP:20260425T205521
CREATED:20260331T155413Z
LAST-MODIFIED:20260331T155609Z
UID:10000615-1778922000-1778950800@usmvmcgastate.com
SUMMARY:IL State Ride to Thrive
DESCRIPTION:It is that time of year again for our 4th Annual Ride to Thrive. Proceeds for this ride go to benefit\nMission K9 Warrior.\n\nMission K9 Warrior is a non-profit organization that provides service dogs for qualified veterans battling with PTSD at no cost to the veteran.\n\nWhen – Saturday May 16th 2026\n\nWhere – Starts at Andrae’s Harley Davidson\, 2010 N. Lincoln Ave. Urbana IL 61801\n        Ends at the Georgetown Fairgrounds\, 413 N. Seminary\, Georgetown IL 61846\n\nTime – Registration Starts at 0900 with kickstands up at 1100\n\nCost – $25 per rider\, $10 per passenger.
URL:https://usmvmcgastate.com/calendar/il-state-ride-to-thrive/
LOCATION:Andrae’s Harley Davidson\, 2010 N. Lincoln Ave\, Urbana\, IL\, 61801\, United States
END:VEVENT
BEGIN:VEVENT
DTSTART;TZID=America/New_York:20260516T120000
DTEND;TZID=America/New_York:20260516T170000
DTSTAMP:20260425T205521
CREATED:20260414T002441Z
LAST-MODIFIED:20260420T184721Z
UID:10000619-1778932800-1778950800@usmvmcgastate.com
SUMMARY:GA-5 Cartersville Poker Run
DESCRIPTION:GA-5 Poker Run Flyer! Downloadable \nStarting at\nSouthern Devil H-D\n2281 Hwy 411\nCartersville\, GA 30121 \nEnding at\nAmerican Legion Post 42\n525 Martin Luther King Jr. Dr.\nCartersville\, GA 30120
URL:https://usmvmcgastate.com/calendar/ga-5-cartersville-poker-run-2/
LOCATION:Southern Devil Harley Davidson\, 2281 US-411\, Cartersville\, 30121\, United States
END:VEVENT
BEGIN:VEVENT
DTSTART;TZID=America/New_York:20260516T190000
DTEND;TZID=America/New_York:20260516T230000
DTSTAMP:20260425T205521
CREATED:20260120T004017Z
LAST-MODIFIED:20260120T004017Z
UID:10000566-1778958000-1778972400@usmvmcgastate.com
SUMMARY:FLA-15 Open House
DESCRIPTION:
URL:https://usmvmcgastate.com/calendar/fla-15-open-house-3/
LOCATION:FLA-15 Clubhouse\, 5601 County RD 393\, Crestview\, FL\, 32539\, United States
END:VEVENT
END:VCALENDAR